{"text_format":"1","workbook":"xlsx","n_sheets":8,"sheets":["DashboardTemplate","Template","Calendrier","RegistreIntempéries","SuiviCalendrier","Intempéries","RetardsEntreprises","RegistreIaccess"],"not_rendered":{"charts":6,"images":1,"macros":1,"external_links":1,"defined_names":22,"comments":0,"pivot_tables":4},"unopened":[],"bounds":{"document_bytes":16777216,"sheet_cells":100000,"rows_first":2000,"rows_last":500,"rows_between":2000,"halvings":0,"cell_chars":16384,"cell_head_chars":4096},"cells_cut":0,"cells_raw":0,"read":"whole","date_system":"1900"}

{"sheet":"DashboardTemplate","index":0,"n_rows":20,"n_cols":73,"rows_kept":20,"cut":false,"hidden":true,"merged":[[13,1,13,5],[1,1,1,2],[1,3,1,4],[8,1,8,2]]}
[]
[null,"Project Summary - ",null,null,null,null,null,null,null,null,null,null,null,null,null,null,null,null,null,null,null,"SheetName","Projects List","PROJECT COMPLETION",null,"Dashboard",null,null,null,"tType","WBS","Task","TaskLead","TaskLeadCost","BSD","BED","BD","ESD","EED","ED","PercentageCompleted","ASD","AED","AD","BCS","ECS","ACS","Notes","CC1","CC2","CC3","CC4","CC5","CC6","CC7","CC8","CC9","CC10",null,null,null,"tType","(Tous)",null,null,"tType","(Tous)",null,"tType","(Tous)",null,"tType","(Tous)"]
[null,"PROJECT COMPLETION",null,"PROJECT SUMMARY",null,null,null,null,null,null,null,null,null,null,null,null,null,null,null,null,null,"Sample","Sample",{"$f":"IFERROR((SUMIFS(#REF!,#REF!,\"T\")+SUMIFS(#REF!,#REF!,\"C\"))/(COUNTIFS(#REF!,\"T\")+COUNTIFS(#REF!,\"C\")),0)","v":0},{"$f":"100%-X3","v":1},null,null,null,null,"MP","1","Lead Generation",null,null,null,null,null,"2016-09-01","2016-09-30",22,0,null,null,null,0,0]
[null,null,null,"Project Status",{"$f":"IF(X3=0,\"Planned\",IF(X3=1,\"Completed\",\"In-Progress\"))","v":"Planned"},null,null,null,null,null,null,null,null,null,null,null,null,null,null,null,null,null,null,null,null,null,null,null,null,null,null,null,null,null,null,null,null,null,null,null,null,null,null,null,null,null,null,null,null,null,null,null,null,null,null,null,null,null,null,null,null,"Étiquettes de lignes","Sum of ECS",null,null,"Étiquettes de lignes","Average of PercentageCompleted",null,"Étiquettes de lignes","Average of PercentageCompleted",null,"Étiquettes de lignes","Sum of ED"]
[null,null,null,"Lead",null,null,null,null,null,null,null,null,null,null,null,null,null,null,null,null,null,null,null,"Currency","$",null,null,null,null,null,null,null,null,null,null,null,null,null,null,null,null,null,null,null,null,null,null,null,null,null,null,null,null,null,null,null,null,null,null,null,null,"Lead Generation",0,null,null,"Lead Generation",0,null,"(vide)",0,null,"(vide)",1]
[null,null,null,"Start Date",{"$f":"MIN(#REF!)","v":{"$error":"#REF!"}},null,null,null,null,null,null,null,null,null,null,null,null,null,null,null,null,null,null,"EstimatedBudget","31,726",{"$f":"$Y$5&\" \"&TEXT(Y6,\"#,##0\")","v":"$ 31,726"}]
[null,null,null,"End Date",{"$f":"MAX(#REF!)","v":{"$error":"#REF!"}},null,null,null,null,null,null,null,null,null,null,null,null,null,null,null,null,null,null,"BaselineBudget","0",{"$f":"$Y$5&\" \"&TEXT(Y7,\"#,##0\")","v":"$ ,0"}]
[null,null,null,"Total Tasks",{"$f":"COUNTIFS(#REF!,\"T\")+COUNTIFS(#REF!,\"C\")","v":{"$error":"#REF!"}},null,null,null,null,null,null,null,null,null,null,null,null,null,null,null,null,null,null,"Actual Cost",{"$f":"SUMIFS(#REF!,#REF!,\"T\")+SUMIFS(#REF!,#REF!,\"MP\")","v":{"$error":"#REF!"}},{"$f":"Y5&\" \"&TEXT(Y8,\"#,##0\")&\" spent\"","v":{"$error":"#REF!"}}]
[null,null,null,"Completed",{"$f":"COUNTIFS(#REF!,\"T\",#REF!,1)+COUNTIFS(#REF!,\"C\",#REF!,1)","v":{"$error":"#REF!"}},null,null,null,null,null,null,null,null,null,null,null,null,null,null,null,null,null,null,"Graph",{"$f":"IFERROR(Y8/Y6,0)","v":0},{"$f":"1-Y9","v":1}]
[null,null,null,"In-Progress",{"$f":"COUNTIFS(#REF!,\"T\",#REF!,\"<\"&1,#REF!,\">\"&0,#REF!,\">=\"&TODAY())+COUNTIFS(#REF!,\"C\",#REF!,\"<\"&1,#REF!,\">\"&0,#REF!,\">=\"&TODAY())","v":{"$error":"#REF!"}}]
[null,null,null,"Planned",{"$f":"COUNTIFS(#REF!,\"T\",#REF!,0,#REF!,\">=\"&TODAY())+COUNTIFS(#REF!,\"C\",#REF!,0,#REF!,\">=\"&TODAY())","v":{"$error":"#REF!"}},null,null,null,null,null,null,null,null,null,null,null,null,null,null,null,null,null,null,"BASELINE",{"$f":"SUMIFS(#REF!,#REF!,\"T\")+SUMIFS(#REF!,#REF!,\"MP\")","v":{"$error":"#REF!"}},{"$f":"$Y$5&\" \"&TEXT(Y11,\"#,##0\")","v":{"$error":"#REF!"}}]
[null,null,null,"Overdue",{"$f":"COUNTIFS(#REF!,\"T\",#REF!,\"<>\"&1,#REF!,\"<\"&TODAY())+COUNTIFS(#REF!,\"C\",#REF!,\"<>\"&1,#REF!,\"<\"&TODAY())","v":{"$error":"#REF!"}},null,null,null,null,null,null,null,null,null,null,null,null,null,null,null,null,null,null,"ESTIMATED",{"$f":"SUMIFS(#REF!,#REF!,\"T\")+SUMIFS(#REF!,#REF!,\"MP\")","v":{"$error":"#REF!"}},{"$f":"$Y$5&\" \"&TEXT(Y12,\"#,##0\")","v":{"$error":"#REF!"}}]
[null,null,null,null,null,null,null,null,null,null,null,null,null,null,null,null,null,null,null,null,null,null,null,"ACTUAL",{"$f":"SUMIFS(#REF!,#REF!,\"T\")+SUMIFS(#REF!,#REF!,\"MP\")","v":{"$error":"#REF!"}},{"$f":"$Y$5&\" \"&TEXT(Y13,\"#,##0\")","v":{"$error":"#REF!"}}]
[null,"PROJECT BUDGET"]
[]
[null,null,null,null,null,null,null,null,null,null,null,null,null,null,null,null,null,null,null,null,null,null,null,{"$f":"SUM(INDIRECT(\"'Project Dashboard'!E10:E12\"))&\" Tasks Left\"","v":{"$error":"#REF!"}}]
[]
[]
[]
[null,"TASKS - STATUS",null,"TASKS - COSTS"]

{"sheet":"Template","index":1,"n_rows":11,"n_cols":15071,"rows_kept":11,"cut":false,"hidden":true,"merged":[]}
["tType","tID","tDependency","tDependents","tStartConstrain","tEndConstrain","WBS","Task","TaskLead","TaskLeadCost","BSD","BED","BD","ESD","EED","ED","PercentageCompleted","ASD","AED","AD","BCS","ECS","ACS","Notes","TColor","TPColor","BLColor","ACColor","TimelineStart",null,null,null,null,null,null,null,null,null,null,null,null,null,null,null,null,null,null,null,null,null,null,null,null,null,null,null,null,null,null,null,null,null,null,null,null,null,null,null,null,null,null,null,null,null,null,null,null,null,null,null,null,null,null,"TimelineEnd",null,null,null,null,null,null,null,null,null,null,null,null,null,null,null,null,null,null,null,null,null,null,null,null,null,null,null,null,null,null,null,null,null,null,null,null,null,null,null,null,null,null,null,null,null,null,null,null,null,null,null,null,null,null,null,null,null,null,null,null,null,null,null,null,null,null,null,null,null,null,null,null,null,null,null,null,null,null,null,null,null,null,null,null,null,null,null,null,null,null,null,null,null,null,null,null,null,null,null,null,null,null,null,null,null,null,null,null,null,null,null,null,null,null,null,null,null,null,null,null,null,null,null,null,null,null,null,null,null,null,null,null,null,null,null,null,null,null,null,null,null,null,null,null,null,null,null,null,null,null,null,null,null,null,null,null,null,null,null,null,null,null,null,null,null,null,null,null,null,null,null,null,null,null,null,null,null,null,null,null,null,null,null,null,null,null,null,null,null,null,null,null,null,null,null,null,null,null,null,null,null,null,null,null,null,null,null,null,null,null,null,null,null,null,null,null,null,null,null,null,null,null,null,null,null,null,null,null,null,null,null,null,null,null,null,null,null,null,null,null,null,null,null,null,null,null,null,null,null,null,null,null,null,null,null,null,null,null,null,null,null,null,null,null,null,null,null,null,null,null,null,null,null,null,null,null,null,null,null,null,null,null,null,null,null,null,null,null,null,null,null,null,null,null,null,null,null,null,null,null,null,null,null,null,null,null,null,null,null,null,null,null,null,null,null,null,null,null,null,null,null,null,null,null,null,null,null,null,null,null,null,null,null,null,null,null,null,null,null,null,null,null,null,null,null,null,null,null,null,null,null,null,null,null,null,null,null,null,null,null,null,null,null,null,null,null,null,null,null,null,null,null,null,null,null,null,null,null,null,null,null,null,null,null,null,null,null,null,null,null,null,null,null,null,null,null,null,null,null,null,null,null,null,null,null,null,null,null,null,null,null,null,null,null,null,null,null,null,null,null,null,null,null,null,null,null,null,null,null,null,null,null,null,null,null,null,null,null,null,null,null,null,null,null,null,null,null,null,null,null,null,null,null,null,null,null,null,null,null,null,null,null,null,null,null,null,null,null,null,null,null,null,null,null,null,null,null,null,null,null,null,null,null,null,null,null,null,null,null,null,null,null,null,null,null,null,null,null,null,null,null,null,null,null,null,null,null,null,null,null,null,null,null,null,null,null,null,null,null,null,null,null,null,null,null,null,null,null,null,null,null,null,null,null,null,null,null,null,null,null,null,null,null,null,null,null,null,null,null,null,null,null,null,null,null,null,null,null,null,null,null,null,null,null,null,null,null,null,null,null,null,null,null,null,null,null,null,null,null,null,null,null,null,null,null,null,null,null,null,null,null,null,null,null,null,null,null,null,null,null,null,null,null,null,null,null,null,null,null,null,null,null,null,null,null,null,null,null,null,null,null,null,null,null,null,null,null,null,null,null,null,null,null,null,null,null,null,null,null,null,null,null,null,null,null,null,null,null,null,null,null,null,null,null,null,null,null,null,null,null,null,null,null,null,null,null,null,null,null,null,null,null,null,null,null,null,null,null,null,null,null,null,null,null,null,null,null,null,null,null,null,null,null,null,null,null,null,null,null,null,null,null,null,null,null,null,null,null,null,null,null,null,null,null,null,null,null,null,null,null,null,null,null,null,null,null,null,null,null,null,null,null,null,null,null,null,null,null,null,null,null,null,null,null,null,null,null,null,null,null,null,null,null,null,null,null,null,null,null,null,null,null,null,null,null,null,null,null,null,null,null,null,null,null,null,null,null,null,null,null,null,null,null,null,null,null,null,null,null,null,null,null,null,null,null,null,null,null,null,null,null,null,null,null,null,null,null,null,null,null,null,null,null,null,null,null,null,null,null,null,null,null,null,null,null,null,null,null,null,null,null,null,null,null,null,null,null,null,null,null,null,null,null,null,null,null,null,null,null,null,null,null,null,null,null,null,null,null,null,null,null,null,null,null,null,null,null,null,null,null,null,null,null,null,null,null,null,null,null,null,null,null,null,null,null,null,null,null,null,null,null,null,null,null,null,null,null,null,null,null,null,null,null,null,null,null,null,null,null,null,null,null,null,null,null,null,null,null,null,null,null,null,null,null,null,null,null,null,null,null,null,null,null,null,null,null,null,null,null,null,null,null,null,null,null,null,null,null,null,null,null,null,null,null,null,null,null,null,null,null,null,null,null,null,null,null,null,null,null,null,null,null,null,null,null,null,null,null,null,null,null,null,null,null,null,null,null,null,null,null,null,null,null,null,null,null,null,null,null,null,null,null,null,null,null,null,null,null,null,null,null,null,null,null,null,null,null,null,null,null,null,null,null,null,null,null,null,null,null,null,null,null,null,null,null,null,null,null,null,null,null,null,null,null,null,null,null,null,null,null,null,null,null,null,null,null,null,null,null,null,null,null,null,null,null,null,null,null,null,null,null,null,null,null,null,null,null,null,null,null,null,null,null,null,null,null,null,null,null,null,null,null,null,null,null,null,null,null,null,null,null,null,null,null,null,null,null,null,null,null,null,null,null,null,null,null,null,null,null,null,null,null,null,null,null,null,null,null,null,null,null,null,null,null,null,null,null,null,null,null,null,null,null,null,null,null,null,null,null,null,null,null,null,null,null,null,null,null,null,null,null,null,null,null,null,null,null,null,null,null,null,null,null,null,null,null,null,null,null,null,null,null,null,null,null,null,null,null,null,null,null,null,null,null,null,null,null,null,null,null,null,null,null,null,null,null,null,null,null,null,null,null,null,null,null,null,null,null,null,null,null,null,null,null,null,null,null,null,null,null,null,null,null,null,null,null,null,null,null,null,null,null,null,null,null,null,null,null,null,null,null,null,null,null,null,null,null,null,null,null,null,null,null,null,null,null,null,null,null,null,null,null,null,null,null,null,null,null,null,null,null,null,null,null,null,null,null,null,null,null,null,null,null,null,null,null,null,null,null,null,null,null,null,null,null,null,null,null,null,null,null,null,null,null,null,null,null,null,null,null,null,null,null,null,null,null,null,null,null,null,null,null,null,null,null,null,null,null,null,null,null,null,null,null,null,null,null,null,null,null,null,null,null,null,null,null,null,null,null,null,null,null,null,null,null,null,null,null,null,null,null,null,null,null,null,null,null,null,null,null,null,null,null,null,null,null,null,null,null,null,null,null,null,null,null,null,null,null,null,null,null,null,null,null,null,null,null,null,null,null,null,null,null,null,null,null,null,null,null,null,null,null,null,null,null,null,null,null,null,null,null,null,null,null,null,null,null,null,null,null,null,null,null,null,null,null,null,null,null,null,null,null,null,null,null,null,null,null,null,null,null,null,null,null,null,null,null,null,null,null,null,null,null,null,null,null,null,null,null,null,null,null,null,null,null,null,null,null,null,null,null,null,null,null,null,null,null,null,null,null,null,null,null,null,null,null,null,null,null,null,null,null,null,null,null,null,null,null,null,null,null,null,null,null,null,null,null,null,null,null,null,null,null,null,null,null,null,null,null,null,null,null,null,null,null,null,null,null,null,null,null,null,null,null,null,null,null,null,null,null,null,null,null,null,null,null,null,null,null,null,null,null,null,null,null,null,null,null,null,null,null,null,null,null,null,null,null,null,null,null,null,null,null,null,null,null,null,null,null,null,null,null,null,null,null,null,null,null,null,null,null,null,null,null,null,null,null,null,null,null,null,null,null,null,null,null,null,null,null,null,null,null,null,null,null,null,null,null,null,null,null,null,null,null,null,null,null,null,null,null,null,null,null,null,null,null,null,null,null,null,null,null,null,null,null,null,null,null,null,null,null,null,null,null,null,null,null,null,null,null,null,null,null,null,null,null,null,null,null,null,null,null,null,null,null,null,null,null,null,null,null,null,null,null,null,null,null,null,null,null,null,null,null,null,null,null,null,null,null,null,null,null,null,null,null,null,null,null,null,null,null,null,null,null,null,null,null,null,null,null,null,null,null,null,null,null,null,null,null,null,null,null,null,null,null,null,null,null,null,null,null,null,null,null,null,null,null,null,null,null,null,null,null,null,null,null,null,null,null,null,null,null,null,null,null,null,null,null,null,null,null,null,null,null,null,null,null,null,null,null,null,null,null,null,null,null,null,null,null,null,null,null,null,null,null,null,null,null,null,null,null,null,null,null,null,null,null,null,null,null,null,null,null,null,null,null,null,null,null,null,null,null,null,null,null,null,null,null,null,null,null,null,null,null,null,null,null,null,null,null,null,null,null,null,null,null,null,null,null,null,null,null,null,null,null,null,null,null,null,null,null,null,null,null,null,null,null,null,null,null,null,null,null,null,null,null,null,null,null,null,null,null,null,null,null,null,null,null,null,null,null,null,null,null,null,null,null,null,null,null,null,null,null,null,null,null,null,null,null,null,null,null,null,null,null,null,null,null,null,null,null,null,null,null,null,null,null,null,null,null,null,null,null,null,null,null,null,null,null,null,null,null,null,null,null,null,null,null,null,null,null,null,null,null,null,null,null,null,null,null,null,null,null,null,null,null,null,null,null,null,null,null,null,null,null,null,null,null,null,null,null,null,null,null,null,null,null,null,null,null,null,null,null,null,null,null,null,null,null,null,null,null,null,null,null,null,null,null,null,null,null,null,null,null,null,null,null,null,null,null,null,null,null,null,"TimelineMaxEnd",null,null,null,null,null,null,null,null,null,null,null,null,null,null,null,null,null,null,null,null,null,null,null,null,null,null,null,null,null,null,null,null,null,null,null,null,null,null,null,null,null,null,null,null,null,null,null,null,null,null,null,null,null,null,null,null,null,null,null,null,null,null,null,null,null,null,null,null,null,null,null,null,null,null,null,null,null,null,null,null,null,null,null,null,null,null,null,null,null,null,null,null,null,null,null,null,null,null,null,null,null,null,null,null,null,null,null,null,null,null,null,null,null,null,null,null,null,null,null,null,null,null,null,null,null,null,null,null,null,null,null,null,null,null,null,null,null,null,null,null,null,null,null,null,null,null,null,null,null,null,null,null,null,null,null,null,null,null,null,null,null,null,null,null,null,null,null,null,null,null,null,null,null,null,null,null,null,null,null,null,null,null,null,null,null,null,null,null,null,null,null,null,null,null,null,null,null,null,null,null,null,null,null,null,null,null,null,null,null,null,null,null,null,null,null,null,null,null,null,null,null,null,null,null,null,null,null,null,null,null,null,null,null,null,null,null,null,null,null,null,null,null,null,null,null,null,null,null,null,null,null,null,null,null,null,null,null,null,null,null,null,null,null,null,null,null,null,null,null,null,null,null,null,null,null,null,null,null,null,null,null,null,null,null,null,null,null,null,null,null,null,null,null,null,null,null,null,null,null,null,null,null,null,null,null,null,null,null,null,null,null,null,null,null,null,null,null,null,null,null,null,null,null,null,null,null,null,null,null,null,null,null,null,null,null,null,null,null,null,null,null,null,null,null,null,null,null,null,null,null,null,null,null,null,null,null,null,null,null,null,null,null,null,null,null,null,null,null,null,null,null,null,null,null,null,null,null,null,null,null,null,null,null,null,null,null,null,null,null,null,null,null,null,null,null,null,null,null,null,null,null,null,null,null,null,null,null,null,null,null,null,null,null,null,null,null,null,null,null,null,null,null,null,null,null,null,null,null,null,null,null,null,null,null,null,null,null,null,null,null,null,null,null,null,null,null,null,null,null,null,null,null,null,null,null,null,null,null,null,null,null,null,null,null,null,null,null,null,null,null,null,null,null,null,null,null,null,null,null,null,null,null,null,null,null,null,null,null,null,null,null,null,null,null,null,null,null,null,null,null,null,null,null,null,null,null,null,null,null,null,null,null,null,null,null,null,null,null,null,null,null,null,null,null,null,null,null,null,null,null,null,null,null,null,null,null,null,null,null,null,null,null,null,null,null,null,null,null,null,null,null,null,null,null,null,null,null,null,null,null,null,null,null,null,null,null,null,null,null,null,null,null,null,null,null,null,null,null,null,null,null,null,null,null,null,null,null,null,null,null,null,null,null,null,null,null,null,null,null,null,null,null,null,null,null,null,null,null,null,null,null,null,null,null,null,null,null,null,null,null,null,null,null,null,null,null,null,null,null,null,null,null,null,null,null,null,null,null,null,null,null,null,null,null,null,null,null,null,null,null,null,null,null,null,null,null,null,null,null,null,null,null,null,null,null,null,null,null,null,null,null,null,null,null,null,null,null,null,null,null,null,null,null,null,null,null,null,null,null,null,null,null,null,null,null,null,null,null,null,null,null,null,null,null,null,null,null,null,null,null,null,null,null,null,null,null,null,null,null,null,null,null,null,null,null,null,null,null,null,null,null,null,null,null,null,null,null,null,null,null,null,null,null,null,null,null,null,null,null,null,null,null,null,null,null,null,null,null,null,null,null,null,null,null,null,null,null,null,null,null,null,null,null,null,null,null,null,null,null,null,null,null,null,null,null,null,null,null,null,null,null,null,null,null,null,null,null,null,null,null,null,null,null,null,null,null,null,null,null,null,null,null,null,null,null,null,null,null,null,null,null,null,null,null,null,null,null,null,null,null,null,null,null,null,null,null,null,null,null,null,null,null,null,null,null,null,null,null,null,null,null,null,null,null,null,null,null,null,null,null,null,null,null,null,null,null,null,null,null,null,null,null,null,null,null,null,null,null,null,null,null,null,null,null,null,null,null,null,null,null,null,null,null,null,null,null,null,null,null,null,null,null,null,null,null,null,null,null,null,null,null,null,null,null,null,null,null,null,null,null,null,null,null,null,null,null,null,null,null,null,null,null,null,null,null,null,null,null,null,null,null,null,null,null,null,null,null,null,null,null,null,null,null,null,null,null,null,null,null,null,null,null,null,null,null,null,null,null,null,null,null,null,null,null,null,null,null,null,null,null,null,null,null,null,null,null,null,null,null,null,null,null,null,null,null,null,null,null,null,null,null,null,null,null,null,null,null,null,null,null,null,null,null,null,null,null,null,null,null,null,null,null,null,null,null,null,null,null,null,null,null,null,null,null,null,null,null,null,null,null,null,null,null,null,null,null,null,null,null,null,null,null,null,null,null,null,null,null,null,null,null,null,null,null,null,null,null,null,null,null,null,null,null,null,null,null,null,null,null,null,null,null,null,null,null,null,null,null,null,null,null,null,null,null,null,null,null,null,null,null,null,null,null,null,null,null,null,null,null,null,null,null,null,null,null,null,null,null,null,null,null,null,null,null,null,null,null,null,null,null,null,null,null,null,null,null,null,null,null,null,null,null,null,null,null,null,null,null,null,null,null,null,null,null,null,null,null,null,null,null,null,null,null,null,null,null,null,null,null,null,null,null,null,null,null,null,null,null,null,null,null,null,null,null,null,null,null,null,null,null,null,null,null,null,null,null,null,null,null,null,null,null,null,null,null,null,null,null,null,null,null,null,null,null,null,null,null,null,null,null,null,null,null,null,null,null,null,null,null,null,null,null,null,null,null,null,null,null,null,null,null,null,null,null,null,null,null,null,null,null,null,null,null,null,null,null,null,null,null,null,null,null,null,null,null,null,null,null,null,null,null,null,null,null,null,null,null,null,null,null,null,null,null,null,null,null,null,null,null,null,null,null,null,null,null,null,null,null,null,null,null,null,null,null,null,null,null,null,null,null,null,null,null,null,null,null,null,null,null,null,null,null,null,null,null,null,null,null,null,null,null,null,null,null,null,null,null,null,null,null,null,null,null,null,null,null,null,null,null,null,null,null,null,null,null,null,null,null,null,null,null,null,null,null,null,null,null,null,null,null,null,null,null,null,null,null,null,null,null,null,null,null,null,null,null,null,null,null,null,null,null,null,null,null,null,null,null,null,null,null,null,null,null,null,null,null,null,null,null,null,null,null,null,null,null,null,null,null,null,null,null,null,null,null,null,null,null,null,null,null,null,null,null,null,null,null,null,null,null,null,null,null,null,null,null,null,null,null,null,null,null,null,null,null,null,null,null,null,null,null,null,null,null,null,null,null,null,null,null,null,null,null,null,null,null,null,null,null,null,null,null,null,null,null,null,null,null,null,null,null,null,null,null,null,null,null,null,null,null,null,null,null,null,null,null,null,null,null,null,null,null,null,null,null,null,null,null,null,null,null,null,null,null,null,null,null,null,null,null,null,null,null,null,null,null,null,null,null,null,null,null,null,null,null,null,null,null,null,null,null,null,null,null,null,null,null,null,null,null,null,null,null,null,null,null,null,null,null,null,null,null,null,null,null,null,null,null,null,null,null,null,null,null,null,null,null,null,null,null,null,null,null,null,null,null,null,null,null,null,null,null,null,null,null,null,null,null,null,null,null,null,null,null,null,null,null,null,null,null,null,null,null,null,null,null,null,null,null,null,null,null,null,null,null,null,null,null,null,null,null,null,null,null,null,null,null,null,null,null,null,null,null,null,null,null,null,null,null,null,null,null,null,null,null,null,null,null,null,null,null,null,null,null,null,null,null,null,null,null,null,null,null,null,null,null,null,null,null,null,null,null,null,null,null,null,null,null,null,null,null,null,null,null,null,null,null,null,null,null,null,null,null,null,null,null,null,null,null,null,null,null,null,null,null,null,null,null,null,null,null,null,null,null,null,null,null,null,null,null,null,null,null,null,null,null,null,null,null,null,null,null,null,null,null,null,null,null,null,null,null,null,null,null,null,null,null,null,null,null,null,null,null,null,null,null,null,null,null,null,null,null,null,null,null,null,null,null,null,null,null,null,null,null,null,null,null,null,null,null,null,null,null,null,null,null,null,null,null,null,null,null,null,null,null,null,null,null,null,null,null,null,null,null,null,null,null,null,null,null,null,null,null,null,null,null,null,null,null,null,null,null,null,null,null,null,null,null,null,null,null,null,null,null,null,null,null,null,null,null,null,null,null,null,null,null,null,null,null,null,null,null,null,null,null,null,null,null,null,null,null,null,null,null,null,null,null,null,null,null,null,null,null,null,null,null,null,null,null,null,null,null,null,null,null,null,null,null,null,null,null,null,null,null,null,null,null,null,null,null,null,null,null,null,null,null,null,null,null,null,null,null,null,null,null,null,null,null,null,null,null,null,null,null,null,null,null,null,null,null,null,null,null,null,null,null,null,null,null,null,null,null,null,null,null,null,null,null,null,null,null,null,null,null,null,null,null,null,null,null,null,null,null,null,null,null,null,null,null,null,null,null,null,null,null,null,null,null,null,null,null,null,null,null,null,null,null,null,null,null,null,null,null,null,null,null,null,null,null,null,null,null,null,null,null,null,null,null,null,null,null,null,null,null,null,null,null,null,null,null,null,null,null,null,null,null,null,null,null,null,null,null,null,null,null,null,null,null,null,null,null,null,null,null,null,null,null,null,null,null,null,null,null,null,null,null,null,null,null,null,null,null,null,null,null,null,null,null,null,null,null,null,null,null,null,null,null,null,null,null,null,null,null,null,null,null,null,null,null,null,null,null,null,null,null,null,null,null,null,null,null,null,null,null,null,null,null,null,null,null,null,null,null,null,null,null,null,null,null,null,null,null,null,null,null,null,null,null,null,null,null,null,null,null,null,null,null,null,null,null,null,null,null,null,null,null,null,null,null,null,null,null,null,null,null,null,null,null,null,null,null,null,null,null,null,null,null,null,null,null,null,null,null,null,null,null,null,null,null,null,null,null,null,null,null,null,null,null,null,null,null,null,null,null,null,null,null,null,null,null,null,null,null,null,null,null,null,null,null,null,null,null,null,null,null,null,null,null,null,null,null,null,null,null,null,null,null,null,null,null,null,null,null,null,null,null,null,null,null,null,null,null,null,null,null,null,null,null,null,null,null,null,null,null,null,null,null,null,null,null,null,null,null,null,null,null,null,null,null,null,null,null,null,null,null,null,null,null,null,null,null,null,null,null,null,null,null,null,null,null,null,null,null,null,null,null,null,null,null,null,null,null,null,null,null,null,null,null,null,null,null,null,null,null,null,null,null,null,null,null,null,null,null,null,null,null,null,null,null,null,null,null,null,null,null,null,null,null,null,null,null,null,null,null,null,null,null,null,null,null,null,null,null,null,null,null,null,null,null,null,null,null,null,null,null,null,null,null,null,null,null,null,null,null,null,null,null,null,null,null,null,null,null,null,null,null,null,null,null,null,null,null,null,null,null,null,null,null,null,null,null,null,null,null,null,null,null,null,null,null,null,null,null,null,null,null,null,null,null,null,null,null,null,null,null,null,null,null,null,null,null,null,null,null,null,null,null,null,null,null,null,null,null,null,null,null,null,null,null,null,null,null,null,null,null,null,null,null,null,null,null,null,null,null,null,null,null,null,null,null,null,null,null,null,null,null,null,null,null,null,null,null,null,null,null,null,null,null,null,null,null,null,null,null,null,null,null,null,null,null,null,null,null,null,null,null,null,null,null,null,null,null,null,null,null,null,null,null,null,null,null,null,null,null,null,null,null,null,null,null,null,null,null,null,null,null,null,null,null,null,null,null,null,null,null,null,null,null,null,null,null,null,null,null,null,null,null,null,null,null,null,null,null,null,null,null,null,null,null,null,null,null,null,null,null,null,null,null,null,null,null,null,null,null,null,null,null,null,null,null,null,null,null,null,null,null,null,null,null,null,null,null,null,null,null,null,null,null,null,null,null,null,null,null,null,null,null,null,null,null,null,null,null,null,null,null,null,null,null,null,null,null,null,null,null,null,null,null,null,null,null,null,null,null,null,null,null,null,null,null,null,null,null,null,null,null,null,null,null,null,null,null,null,null,null,null,null,null,null,null,null,null,null,null,null,null,null,null,null,null,null,null,null,null,null,null,null,null,null,null,null,null,null,null,null,null,null,null,null,null,null,null,null,null,null,null,null,null,null,null,null,null,null,null,null,null,null,null,null,null,null,null,null,null,null,null,null,null,null,null,null,null,null,null,null,null,null,null,null,null,null,null,null,null,null,null,null,null,null,null,null,null,null,null,null,null,null,null,null,null,null,null,null,null,null,null,null,null,null,null,null,null,null,null,null,null,null,null,null,null,null,null,null,null,null,null,null,null,null,null,null,null,null,null,null,null,null,null,null,null,null,null,null,null,null,null,null,null,null,null,null,null,null,null,null,null,null,null,null,null,null,null,null,null,null,null,null,null,null,null,null,null,null,null,null,null,null,null,null,null,null,null,null,null,null,null,null,null,null,null,null,null,null,null,null,null,null,null,null,null,null,null,null,null,null,null,null,null,null,null,null,null,null,null,null,null,null,null,null,null,null,null,null,null,null,null,null,null,null,null,null,null,null,null,null,null,null,null,null,null,null,null,null,null,null,null,null,null,null,null,null,null,null,null,null,null,null,null,null,null,null,null,null,null,null,null,null,null,null,null,null,null,null,null,null,null,null,null,null,null,null,null,null,null,null,null,null,null,null,null,null,null,null,null,null,null,null,null,null,null,null,null,null,null,null,null,null,null,null,null,null,null,null,null,null,null,null,null,null,null,null,null,null,null,null,null,null,null,null,null,null,null,null,null,null,null,null,null,null,null,null,null,null,null,null,null,null,null,null,null,null,null,null,null,null,null,null,null,null,null,null,null,null,null,null,null,null,null,null,null,null,null,null,null,null,null,null,null,null,null,null,null,null,null,null,null,null,null,null,null,null,null,null,null,null,null,null,null,null,null,null,null,null,null,null,null,null,null,null,null,null,null,null,null,null,null,null,null,null,null,null,null,null,null,null,null,null,null,null,null,null,null,null,null,null,null,null,null,null,null,null,null,null,null,null,null,null,null,null,null,null,null,null,null,null,null,null,null,null,null,null,null,null,null,null,null,null,null,null,null,null,null,null,null,null,null,null,null,null,null,null,null,null,null,null,null,null,null,null,null,null,null,null,null,null,null,null,null,null,null,null,null,null,null,null,null,null,null,null,null,null,null,null,null,null,null,null,null,null,null,null,null,null,null,null,null,null,null,null,null,null,null,null,null,null,null,null,null,null,null,null,null,null,null,null,null,null,null,null,null,null,null,null,null,null,null,null,null,null,null,null,null,null,null,null,null,null,null,null,null,null,null,null,null,null,null,null,null,null,null,null,null,null,null,null,null,null,null,null,null,null,null,null,null,null,null,null,null,null,null,null,null,null,null,null,null,null,null,null,null,null,null,null,null,null,null,null,null,null,null,null,null,null,null,null,null,null,null,null,null,null,null,null,null,null,null,null,null,null,null,null,null,null,null,null,null,null,null,null,null,null,null,null,null,null,null,null,null,null,null,null,null,null,null,null,null,null,null,null,null,null,null,null,null,null,null,null,null,null,null,null,null,null,null,null,null,null,null,null,null,null,null,null,null,null,null,null,null,null,null,null,null,null,null,null,null,null,null,null,null,null,null,null,null,null,null,null,null,null,null,null,null,null,null,null,null,null,null,null,null,null,null,null,null,null,null,null,null,null,null,null,null,null,null,null,null,null,null,null,null,null,null,null,null,null,null,null,null,null,null,null,null,null,null,null,null,null,null,null,null,null,null,null,null,null,null,null,null,null,null,null,null,null,null,null,null,null,null,null,null,null,null,null,null,null,null,null,null,null,null,null,null,null,null,null,null,null,null,null,null,null,null,null,null,null,null,null,null,null,null,null,null,null,null,null,null,null,null,null,null,null,null,null,null,null,null,null,null,null,null,null,null,null,null,null,null,null,null,null,null,null,null,null,null,null,null,null,null,null,null,null,null,null,null,null,null,null,null,null,null,null,null,null,null,null,null,null,null,null,null,null,null,null,null,null,null,null,null,null,null,null,null,null,null,null,null,null,null,null,null,null,null,null,null,null,null,null,null,null,null,null,null,null,null,null,null,null,null,null,null,null,null,null,null,null,null,null,null,null,null,null,null,null,null,null,null,null,null,null,null,null,null,null,null,null,null,null,null,null,null,null,null,null,null,null,null,null,null,null,null,null,null,null,null,null,null,null,null,null,null,null,null,null,null,null,null,null,null,null,null,null,null,null,null,null,null,null,null,null,null,null,null,null,null,null,null,null,null,null,null,null,null,null,null,null,null,null,null,null,null,null,null,null,null,null,null,null,null,null,null,null,null,null,null,null,null,null,null,null,null,null,null,null,null,null,null,null,null,null,null,null,null,null,null,null,null,null,null,null,null,null,null,null,null,null,null,null,null,null,null,null,null,null,null,null,null,null,null,null,null,null,null,null,null,null,null,null,null,null,null,null,null,null,null,null,null,null,null,null,null,null,null,null,null,null,null,null,null,null,null,null,null,null,null,null,null,null,null,null,null,null,null,null,null,null,null,null,null,null,null,null,null,null,null,null,null,null,null,null,null,null,null,null,null,null,null,null,null,null,null,null,null,null,null,null,null,null,null,null,null,null,null,null,null,null,null,null,null,null,null,null,null,null,null,null,null,null,null,null,null,null,null,null,null,null,null,null,null,null,null,null,null,null,null,null,null,null,null,null,null,null,null,null,null,null,null,null,null,null,null,null,null,null,null,null,null,null,null,null,null,null,null,null,null,null,null,null,null,null,null,null,null,null,null,null,null,null,null,null,null,null,null,null,null,null,null,null,null,null,null,null,null,null,null,null,null,null,null,null,null,null,null,null,null,null,null,null,null,null,null,null,null,null,null,null,null,null,null,null,null,null,null,null,null,null,null,null,null,null,null,null,null,null,null,null,null,null,null,null,null,null,null,null,null,null,null,null,null,null,null,null,null,null,null,null,null,null,null,null,null,null,null,null,null,null,null,null,null,null,null,null,null,null,null,null,null,null,null,null,null,null,null,null,null,null,null,null,null,null,null,null,null,null,null,null,null,null,null,null,null,null,null,null,null,null,null,null,null,null,null,null,null,null,null,null,null,null,null,null,null,null,null,null,null,null,null,null,null,null,null,null,null,null,null,null,null,null,null,null,null,null,null,null,null,null,null,null,null,null,null,null,null,null,null,null,null,null,null,null,null,null,null,null,null,null,null,null,null,null,null,null,null,null,null,null,null,null,null,null,null,null,null,null,null,null,null,null,null,null,null,null,null,null,null,null,null,null,null,null,null,null,null,null,null,null,null,null,null,null,null,null,null,null,null,null,null,null,null,null,null,null,null,null,null,null,null,null,null,null,null,null,null,null,null,null,null,null,null,null,null,null,null,null,null,null,null,null,null,null,null,null,null,null,null,null,null,null,null,null,null,null,null,null,null,null,null,null,null,null,null,null,null,null,null,null,null,null,null,null,null,null,null,null,null,null,null,null,null,null,null,null,null,null,null,null,null,null,null,null,null,null,null,null,null,null,null,null,null,null,null,null,null,null,null,null,null,null,null,null,null,null,null,null,null,null,null,null,null,null,null,null,null,null,null,null,null,null,null,null,null,null,null,null,null,null,null,null,null,null,null,null,null,null,null,null,null,null,null,null,null,null,null,null,null,null,null,null,null,null,null,null,null,null,null,null,null,null,null,null,null,null,null,null,null,null,null,null,null,null,null,null,null,null,null,null,null,null,null,null,null,null,null,null,null,null,null,null,null,null,null,null,null,null,null,null,null,null,null,null,null,null,null,null,null,null,null,null,null,null,null,null,null,null,null,null,null,null,null,null,null,null,null,null,null,null,null,null,null,null,null,null,null,null,null,null,null,null,null,null,null,null,null,null,null,null,null,null,null,null,null,null,null,null,null,null,null,null,null,null,null,null,null,null,null,null,null,null,null,null,null,null,null,null,null,null,null,null,null,null,null,null,null,null,null,null,null,null,null,null,null,null,null,null,null,null,null,null,null,null,null,null,null,null,null,null,null,null,null,null,null,null,null,null,null,null,null,null,null,null,null,null,null,null,null,null,null,null,null,null,null,null,null,null,null,null,null,null,null,null,null,null,null,null,null,null,null,null,null,null,null,null,null,null,null,null,null,null,null,null,null,null,null,null,null,null,null,null,null,null,null,null,null,null,null,null,null,null,null,null,null,null,null,null,null,null,null,null,null,null,null,null,null,null,null,null,null,null,null,null,null,null,null,null,null,null,null,null,null,null,null,null,null,null,null,null,null,null,null,null,null,null,null,null,null,null,null,null,null,null,null,null,null,null,null,null,null,null,null,null,null,null,null,null,null,null,null,null,null,null,null,null,null,null,null,null,null,null,null,null,null,null,null,null,null,null,null,null,null,null,null,null,null,null,null,null,null,null,null,null,null,null,null,null,null,null,null,null,null,null,null,null,null,null,null,null,null,null,null,null,null,null,null,null,null,null,null,null,null,null,null,null,null,null,null,null,null,null,null,null,null,null,null,null,null,null,null,null,null,null,null,null,null,null,null,null,null,null,null,null,null,null,null,null,null,null,null,null,null,null,null,null,null,null,null,null,null,null,null,null,null,null,null,null,null,null,null,null,null,null,null,null,null,null,null,null,null,null,null,null,null,null,null,null,null,null,null,null,null,null,null,null,null,null,null,null,null,null,null,null,null,null,null,null,null,null,null,null,null,null,null,null,null,null,null,null,null,null,null,null,null,null,null,null,null,null,null,null,null,null,null,null,null,null,null,null,null,null,null,null,null,null,null,null,null,null,null,null,null,null,null,null,null,null,null,null,null,null,null,null,null,null,null,null,null,null,null,null,null,null,null,null,null,null,null,null,null,null,null,null,null,null,null,null,null,null,null,null,null,null,null,null,null,null,null,null,null,null,null,null,null,null,null,null,null,null,null,null,null,null,null,null,null,null,null,null,null,null,null,null,null,null,null,null,null,null,null,null,null,null,null,null,null,null,null,null,null,null,null,null,null,null,null,null,null,null,null,null,null,null,null,null,null,null,null,null,null,null,null,null,null,null,null,null,null,null,null,null,null,null,null,null,null,null,null,null,null,null,null,null,null,null,null,null,null,null,null,null,null,null,null,null,null,null,null,null,null,null,null,null,null,null,null,null,null,null,null,null,null,null,null,null,null,null,null,null,null,null,null,null,null,null,null,null,null,null,null,null,null,null,null,null,null,null,null,null,null,null,null,null,null,null,null,null,null,null,null,null,null,null,null,null,null,null,null,null,null,null,null,null,null,null,null,null,null,null,null,null,null,null,null,null,null,null,null,null,null,null,null,null,null,null,null,null,null,null,null,null,null,null,null,null,null,null,null,null,null,null,null,null,null,null,null,null,null,null,null,null,null,null,null,null,null,null,null,null,null,null,null,null,null,null,null,null,null,null,null,null,null,null,null,null,null,null,null,null,null,null,null,null,null,null,null,null,null,null,null,null,null,null,null,null,null,null,null,null,null,null,null,null,null,null,null,null,null,null,null,null,null,null,null,null,null,null,null,null,null,null,null,null,null,null,null,null,null,null,null,null,null,null,null,null,null,null,null,null,null,null,null,null,null,null,null,null,null,null,null,null,null,null,null,null,null,null,null,null,null,null,null,null,null,null,null,null,null,null,null,null,null,null,null,null,null,null,null,null,null,null,null,null,null,null,null,null,null,null,null,null,null,null,null,null,null,null,null,null,null,null,null,null,null,null,null,null,null,null,null,null,null,null,null,null,null,null,null,null,null,null,null,null,null,null,null,null,null,null,null,null,null,null,null,null,null,null,null,null,null,null,null,null,null,null,null,null,null,null,null,null,null,null,null,null,null,null,null,null,null,null,null,null,null,null,null,null,null,null,null,null,null,null,null,null,null,null,null,null,null,null,null,null,null,null,null,null,null,null,null,null,null,null,null,null,null,null,null,null,null,null,null,null,null,null,null,null,null,null,null,null,null,null,null,null,null,null,null,null,null,null,null,null,null,null,null,null,null,null,null,null,null,null,null,null,null,null,null,null,null,null,null,null,null,null,null,null,null,null,null,null,null,null,null,null,null,null,null,null,null,null,null,null,null,null,null,null,null,null,null,null,null,null,null,null,null,null,null,null,null,null,null,null,null,null,null,null,null,null,null,null,null,null,null,null,null,null,null,null,null,null,null,null,null,null,null,null,null,null,null,null,null,null,null,null,null,null,null,null,null,null,null,null,null,null,null,null,null,null,null,null,null,null,null,null,null,null,null,null,null,null,null,null,null,null,null,null,null,null,null,null,null,null,null,null,null,null,null,null,null,null,null,null,null,null,null,null,null,null,null,null,null,null,null,null,null,null,null,null,null,null,null,null,null,null,null,null,null,null,null,null,null,null,null,null,null,null,null,null,null,null,null,null,null,null,null,null,null,null,null,null,null,null,null,null,null,null,null,null,null,null,null,null,null,null,null,null,null,null,null,null,null,null,null,null,null,null,null,null,null,null,null,null,null,null,null,null,null,null,null,null,null,null,null,null,null,null,null,null,null,null,null,null,null,null,null,null,null,null,null,null,null,null,null,null,null,null,null,null,null,null,null,null,null,null,null,null,null,null,null,null,null,null,null,null,null,null,null,null,null,null,null,null,null,null,null,null,null,null,null,null,null,null,null,null,null,null,null,null,null,null,null,null,null,null,null,null,null,null,null,null,null,null,null,null,null,null,null,null,null,null,null,null,null,null,null,null,null,null,null,null,null,null,null,null,null,null,null,null,null,null,null,null,null,null,null,null,null,null,null,null,null,null,null,null,null,null,null,null,null,null,null,null,null,null,null,null,null,null,null,null,null,null,null,null,null,null,null,null,null,null,null,null,null,null,null,null,null,null,null,null,null,null,null,null,null,null,null,null,null,null,null,null,null,null,null,null,null,null,null,null,null,null,null,null,null,null,null,null,null,null,null,null,null,null,null,null,null,null,null,null,null,null,null,null,null,null,null,null,null,null,null,null,null,null,null,null,null,null,null,null,null,null,null,null,null,null,null,null,null,null,null,null,null,null,null,null,null,null,null,null,null,null,null,null,null,null,null,null,null,null,null,null,null,null,null,null,null,null,null,null,null,null,null,null,null,null,null,null,null,null,null,null,null,null,null,null,null,null,null,null,null,null,null,null,null,null,null,null,null,null,null,null,null,null,null,null,null,null,null,null,null,null,null,null,null,null,null,null,null,null,null,null,null,null,null,null,null,null,null,null,null,null,null,null,null,null,null,null,null,null,null,null,null,null,null,null,null,null,null,null,null,null,null,null,null,null,null,null,null,null,null,null,null,null,null,null,null,null,null,null,null,null,null,null,null,null,null,null,null,null,null,null,null,null,null,null,null,null,null,null,null,null,null,null,null,null,null,null,null,null,null,null,null,null,null,null,null,null,null,null,null,null,null,null,null,null,null,null,null,null,null,null,null,null,null,null,null,null,null,null,null,null,null,null,null,null,null,null,null,null,null,null,null,null,null,null,null,null,null,null,null,null,null,null,null,null,null,null,null,null,null,null,null,null,null,null,null,null,null,null,null,null,null,null,null,null,null,null,null,null,null,null,null,null,null,null,null,null,null,null,null,null,null,null,null,null,null,null,null,null,null,null,null,null,null,null,null,null,null,null,null,null,null,null,null,null,null,null,null,null,null,null,null,null,null,null,null,null,null,null,null,null,null,null,null,null,null,null,null,null,null,null,null,null,null,null,null,null,null,null,null,null,null,null,null,null,null,null,null,null,null,null,null,null,null,null,null,null,null,null,null,null,null,null,null,null,null,null,null,null,null,null,null,null,null,null,null,null,null,null,null,null,null,null,null,null,null,null,null,null,null,null,null,null,null,null,null,null,null,null,null,null,null,null,null,null,null,null,null,null,null,null,null,null,null,null,null,null,null,null,null,null,null,null,null,null,null,null,null,null,null,null,null,null,null,null,null,null,null,null,null,null,null,null,null,null,null,null,null,null,null,null,null,null,null,null,null,null,null,null,null,null,null,null,null,null,null,null,null,null,null,null,null,null,null,null,null,null,null,null,null,null,null,null,null,null,null,null,null,null,null,null,null,null,null,null,null,null,null,null,null,null,null,null,null,null,null,null,null,null,null,null,null,null,null,null,null,null,null,null,null,null,null,null,null,null,null,null,null,null,null,null,null,null,null,null,null,null,null,null,null,null,null,null,null,null,null,null,null,null,null,null,null,null,null,null,null,null,null,null,null,null,null,null,null,null,null,null,null,null,null,null,null,null,null,null,null,null,null,null,null,null,null,null,null,null,null,null,null,null,null,null,null,null,null,null,null,null,null,null,null,null,null,null,null,null,null,null,null,null,null,null,null,null,null,null,null,null,null,null,null,null,null,null,null,null,null,null,null,null,null,null,null,null,null,null,null,null,null,null,null,null,null,null,null,null,null,null,null,null,null,null,null,null,null,null,null,null,null,null,null,null,null,null,null,null,null,null,null,null,null,null,null,null,null,null,null,null,null,null,null,null,null,null,null,null,null,null,null,null,null,null,null,null,null,null,null,null,null,null,null,null,null,null,null,null,null,null,null,null,null,null,null,null,null,null,null,null,null,null,null,null,null,null,null,null,null,null,null,null,null,null,null,null,null,null,null,null,null,null,null,null,null,null,null,null,null,null,null,null,null,null,null,null,null,null,null,null,null,null,null,null,null,null,null,null,null,null,null,null,null,null,null,null,null,null,null,null,null,null,null,null,null,null,null,null,null,null,null,null,null,null,null,null,null,null,null,null,null,null,null,null,null,null,null,null,null,null,null,null,null,null,null,null,null,null,null,null,null,null,null,null,null,null,null,null,null,null,null,null,null,null,null,null,null,null,null,null,null,null,null,null,null,null,null,null,null,null,null,null,null,null,null,null,null,null,null,null,null,null,null,null,null,null,null,null,null,null,null,null,null,null,null,null,null,null,null,null,null,null,null,null,null,null,null,null,null,null,null,null,null,null,null,null,null,null,null,null,null,null,null,null,null,null,null,null,null,null,null,null,null,null,null,null,null,null,null,null,null,null,null,null,null,null,null,null,null,null,null,null,null,null,null,null,null,null,null,null,null,null,null,null,null,null,null,null,null,null,null,null,null,null,null,null,null,null,null,null,null,null,null,null,null,null,null,null,null,null,null,null,null,null,null,null,null,null,null,null,null,null,null,null,null,null,null,null,null,null,null,null,null,null,null,null,null,null,null,null,null,null,null,null,null,null,null,null,null,null,null,null,null,null,null,null,null,null,null,null,null,null,null,null,null,null,null,null,null,null,null,null,null,null,null,null,null,null,null,null,null,null,null,null,null,null,null,null,null,null,null,null,null,null,null,null,null,null,null,null,null,null,null,null,null,null,null,null,null,null,null,null,null,null,null,null,null,null,null,null,null,null,null,null,null,null,null,null,null,null,null,null,null,null,null,null,null,null,null,null,null,null,null,null,null,null,null,null,null,null,null,null,null,null,null,null,null,null,null,null,null,null,null,null,null,null,null,null,null,null,null,null,null,null,null,null,null,null,null,null,null,null,null,null,null,null,null,null,null,null,null,null,null,null,null,null,null,null,null,null,null,null,null,null,null,null,null,null,null,null,null,null,null,null,null,null,null,null,null,null,null,null,null,null,null,null,null,null,null,null,null,null,null,null,null,null,null,null,null,null,null,null,null,null,null,null,null,null,null,null,null,null,null,null,null,null,null,null,null,null,null,null,null,null,null,null,null,null,null,null,null,null,null,null,null,null,null,null,null,null,null,null,null,null,null,null,null,null,null,null,null,null,null,null,null,null,null,null,null,null,null,null,null,null,null,null,null,null,null,null,null,null,null,null,null,null,null,null,null,null,null,null,null,null,null,null,null,null,null,null,null,null,null,null,null,null,null,null,null,null,null,null,null,null,null,null,null,null,null,null,null,null,null,null,null,null,null,null,null,null,null,null,null,null,null,null,null,null,null,null,null,null,null,null,null,null,null,null,null,null,null,null,null,null,null,null,null,null,null,null,null,null,null,null,null,null,null,null,null,null,null,null,null,null,null,null,null,null,null,null,null,null,null,null,null,null,null,null,null,null,null,null,null,null,null,null,null,null,null,null,null,null,null,null,null,null,null,null,null,null,null,null,null,null,null,null,null,null,null,null,null,null,null,null,null,null,null,null,null,null,null,null,null,null,null,null,null,null,null,null,null,null,null,null,null,null,null,null,null,null,null,null,null,null,null,null,null,null,null,null,null,null,null,null,null,null,null,null,null,null,null,null,null,null,null,null,null,null,null,null,null,null,null,null,null,null,null,null,null,null,null,null,null,null,null,null,null,null,null,null,null,null,null,null,null,null,null,null,null,null,null,null,null,null,null,null,null,null,null,null,null,null,null,null,null,null,null,null,null,null,null,null,null,null,null,null,null,null,null,null,null,null,null,null,null,null,null,null,null,null,null,null,null,null,null,null,null,null,null,null,null,null,null,null,null,null,null,null,null,null,null,null,null,null,null,null,null,null,null,null,null,null,null,null,null,null,null,null,null,null,null,null,null,null,null,null,null,null,null,null,null,null,null,null,null,null,null,null,null,null,null,null,null,null,null,null,null,null,null,null,null,null,null,null,null,null,null,null,null,null,null,null,null,null,null,null,null,null,null,null,null,null,null,null,null,null,null,null,null,null,null,null,null,null,null,null,null,null,null,null,null,null,null,null,null,null,null,null,null,null,null,null,null,null,null,null,null,null,null,null,null,null,null,null,null,null,null,null,null,null,null,null,null,null,null,null,null,null,null,null,null,null,null,null,null,null,null,null,null,null,null,null,null,null,null,null,null,null,null,null,null,null,null,null,null,null,null,null,null,null,null,null,null,null,null,null,null,null,null,null,null,null,null,null,null,null,null,null,null,null,null,null,null,null,null,null,null,null,null,null,null,null,null,null,null,null,null,null,null,null,null,null,null,null,null,null,null,null,null,null,null,null,null,null,null,null,null,null,null,null,null,null,null,null,null,null,null,null,null,null,null,null,null,null,null,null,null,null,null,null,null,null,null,null,null,null,null,null,null,null,null,null,null,null,null,null,null,null,null,null,null,null,null,null,null,null,null,null,null,null,null,null,null,null,null,null,null,null,null,null,null,null,null,null,null,null,null,null,null,null,null,null,null,null,null,null,null,null,null,null,null,null,null,null,null,null,null,null,null,null,null,null,null,null,null,null,null,null,null,null,null,null,null,null,null,null,null,null,null,null,null,null,null,null,null,null,null,null,null,null,null,null,null,null,null,null,null,null,null,null,null,null,null,null,null,null,null,null,null,null,null,null,null,null,null,null,null,null,null,null,null,null,null,null,null,null,null,null,null,null,null,null,null,null,null,null,null,null,null,null,null,null,null,null,null,null,null,null,null,null,null,null,null,null,null,null,null,null,null,null,null,null,null,null,null,null,null,null,null,null,null,null,null,null,null,null,null,null,null,null,null,null,null,null,null,null,null,null,null,null,null,null,null,null,null,null,null,null,null,null,null,null,null,null,null,null,null,null,null,null,null,null,null,null,null,null,null,null,null,null,null,null,null,null,null,null,null,null,null,null,null,null,null,null,null,null,null,null,null,null,null,null,null,null,null,null,null,null,null,null,null,null,null,null,null,null,null,null,null,null,null,null,null,null,null,null,null,null,null,null,null,null,null,null,null,null,null,null,null,null,null,null,null,null,null,null,null,null,null,null,null,null,null,null,null,null,null,null,null,null,null,null,null,null,null,null,null,null,null,null,null,null,null,null,null,null,null,null,null,null,null,null,null,null,null,null,null,null,null,null,null,null,null,null,null,null,null,null,null,null,null,null,null,null,null,null,null,null,null,null,null,null,null,null,null,null,null,null,null,null,null,null,null,null,null,null,null,null,null,null,null,null,null,null,null,null,null,null,null,null,null,null,null,null,null,null,null,null,null,null,null,null,null,null,null,null,null,null,null,null,null,null,null,null,null,null,null,null,null,null,null,null,null,null,null,null,null,null,null,null,null,null,null,null,null,null,null,null,null,null,null,null,null,null,null,null,null,null,null,null,null,null,null,null,null,null,null,null,null,null,null,null,null,null,null,null,null,null,null,null,null,null,null,null,null,null,null,null,null,null,null,null,null,null,null,null,null,null,null,null,null,null,null,null,null,null,null,null,null,null,null,null,null,null,null,null,null,null,null,null,null,null,null,null,null,null,null,null,null,null,null,null,null,null,null,null,null,null,null,null,null,null,null,null,null,null,null,null,null,null,null,null,null,null,null,null,null,null,null,null,null,null,null,null,null,null,null,null,null,null,null,null,null,null,null,null,null,null,null,null,null,null,null,null,null,null,null,null,null,null,null,null,null,null,null,null,null,null,null,null,null,null,null,null,null,null,null,null,null,null,null,null,null,null,null,null,null,null,null,null,null,null,null,null,null,null,null,null,null,null,null,null,null,null,null,null,null,null,null,null,null,null,null,null,null,null,null,null,null,null,null,null,null,null,null,null,null,null,null,null,null,null,null,null,null,null,null,null,null,null,null,null,null,null,null,null,null,null,null,null,null,null,null,null,null,null,null,null,null,null,null,null,null,null,null,null,null,null,null,null,null,null,null,null,null,null,null,null,null,null,null,null,null,null,null,null,null,null,null,null,null,null,null,null,null,null,null,null,null,null,null,null,null,null,null,null,null,null,null,null,null,null,null,null,null,null,null,null,null,null,null,null,null,null,null,null,null,null,null,null,null,null,null,null,null,null,null,null,null,null,null,null,null,null,null,null,null,null,null,null,null,null,null,null,null,null,null,null,null,null,null,null,null,null,null,null,null,null,null,null,null,null,null,null,null,null,null,null,null,null,null,null,null,null,null,null,null,null,null,null,null,null,null,null,null,null,null,null,null,null,null,null,null,null,null,null,null,null,null,null,null,null,null,null,null,null,null,null,null,null,null,null,null,null,null,null,null,null,null,null,null,null,null,null,null,null,null,null,null,null,null,null,null,null,null,null,null,null,null,null,null,null,null,null,null,null,null,null,null,null,null,null,null,null,null,null,null,null,null,null,null,null,null,null,null,null,null,null,null,null,null,null,null,null,null,null,null,null,null,null,null,null,null,null,null,null,null,null,null,null,null,null,null,null,null,null,null,null,null,null,null,null,null,null,null,null,null,null,null,null,null,null,null,null,null,null,null,null,null,null,null,null,null,null,null,null,null,null,null,null,null,null,null,null,null,null,null,null,null,null,null,null,null,null,null,null,null,null,null,null,null,null,null,null,null,null,null,null,null,null,null,null,null,null,null,null,null,null,null,null,null,null,null,null,null,null,null,null,null,null,null,null,null,null,null,null,null,null,null,null,null,null,null,null,null,null,null,null,null,null,null,null,null,null,null,null,null,null,null,null,null,null,null,null,null,null,null,null,null,null,null,null,null,null,null,null,null,null,null,null,null,null,null,null,null,null,null,null,null,null,null,null,null,null,null,null,null,null,null,null,null,null,null,null,null,null,null,null,null,null,null,null,null,null,null,null,null,null,null,null,null,null,null,null,null,null,null,null,null,null,null,null,null,null,null,null,null,null,null,null,null,null,null,null,null,null,null,null,null,null,null,null,null,null,null,null,null,null,null,null,null,null,null,null,null,null,null,null,null,null,null,null,null,null,null,null,null,null,null,null,null,null,null,null,null,null,null,null,null,null,null,null,null,null,null,null,null,null,null,null,null,null,null,null,null,null,null,null,null,null,null,null,null,null,null,null,null,null,null,null,null,null,null,null,null,null,null,null,null,null,null,null,null,null,null,null,null,null,null,null,null,null,null,null,null,null,null,null,null,null,null,null,null,null,null,null,null,null,null,null,null,null,null,null,null,null,null,null,null,null,null,null,null,null,null,null,null,null,null,null,null,null,null,null,null,null,null,null,null,null,null,null,null,null,null,null,null,null,null,null,null,null,null,null,null,null,null,null,null,null,null,null,null,null,null,null,null,null,null,null,null,null,null,null,null,null,null,null,null,null,null,null,null,null,null,null,null,null,null,null,null,null,null,null,null,null,null,null,null,null,null,null,null,null,null,null,null,null,null,null,null,null,null,null,null,null,null,null,null,null,null,null,null,null,null,null,null,null,null,null,null,null,null,null,null,null,null,null,null,null,null,null,null,null,null,null,null,null,null,null,null,null,null,null,null,null,null,null,null,null,null,null,null,null,null,null,null,null,null,null,null,null,null,null,null,null,null,null,null,null,null,null,null,null,null,null,null,null,null,null,null,null,null,null,null,null,null,null,null,null,null,null,null,null,null,null,null,null,null,null,null,null,null,null,null,null,null,null,null,null,null,null,null,null,null,null,null,null,null,null,null,null,null,null,null,null,null,null,null,null,null,null,null,null,null,null,null,null,null,null,null,null,null,null,null,null,null,null,null,null,null,null,null,null,null,null,null,null,null,null,null,null,null,null,null,null,null,null,null,null,null,null,null,null,null,null,null,null,null,null,null,null,null,null,null,null,null,null,null,null,null,null,null,null,null,null,null,null,null,null,null,null,null,null,null,null,null,null,null,null,null,null,null,null,null,null,null,null,null,null,null,null,null,null,null,null,null,null,null,null,null,null,null,null,null,null,null,null,null,null,null,null,null,null,null,null,null,null,null,null,null,null,null,null,null,null,null,null,null,null,null,null,null,null,null,null,null,null,null,null,null,null,null,null,null,null,null,null,null,null,null,null,null,null,null,null,null,null,null,null,null,null,null,null,null,null,null,null,null,null,null,null,null,null,null,null,null,null,null,null,null,null,null,null,null,null,null,null,null,null,null,null,null,null,null,null,null,null,null,null,null,null,null,null,null,null,null,null,null,null,null,null,null,null,null,null,null,null,null,null,null,null,null,null,null,null,null,null,null,null,null,null,null,null,null,null,null,null,null,null,null,null,null,null,null,null,null,null,null,null,null,null,null,null,null,null,null,null,null,null,null,null,null,null,null,null,null,null,null,null,null,null,null,null,null,null,null,null,null,null,null,null,null,null,null,null,null,null,null,null,null,null,null,null,null,null,null,null,null,null,null,null,null,null,null,null,null,null,null,null,null,null,null,null,null,null,null,null,null,null,null,null,null,null,null,null,null,null,null,null,null,null,null,null,null,null,null,null,null,null,null,null,null,null,null,null,null,null,null,null,null,null,null,null,null,null,null,null,null,null,null,null,null,null,null,null,null,null,null,null,null,null,null,null,null,null,null,null,null,null,null,null,null,null,null,null,null,null,null,null,null,null,null,null,null,null,null,null,null,null,null,null,null,null,null,null,null,null,null,null,null,null,null,null,null,null,null,null,null,null,null,null,null,null,null,null,null,null,null,null,null,null,null,null,null,null,null,null,null,null,null,null,null,null,null,null,null,null,null,null,null,null,null,null,null,null,null,null,null,null,null,null,null,null,null,null,null,null,null,null,null,null,null,null,null,null,null,null,null,null,null,null,null,null,null,null,null,null,null,null,null,null,null,null,null,null,null,null,null,null,null,null,null,null,null,null,null,null,null,null,null,null,null,null,null,null,null,null,null,null,null,null,null,null,null,null,null,null,null,null,null,null,null,null,null,null,null,null,null,null,null,null,null,null,null,null,null,null,null,null,null,null,null,null,null,null,null,null,null,null,null,null,null,null,null,null,null,null,null,null,null,null,null,null,null,null,null,null,null,null,null,null,null,null,null,null,null,null,null,null,null,null,null,null,null,null,null,null,null,null,null,null,null,null,null,null,null,null,null,null,null,null,null,null,null,null,null,null,null,null,null,null,null,null,null,null,null,null,null,null,null,null,null,null,null,null,null,null,null,null,null,null,null,null,null,null,null,null,null,null,null,null,null,null,null,null,null,null,null,null,null,null,null,null,null,null,null,null,null,null,null,null,null,null,null,null,null,null,null,null,null,null,null,null,null,null,null,null,null,null,null,null,null,null,null,null,null,null,null,null,null,null,null,null,null,null,null,null,null,null,null,null,null,null,null,null,null,null,null,null,null,null,null,null,null,null,null,null,null,null,null,null,null,null,null,null,null,null,null,null,null,null,null,null,null,null,null,null,null,null,null,null,null,null,null,null,null,null,null,null,null,null,null,null,null,null,null,null,null,null,null,null,null,null,null,null,null,null,null,null,null,null,null,null,null,null,null,null,null,null,null,null,null,null,null,null,null,null,null,null,null,null,null,null,null,null,null,null,null,null,null,null,null,null,null,null,null,null,null,null,null,null,null,null,null,null,null,null,null,null,null,null,null,null,null,null,null,null,null,null,null,null,null,null,null,null,null,null,null,null,null,null,null,null,null,null,null,null,null,null,null,null,null,null,null,null,null,null,null,null,null,null,null,null,null,null,null,null,null,null,null,null,null,null,null,null,null,null,null,null,null,null,null,null,null,null,null,null,null,null,null,null,null,null,null,null,null,null,null,null,null,null,null,null,null,null,null,null,null,null,null,null,null,null,null,null,null,null,null,null,null,null,null,null,null,null,null,null,null,null,null,null,null,null,null,null,null,null,null,null,null,null,null,null,null,null,null,null,null,null,null,null,null,null,null,null,null,null,null,null,null,null,null,null,null,null,null,null,null,null,null,null,null,null,null,null,null,null,null,null,null,null,null,null,null,null,null,null,null,null,null,null,null,null,null,null,null,null,null,null,null,null,null,null,null,null,null,null,null,null,null,null,null,null,null,null,null,null,null,null,null,null,null,null,null,null,null,null,null,null,null,null,null,null,null,null,null,null,null,null,null,null,null,null,null,null,null,null,null,null,null,null,null,null,null,null,null,null,null,null,null,null,null,null,null,null,null,null,null,null,null,null,null,null,null,null,null,null,null,null,null,null,null,null,null,null,null,null,null,null,null,null,null,null,null,null,null,null,null,null,null,null,null,null,null,null,null,null,null,null,null,null,null,null,null,null,null,null,null,null,null,null,null,null,null,null,null,null,null,null,null,null,null,null,null,null,null,null,null,null,null,null,null,null,null,null,null,null,null,null,null,null,null,null,null,null,null,null,null,null,null,null,null,null,null,null,null,null,null,null,null,null,null,null,null,null,null,null,null,null,null,null,null,null,null,null,null,null,null,null,null,null,null,null,null,null,null,null,null,null,null,null,null,null,null,null,null,null,null,null,null,null,null,null,null,null,null,null,null,null,null,null,null,null,null,null,null,null,null,null,null,null,null,null,null,null,null,null,null,null,null,null,null,null,null,null,null,null,null,null,null,null,null,null,null,null,null,null,null,null,null,null,null,null,null,null,null,null,null,null,null,null,null,null,null,null,null,null,null,null,null,null,null,null,null,null,null,null,null,null,null,null,null,null,null,null,null,null,null,null,null,null,null,null,null,null,null,null,null,null,null,null,null,null,null,null,null,null,null,null,null,null,null,null,null,null,null,null,null,null,null,null,null,null,null,null,null,null,null,null,null,null,null,null,null,null,null,null,null,null,null,null,null,null,null,null,null,null,null,null,null,null,null,null,null,null,null,null,null,null,null,null,null,null,null,null,null,null,null,null,null,null,null,null,null,null,null,null,null,null,null,null,null,null,null,null,null,null,null,null,null,null,null,null,null,null,null,null,null,null,null,null,null,null,null,null,null,null,null,null,null,null,null,null,null,null,null,null,null,null,null,null,null,null,null,null,null,null,null,null,null,null,null,null,null,null,null,null,null,null,null,null,null,null,null,null,null,null,null,null,null,null,null,null,null,null,null,null,null,null,null,null,null,null,null,null,null,null,null,null,null,null,null,null,null,null,null,null,null,null,null,null,null,null,null,null,null,null,null,null,null,null,null,null,null,null,null,null,null,null,null,null,null,null,null,null,null,null,null,null,null,null,null,null,null,null,null,null,null,null,null,null,null,null,null,null,null,null,null,null,null,null,null,null,null,null,null,null,null,null,null,null,null,null,null,null,null,null,null,null,null,null,null,null,null,null,null,null,null,null,null,null,null,null,null,null,null,null,null,null,null,null,null,null,null,null,null,null,null,null,null,null,null,null,null,null,null,null,null,null,null,null,null,null,null,null,null,null,null,null,null,null,null,null,null,null,null,null,null,null,null,null,null,null,null,null,null,null,null,null,null,null,null,null,null,null,null,null,null,null,null,null,null,null,null,null,null,null,null,null,null,null,null,null,null,null,null,null,null,null,null,null,null,null,null,null,null,null,null,null,null,null,null,null,null,null,null,null,null,null,null,null,null,null,null,null,null,null,null,null,null,null,null,null,null,null,null,null,null,null,null,null,null,null,null,null,null,null,null,null,null,null,null,null,null,null,null,null,null,null,null,null,null,null,null,null,null,null,null,null,null,null,null,null,null,null,null,null,null,null,null,null,null,null,null,null,null,null,null,null,null,null,null,null,null,null,null,null,null,null,null,null,null,null,null,null,null,null,null,null,null,null,null,null,null,null,null,null,null,null,null,null,null,null,null,null,null,null,null,null,null,null,null,null,null,null,null,null,null,null,null,null,null,null,null,null,null,null,null,null,null,null,null,null,null,null,null,null,null,null,null,null,null,null,null,null,null,null,null,null,null,null,null,null,null,null,null,null,null,null,null,null,null,null,null,null,null,null,null,null,null,null,null,null,null,null,null,null,null,null,null,null,null,null,null,null,null,null,null,null,null,null,null,null,null,null,null,null,null,null,null,null,null,null,null,null,null,null,null,null,null,null,null,null,null,null,null,null,null,null,null,null,null,null,null,null,null,null,null,null,null,null,null,null,null,null,null,null,null,null,null,null,null,null,null,null,null,null,null,null,null,null,null,null,null,null,null,null,null,null,null,null,null,null,null,null,null,null,null,null,null,null,null,null,null,null,null,null,null,null,null,null,null,null,null,null,null,null,null,null,null,null,null,null,null,null,null,null,null,null,null,null,null,null,null,null,null,null,null,null,null,null,null,null,null,null,null,null,null,null,null,null,null,null,null,null,null,null,null,null,null,null,null,null,null,null,null,null,null,null,null,null,null,null,null,null,null,null,null,null,null,null,null,null,null,null,null,null,null,null,null,null,null,null,null,null,null,null,null,null,null,null,null,null,null,null,null,null,null,null,null,null,null,null,null,null,null,null,null,null,null,null,null,null,null,null,null,null,null,null,null,null,null,null,null,null,null,null,null,null,null,null,null,null,null,null,null,null,null,null,null,null,null,null,null,null,null,null,null,null,null,null,null,null,null,null,null,null,null,null,null,null,null,null,null,null,null,null,null,null,null,null,null,null,null,null,null,null,null,null,null,null,null,null,null,null,null,null,null,null,null,null,null,null,null,null,null,null,null,null,null,null,null,null,null,null,null,null,null,null,null,null,null,null,null,null,null,null,null,null,null,null,null,null,null,null,null,null,null,null,null,null,null,null,null,null,null,null,null,null,null,null,null,null,null,null,null,null,null,null,null,null,null,null,null,null,null,null,null,null,null,null,null,null,null,null,null,null,null,null,null,null,null,null,null,null,null,null,null,null,null,null,null,null,null,null,null,null,null,null,null,null,null,null,null,null,null,null,null,null,null,null,null,null,null,null,null,null,null,null,null,null,null,null,null,null,null,null,null,null,null,null,null,null,null,null,null,null,null,null,null,null,null,null,null,null,null,null,null,null,null,null,null,null,null,null,null,null,null,null,null,null,null,null,null,null,null,null,null,null,null,null,null,null,null,null,null,null,null,null,null,null,null,null,null,null,null,null,null,null,null,null,null,null,null,null,null,null,null,null,null,null,null,null,null,null,null,null,null,null,null,null,null,null,null,null,null,null,null,null,null,null,null,null,null,null,null,null,null,null,null,null,null,null,null,null,null,null,null,null,null,null,null,null,null,null,null,null,null,null,null,null,null,null,null,null,null,null,null,null,null,null,null,null,null,null,null,null,null,null,null,null,null,null,null,null,null,null,null,null,null,null,null,null,null,null,null,null,null,null,null,null,null,null,null,null,null,null,null,null,null,null,null,null,null,null,null,null,null,null,null,null,null,null,null,null,null,null,null,null,null,null,null,null,null,null,null,null,null,null,null,null,null,null,null,null,null,null,null,null,null,null,null,null,null,null,null,null,null,null,null,null,null,null,null,null,null,null,null,null,null,null,null,null,null,null,null,null,null,null,null,null,null,null,null,null,null,null,null,null,null,null,null,null,null,null,null,null,null,null,null,null,null,null,null,null,null,null,null,null,null,null,null,null,null,null,null,null,null,null,null,null,null,null,null,null,null,null,null,null,null,null,null,null,null,null,null,null,null,null,null,null,null,null,null,null,null,null,null,null,null,null,null,null,null,null,null,null,null,null,null,null,null,null,null,null,null,null,null,null,null,null,null,null,null,null,null,null,null,null,null,null,null,null,null,null,null,null,null,null,null,null,null,null,null,null,null,null,null,null,null,null,null,null,null,null,null,null,null,null,null,null,null,null,null,null,null,null,null,null,null,null,null,null,null,null,null,null,null,null,null,null,null,null,null,null,null,null,null,null,null,null,null,null,null,null,null,null,null,null,null,null,null,null,null,null,null,null,null,null,null,null,null,null,null,null,null,null,null,null,null,null,null,null,null,null,null,null,null,null,null,null,null,null,null,null,null,null,null,null,null,null,null,null,null,null,null,null,null,null,null,null,null,null,null,null,null,null,null,null,null,null,null,null,null,null,null,null,null,null,null,null,null,null,null,null,null,null,null,null,null,null,null,null,null,null,null,null,null,null,null,null,null,null,null,null,null,null,null,null,null,null,null,null,null,null,null,null,null,null,null,null,null,null,null,null,null,null,null,null,null,null,null,null,null,null,null,null,null,null,null,null,null,null,null,null,null,null,null,null,null,null,null,null,null,null,null,null,null,null,null,null,null,null,null,null,null,null,null,null,null,null,null,null,null,null,null,null,null,null,null,null,null,null,null,null,null,null,null,null,null,null,null,null,null,null,null,null,null,null,null,null,null,null,null,null,null,null,null,null,null,null,null,null,null,null,null,null,null,null,null,null,null,null,null,null,null,null,null,null,null,null,null,null,null,null,null,null,null,null,null,null,null,null,null,null,null,null,null,null,null,null,null,null,null,null,null,null,null,null,null,null,null,null,null,null,null,null,null,null,null,null,null,null,null,null,null,null,null,null,null,null,null,null,null,null,null,null,null,null,null,null,null,null,null,null,null,null,null,null,null,null,null,null,null,null,null,null,null,null,null,null,null,null,null,null,null,null,null,null,null,null,null,null,null,null,null,null,null,null,null,null,null,null,null,null,null,null,null,null,null,null,null,null,null,null,null,null,null,null,null,null,null,null,null,null,null,null,null,null,null,null,null,null,null,null,null,null,null,null,null,null,null,null,null,null,null,null,null,null,null,null,null,null,null,null,null,null,null,null,null,null,null,null,null,null,null,null,null,null,null,null,null,null,null,null,null,null,null,null,null,null,null,null,null,null,null,null,null,null,null,null,null,null,null,null,null,null,null,null,null,null,null,null,null,null,null,null,null,null,null,null,null,null,null,null,null,null,null,null,null,null,null,null,null,null,null,null,null,null,null,null,null,null,null,null,null,null,null,null,null,null,null,null,null,null,null,null,null,null,null,null,null,null,null,null,null,null,null,null,null,null,null,null,null,null,null,null,null,null,null,null,null,null,null,null,null,null,null,null,null,null,null,null,null,null,null,null,null,null,null,null,null,null,null,null,null,null,null,null,null,null,null,null,null,null,null,null,null,null,null,null,null,null,null,null,null,null,null,null,null,null,null,null,null,null,null,null,null,null,null,null,null,null,null,null,null,null,null,null,null,null,null,null,null,null,null,null,null,null,null,null,null,null,null,null,null,null,null,null,null,null,null,null,null,null,null,null,null,null,null,null,null,null,null,null,null,null,null,null,null,null,null,null,null,null,null,null,null,null,null,null,null,null,null,null,null,null,null,null,null,null,null,null,null,null,null,null,null,null,null,null,null,null,null,null,null,null,null,null,null,null,null,null,null,null,null,null,null,null,null,null,null,null,null,null,null,null,null,null,null,null,null,null,null,null,null,null,null,null,null,null,null,null,null,null,null,null,null,null,null,null,null,null,null,null,null,null,null,null,null,null,null,null,null,null,null,null,null,null,null,null,null,null,null,null,null,null,null,null,null,null,null,null,null,null,null,null,null,null,null,null,null,null,null,null,null,null,null,null,null,null,null,null,null,null,null,null,null,null,null,null,null,null,null,null,null,null,null,null,null,null,null,null,null,null,null,null,null,null,null,null,null,null,null,null,null,null,null,null,null,null,null,null,null,null,null,null,null,null,null,null,null,null,null,null,null,null,null,null,null,null,null,null,null,null,null,null,null,null,null,null,null,null,null,null,null,null,null,null,null,null,null,null,null,null,null,null,null,null,null,null,null,null,null,null,null,null,null,null,null,null,null,null,null,null,null,null,null,null,null,null,null,null,null,null,null,null,null,null,null,null,null,null,null,null,null,null,null,null,null,null,null,null,null,null,null,null,null,null,null,null,null,null,null,null,null,null,null,null,null,null,null,null,null,null,null,null,null,null,null,null,null,null,null,null,null,null,null,null,null,null,null,null,null,null,null,null,null,null,null,null,null,null,null,null,null,null,null,null,null,null,null,null,null,null,null,null,null,null,null,null,null,null,null,null,null,null,null,null,null,null,null,null,null,null,null,null,null,null,null,null,null,null,null,null,null,null,null,null,null,null,null,null,null,null,null,null,null,null,null,null,null,null,null,null,null,null,null,null,null,null,null,null,null,null,null,null,null,null,null,null,null,null,null,null,null,null,null,null,null,null,null,null,null,null,null,null,null,null,null,null,null,null,null,null,null,null,null,null,null,null,null,null,null,null,null,null,null,null,null,null,null,null,null,null,null,null,null,null,null,null,null,null,null,null,null,null,null,null,null,null,null,null,null,null,null,null,null,null,null,null,null,null,null,null,null,null,null,null,null,null,null,null,null,null,null,null,null,null,null,null,null,null,null,null,null,null,null,null,null,null,null,null,null,null,null,null,null,null,null,null,null,null,null,null,null,null,null,null,null,null,null,null,null,null,null,null,null,null,null,null,null,null,null,null,null,null,null,null,null,null,null,null,null,null,null,null,null,null,null,null,null,null,null,null,null,null,null,null,null,null,null,null,"GanttSheet","BaselineBudget","EstimatedBudget","ActualCosts","TotalACS","PercentageColor","EstimatedTimelineColor","Mcolor","BaselineTimelineColor","ActualTimelineColor","OverdueTaskColor","ShowOverdueBar","ShowBaselineBar","ShowActualBar","CurrencySymbol","HolidayDate","HolidayName","ResourceName","ResourceCost","ScrollPosition","CurrentView","ShowCompleted","ShowInProgress","ShowPlanned","ShowLate","WorkdaySun","WorkdayMon","WorkdayTue","WorkdayWed","WorkdayThu","WorkdayFri","WorkdaySat","WeekStartDay","WeekNumType","LV","TaskRowHeight","CM","EC","DB","LiType","TimelineWeeks","ShowGrouping","DateFormat","ShowTodayLines","ShowDependencyConnector","ConnectorColor","peru","chirun","vidud","EnableBarText","BarTextColor","BarTextCharacters","BarTextFontSize","BarTextDataColumnName","BarTextIsBold","BarTextIsItalic","BarTextIsUnderline","TodayLineColor","BordersColor","liky","duli","PercentageEntryMode","PercentageCalculationType","FiSa"]
["System","System","System","System","System","System","System","System","System","System","System","System","System","System","System","System","System","System","System","System","System","System","System","System","System","System","System","System",null,null,null,null,null,null,null,null,null,null,null,null,null,null,null,null,null,null,null,null,null,null,null,null,null,null,null,null,null,null,null,null,null,null,null,null,null,null,null,null,null,null,null,null,null,null,null,null,null,null,null,null,null,null,null,null,null,null,null,null,null,null,null,null,null,null,null,null,null,null,null,null,null,null,null,null,null,null,null,null,null,null,null,null,null,null,null,null,null,null,null,null,null,null,null,null,null,null,null,null,null,null,null,null,null,null,null,null,null,null,null,null,null,null,null,null,null,null,null,null,null,null,null,null,null,null,null,null,null,null,null,null,null,null,null,null,null,null,null,null,null,null,null,null,null,null,null,null,null,null,null,null,null,null,null,null,null,null,null,null,null,null,null,null,null,null,null,null,null,null,null,null,null,null,null,null,null,null,null,null,null,null,null,null,null,null,null,null,null,null,null,null,null,null,null,null,null,null,null,null,null,null,null,null,null,null,null,null,null,null,null,null,null,null,null,null,null,null,null,null,null,null,null,null,null,null,null,null,null,null,null,null,null,null,null,null,null,null,null,null,null,null,null,null,null,null,null,null,null,null,null,null,null,null,null,null,null,null,null,null,null,null,null,null,null,null,null,null,null,null,null,null,null,null,null,null,null,null,null,null,null,null,null,null,null,null,null,null,null,null,null,null,null,null,null,null,null,null,null,null,null,null,null,null,null,null,null,null,null,null,null,null,null,null,null,null,null,null,null,null,null,null,null,null,null,null,null,null,null,null,null,null,null,null,null,null,null,null,null,null,null,null,null,null,null,null,null,null,null,null,null,null,null,null,null,null,null,null,null,null,null,null,null,null,null,null,null,null,null,null,null,null,null,null,null,null,null,null,null,null,null,null,null,null,null,null,null,null,null,null,null,null,null,null,null,null,null,null,null,null,null,null,null,null,null,null,null,null,null,null,null,null,null,null,null,null,null,null,null,null,null,null,null,null,null,null,null,null,null,null,null,null,null,null,null,null,null,null,null,null,null,null,null,null,null,null,null,null,null,null,null,null,null,null,null,null,null,null,null,null,null,null,null,null,null,null,null,null,null,null,null,null,null,null,null,null,null,null,null,null,null,null,null,null,null,null,null,null,null,null,null,null,null,null,null,null,null,null,null,null,null,null,null,null,null,null,null,null,null,null,null,null,null,null,null,null,null,null,null,null,null,null,null,null,null,null,null,null,null,null,null,null,null,null,null,null,null,null,null,null,null,null,null,null,null,null,null,null,null,null,null,null,null,null,null,null,null,null,null,null,null,null,null,null,null,null,null,null,null,null,null,null,null,null,null,null,null,null,null,null,null,null,null,null,null,null,null,null,null,null,null,null,null,null,null,null,null,null,null,null,null,null,null,null,null,null,null,null,null,null,null,null,null,null,null,null,null,null,null,null,null,null,null,null,null,null,null,null,null,null,null,null,null,null,null,null,null,null,null,null,null,null,null,null,null,null,null,null,null,null,null,null,null,null,null,null,null,null,null,null,null,null,null,null,null,null,null,null,null,null,null,null,null,null,null,null,null,null,null,null,null,null,null,null,null,null,null,null,null,null,null,null,null,null,null,null,null,null,null,null,null,null,null,null,null,null,null,null,null,null,null,null,null,null,null,null,null,null,null,null,null,null,null,null,null,null,null,null,null,null,null,null,null,null,null,null,null,null,null,null,null,null,null,null,null,null,null,null,null,null,null,null,null,null,null,null,null,null,null,null,null,null,null,null,null,null,null,null,null,null,null,null,null,null,null,null,null,null,null,null,null,null,null,null,null,null,null,null,null,null,null,null,null,null,null,null,null,null,null,null,null,null,null,null,null,null,null,null,null,null,null,null,null,null,null,null,null,null,null,null,null,null,null,null,null,null,null,null,null,null,null,null,null,null,null,null,null,null,null,null,null,null,null,null,null,null,null,null,null,null,null,null,null,null,null,null,null,null,null,null,null,null,null,null,null,null,null,null,null,null,null,null,null,null,null,null,null,null,null,null,null,null,null,null,null,null,null,null,null,null,null,null,null,null,null,null,null,null,null,null,null,null,null,null,null,null,null,null,null,null,null,null,null,null,null,null,null,null,null,null,null,null,null,null,null,null,null,null,null,null,null,null,null,null,null,null,null,null,null,null,null,null,null,null,null,null,null,null,null,null,null,null,null,null,null,null,null,null,null,null,null,null,null,null,null,null,null,null,null,null,null,null,null,null,null,null,null,null,null,null,null,null,null,null,null,null,null,null,null,null,null,null,null,null,null,null,null,null,null,null,null,null,null,null,null,null,null,null,null,null,null,null,null,null,null,null,null,null,null,null,null,null,null,null,null,null,null,null,null,null,null,null,null,null,null,null,null,null,null,null,null,null,null,null,null,null,null,null,null,null,null,null,null,null,null,null,null,null,null,null,null,null,null,null,null,null,null,null,null,null,null,null,null,null,null,null,null,null,null,null,null,null,null,null,null,null,null,null,null,null,null,null,null,null,null,null,null,null,null,null,null,null,null,null,null,null,null,null,null,null,null,null,null,null,null,null,null,null,null,null,null,null,null,null,null,null,null,null,null,null,null,null,null,null,null,null,null,null,null,null,null,null,null,null,null,null,null,null,null,null,null,null,null,null,null,null,null,null,null,null,null,null,null,null,null,null,null,null,null,null,null,null,null,null,null,null,null,null,null,null,null,null,null,null,null,null,null,null,null,null,null,null,null,null,null,null,null,null,null,null,null,null,null,null,null,null,null,null,null,null,null,null,null,null,null,null,null,null,null,null,null,null,null,null,null,null,null,null,null,null,null,null,null,null,null,null,null,null,null,null,null,null,null,null,null,null,null,null,null,null,null,null,null,null,null,null,null,null,null,null,null,null,null,null,null,null,null,null,null,null,null,null,null,null,null,null,null,null,null,null,null,null,null,null,null,null,null,null,null,null,null,null,null,null,null,null,null,null,null,null,null,null,null,null,null,null,null,null,null,null,null,null,null,null,null,null,null,null,null,null,null,null,null,null,null,null,null,null,null,null,null,null,null,null,null,null,null,null,null,null,null,null,null,null,null,null,null,null,null,null,null,null,null,null,null,null,null,null,null,null,null,null,null,null,null,null,null,null,null,null,null,null,null,null,null,null,null,null,null,null,null,null,null,null,null,null,null,null,null,null,null,null,null,null,null,null,null,null,null,null,null,null,null,null,null,null,null,null,null,null,null,null,null,null,null,null,null,null,null,null,null,null,null,null,null,null,null,null,null,null,null,null,null,null,null,null,null,null,null,null,null,null,null,null,null,null,null,null,null,null,null,null,null,null,null,null,null,null,null,null,null,null,null,null,null,null,null,null,null,null,null,null,null,null,null,null,null,null,null,null,null,null,null,null,null,null,null,null,null,null,null,null,null,null,null,null,null,null,null,null,null,null,null,null,null,null,null,null,null,null,null,null,null,null,null,null,null,null,null,null,null,null,null,null,null,null,null,null,null,null,null,null,null,null,null,null,null,null,null,null,null,null,null,null,null,null,null,null,null,null,null,null,null,null,null,null,null,null,null,null,null,null,null,null,null,null,null,null,null,null,null,null,null,null,null,null,null,null,null,null,null,null,null,null,null,null,null,null,null,null,null,null,null,null,null,null,null,null,null,null,null,null,null,null,null,null,null,null,null,null,null,null,null,null,null,null,null,null,null,null,null,null,null,null,null,null,null,null,null,null,null,null,null,null,null,null,null,null,null,null,null,null,null,null,null,null,null,null,null,null,null,null,null,null,null,null,null,null,null,null,null,null,null,null,null,null,null,null,null,null,null,null,null,null,null,null,null,null,null,null,null,null,null,null,null,null,null,null,null,null,null,null,null,null,null,null,null,null,null,null,null,null,null,null,null,null,null,null,null,null,null,null,null,null,null,null,null,null,null,null,null,null,null,null,null,null,null,null,null,null,null,null,null,null,null,null,null,null,null,null,null,null,null,null,null,null,null,null,null,null,null,null,null,null,null,null,null,null,null,null,null,null,null,null,null,null,null,null,null,null,null,null,null,null,null,null,null,null,null,null,null,null,null,null,null,null,null,null,null,null,null,null,null,null,null,null,null,null,null,null,null,null,null,null,null,null,null,null,null,null,null,null,null,null,null,null,null,null,null,null,null,null,null,null,null,null,null,null,null,null,null,null,null,null,null,null,null,null,null,null,null,null,null,null,null,null,null,null,null,null,null,null,null,null,null,null,null,null,null,null,null,null,null,null,null,null,null,null,null,null,null,null,null,null,null,null,null,null,null,null,null,null,null,null,null,null,null,null,null,null,null,null,null,null,null,null,null,null,null,null,null,null,null,null,null,null,null,null,null,null,null,null,null,null,null,null,null,null,null,null,null,null,null,null,null,null,null,null,null,null,null,null,null,null,null,null,null,null,null,null,null,null,null,null,null,null,null,null,null,null,null,null,null,null,null,null,null,null,null,null,null,null,null,null,null,null,null,null,null,null,null,null,null,null,null,null,null,null,null,null,null,null,null,null,null,null,null,null,null,null,null,null,null,null,null,null,null,null,null,null,null,null,null,null,null,null,null,null,null,null,null,null,null,null,null,null,null,null,null,null,null,null,null,null,null,null,null,null,null,null,null,null,null,null,null,null,null,null,null,null,null,null,null,null,null,null,null,null,null,null,null,null,null,null,null,null,null,null,null,null,null,null,null,null,null,null,null,null,null,null,null,null,null,null,null,null,null,null,null,null,null,null,null,null,null,null,null,null,null,null,null,null,null,null,null,null,null,null,null,null,null,null,null,null,null,null,null,null,null,null,null,null,null,null,null,null,null,null,null,null,null,null,null,null,null,null,null,null,null,null,null,null,null,null,null,null,null,null,null,null,null,null,null,null,null,null,null,null,null,null,null,null,null,null,null,null,null,null,null,null,null,null,null,null,null,null,null,null,null,null,null,null,null,null,null,null,null,null,null,null,null,null,null,null,null,null,null,null,null,null,null,null,null,null,null,null,null,null,null,null,null,null,null,null,null,null,null,null,null,null,null,null,null,null,null,null,null,null,null,null,null,null,null,null,null,null,null,null,null,null,null,null,null,null,null,null,null,null,null,null,null,null,null,null,null,null,null,null,null,null,null,null,null,null,null,null,null,null,null,null,null,null,null,null,null,null,null,null,null,null,null,null,null,null,null,null,null,null,null,null,null,null,null,null,null,null,null,null,null,null,null,null,null,null,null,null,null,null,null,null,null,null,null,null,null,null,null,null,null,null,null,null,null,null,null,null,null,null,null,null,null,null,null,null,null,null,null,null,null,null,null,null,null,null,null,null,null,null,null,null,null,null,null,null,null,null,null,null,null,null,null,null,null,null,null,null,null,null,null,null,null,null,null,null,null,null,null,null,null,null,null,null,null,null,null,null,null,null,null,null,null,null,null,null,null,null,null,null,null,null,null,null,null,null,null,null,null,null,null,null,null,null,null,null,null,null,null,null,null,null,null,null,null,null,null,null,null,null,null,null,null,null,null,null,null,null,null,null,null,null,null,null,null,null,null,null,null,null,null,null,null,null,null,null,null,null,null,null,null,null,null,null,null,null,null,null,null,null,null,null,null,null,null,null,null,null,null,null,null,null,null,null,null,null,null,null,null,null,null,null,null,null,null,null,null,null,null,null,null,null,null,null,null,null,null,null,null,null,null,null,null,null,null,null,null,null,null,null,null,null,null,null,null,null,null,null,null,null,null,null,null,null,null,null,null,null,null,null,null,null,null,null,null,null,null,null,null,null,null,null,null,null,null,null,null,null,null,null,null,null,null,null,null,null,null,null,null,null,null,null,null,null,null,null,null,null,null,null,null,null,null,null,null,null,null,null,null,null,null,null,null,null,null,null,null,null,null,null,null,null,null,null,null,null,null,null,null,null,null,null,null,null,null,null,null,null,null,null,null,null,null,null,null,null,null,null,null,null,null,null,null,null,null,null,null,null,null,null,null,null,null,null,null,null,null,null,null,null,null,null,null,null,null,null,null,null,null,null,null,null,null,null,null,null,null,null,null,null,null,null,null,null,null,null,null,null,null,null,null,null,null,null,null,null,null,null,null,null,null,null,null,null,null,null,null,null,null,null,null,null,null,null,null,null,null,null,null,null,null,null,null,null,null,null,null,null,null,null,null,null,null,null,null,null,null,null,null,null,null,null,null,null,null,null,null,null,null,null,null,null,null,null,null,null,null,null,null,null,null,null,null,null,null,null,null,null,null,null,null,null,null,null,null,null,null,null,null,null,null,null,null,null,null,null,null,null,null,null,null,null,null,null,null,null,null,null,null,null,null,null,null,null,null,null,null,null,null,null,null,null,null,null,null,null,null,null,null,null,null,null,null,null,null,null,null,null,null,null,null,null,null,null,null,null,null,null,null,null,null,null,null,null,null,null,null,null,null,null,null,null,null,null,null,null,null,null,null,null,null,null,null,null,null,null,null,null,null,null,null,null,null,null,null,null,null,null,null,null,null,null,null,null,null,null,null,null,null,null,null,null,null,null,null,null,null,null,null,null,null,null,null,null,null,null,null,null,null,null,null,null,null,null,null,null,null,null,null,null,null,null,null,null,null,null,null,null,null,null,null,null,null,null,null,null,null,null,null,null,null,null,null,null,null,null,null,null,null,null,null,null,null,null,null,null,null,null,null,null,null,null,null,null,null,null,null,null,null,null,null,null,null,null,null,null,null,null,null,null,null,null,null,null,null,null,null,null,null,null,null,null,null,null,null,null,null,null,null,null,null,null,null,null,null,null,null,null,null,null,null,null,null,null,null,null,null,null,null,null,null,null,null,null,null,null,null,null,null,null,null,null,null,null,null,null,null,null,null,null,null,null,null,null,null,null,null,null,null,null,null,null,null,null,null,null,null,null,null,null,null,null,null,null,null,null,null,null,null,null,null,null,null,null,null,null,null,null,null,null,null,null,null,null,null,null,null,null,null,null,null,null,null,null,null,null,null,null,null,null,null,null,null,null,null,null,null,null,null,null,null,null,null,null,null,null,null,null,null,null,null,null,null,null,null,null,null,null,null,null,null,null,null,null,null,null,null,null,null,null,null,null,null,null,null,null,null,null,null,null,null,null,null,null,null,null,null,null,null,null,null,null,null,null,null,null,null,null,null,null,null,null,null,null,null,null,null,null,null,null,null,null,null,null,null,null,null,null,null,null,null,null,null,null,null,null,null,null,null,null,null,null,null,null,null,null,null,null,null,null,null,null,null,null,null,null,null,null,null,null,null,null,null,null,null,null,null,null,null,null,null,null,null,null,null,null,null,null,null,null,null,null,null,null,null,null,null,null,null,null,null,null,null,null,null,null,null,null,null,null,null,null,null,null,null,null,null,null,null,null,null,null,null,null,null,null,null,null,null,null,null,null,null,null,null,null,null,null,null,null,null,null,null,null,null,null,null,null,null,null,null,null,null,null,null,null,null,null,null,null,null,null,null,null,null,null,null,null,null,null,null,null,null,null,null,null,null,null,null,null,null,null,null,null,null,null,null,null,null,null,null,null,null,null,null,null,null,null,null,null,null,null,null,null,null,null,null,null,null,null,null,null,null,null,null,null,null,null,null,null,null,null,null,null,null,null,null,null,null,null,null,null,null,null,null,null,null,null,null,null,null,null,null,null,null,null,null,null,null,null,null,null,null,null,null,null,null,null,null,null,null,null,null,null,null,null,null,null,null,null,null,null,null,null,null,null,null,null,null,null,null,null,null,null,null,null,null,null,null,null,null,null,null,null,null,null,null,null,null,null,null,null,null,null,null,null,null,null,null,null,null,null,null,null,null,null,null,null,null,null,null,null,null,null,null,null,null,null,null,null,null,null,null,null,null,null,null,null,null,null,null,null,null,null,null,null,null,null,null,null,null,null,null,null,null,null,null,null,null,null,null,null,null,null,null,null,null,null,null,null,null,null,null,null,null,null,null,null,null,null,null,null,null,null,null,null,null,null,null,null,null,null,null,null,null,null,null,null,null,null,null,null,null,null,null,null,null,null,null,null,null,null,null,null,null,null,null,null,null,null,null,null,null,null,null,null,null,null,null,null,null,null,null,null,null,null,null,null,null,null,null,null,null,null,null,null,null,null,null,null,null,null,null,null,null,null,null,null,null,null,null,null,null,null,null,null,null,null,null,null,null,null,null,null,null,null,null,null,null,null,null,null,null,null,null,null,null,null,null,null,null,null,null,null,null,null,null,null,null,null,null,null,null,null,null,null,null,null,null,null,null,null,null,null,null,null,null,null,null,null,null,null,null,null,null,null,null,null,null,null,null,null,null,null,null,null,null,null,null,null,null,null,null,null,null,null,null,null,null,null,null,null,null,null,null,null,null,null,null,null,null,null,null,null,null,null,null,null,null,null,null,null,null,null,null,null,null,null,null,null,null,null,null,null,null,null,null,null,null,null,null,null,null,null,null,null,null,null,null,null,null,null,null,null,null,null,null,null,null,null,null,null,null,null,null,null,null,null,null,null,null,null,null,null,null,null,null,null,null,null,null,null,null,null,null,null,null,null,null,null,null,null,null,null,null,null,null,null,null,null,null,null,null,null,null,null,null,null,null,null,null,null,null,null,null,null,null,null,null,null,null,null,null,null,null,null,null,null,null,null,null,null,null,null,null,null,null,null,null,null,null,null,null,null,null,null,null,null,null,null,null,null,null,null,null,null,null,null,null,null,null,null,null,null,null,null,null,null,null,null,null,null,null,null,null,null,null,null,null,null,null,null,null,null,null,null,null,null,null,null,null,null,null,null,null,null,null,null,null,null,null,null,null,null,null,null,null,null,null,null,null,null,null,null,null,null,null,null,null,null,null,null,null,null,null,null,null,null,null,null,null,null,null,null,null,null,null,null,null,null,null,null,null,null,null,null,null,null,null,null,null,null,null,null,null,null,null,null,null,null,null,null,null,null,null,null,null,null,null,null,null,null,null,null,null,null,null,null,null,null,null,null,null,null,null,null,null,null,null,null,null,null,null,null,null,null,null,null,null,null,null,null,null,null,null,null,null,null,null,null,null,null,null,null,null,null,null,null,null,null,null,null,null,null,null,null,null,null,null,null,null,null,null,null,null,null,null,null,null,null,null,null,null,null,null,null,null,null,null,null,null,null,null,null,null,null,null,null,null,null,null,null,null,null,null,null,null,null,null,null,null,null,null,null,null,null,null,null,null,null,null,null,null,null,null,null,null,null,null,null,null,null,null,null,null,null,null,null,null,null,null,null,null,null,null,null,null,null,null,null,null,null,null,null,null,null,null,null,null,null,null,null,null,null,null,null,null,null,null,null,null,null,null,null,null,null,null,null,null,null,null,null,null,null,null,null,null,null,null,null,null,null,null,null,null,null,null,null,null,null,null,null,null,null,null,null,null,null,null,null,null,null,null,null,null,null,null,null,null,null,null,null,null,null,null,null,null,null,null,null,null,null,null,null,null,null,null,null,null,null,null,null,null,null,null,null,null,null,null,null,null,null,null,null,null,null,null,null,null,null,null,null,null,null,null,null,null,null,null,null,null,null,null,null,null,null,null,null,null,null,null,null,null,null,null,null,null,null,null,null,null,null,null,null,null,null,null,null,null,null,null,null,null,null,null,null,null,null,null,null,null,null,null,null,null,null,null,null,null,null,null,null,null,null,null,null,null,null,null,null,null,null,null,null,null,null,null,null,null,null,null,null,null,null,null,null,null,null,null,null,null,null,null,null,null,null,null,null,null,null,null,null,null,null,null,null,null,null,null,null,null,null,null,null,null,null,null,null,null,null,null,null,null,null,null,null,null,null,null,null,null,null,null,null,null,null,null,null,null,null,null,null,null,null,null,null,null,null,null,null,null,null,null,null,null,null,null,null,null,null,null,null,null,null,null,null,null,null,null,null,null,null,null,null,null,null,null,null,null,null,null,null,null,null,null,null,null,null,null,null,null,null,null,null,null,null,null,null,null,null,null,null,null,null,null,null,null,null,null,null,null,null,null,null,null,null,null,null,null,null,null,null,null,null,null,null,null,null,null,null,null,null,null,null,null,null,null,null,null,null,null,null,null,null,null,null,null,null,null,null,null,null,null,null,null,null,null,null,null,null,null,null,null,null,null,null,null,null,null,null,null,null,null,null,null,null,null,null,null,null,null,null,null,null,null,null,null,null,null,null,null,null,null,null,null,null,null,null,null,null,null,null,null,null,null,null,null,null,null,null,null,null,null,null,null,null,null,null,null,null,null,null,null,null,null,null,null,null,null,null,null,null,null,null,null,null,null,null,null,null,null,null,null,null,null,null,null,null,null,null,null,null,null,null,null,null,null,null,null,null,null,null,null,null,null,null,null,null,null,null,null,null,null,null,null,null,null,null,null,null,null,null,null,null,null,null,null,null,null,null,null,null,null,null,null,null,null,null,null,null,null,null,null,null,null,null,null,null,null,null,null,null,null,null,null,null,null,null,null,null,null,null,null,null,null,null,null,null,null,null,null,null,null,null,null,null,null,null,null,null,null,null,null,null,null,null,null,null,null,null,null,null,null,null,null,null,null,null,null,null,null,null,null,null,null,null,null,null,null,null,null,null,null,null,null,null,null,null,null,null,null,null,null,null,null,null,null,null,null,null,null,null,null,null,null,null,null,null,null,null,null,null,null,null,null,null,null,null,null,null,null,null,null,null,null,null,null,null,null,null,null,null,null,null,null,null,null,null,null,null,null,null,null,null,null,null,null,null,null,null,null,null,null,null,null,null,null,null,null,null,null,null,null,null,null,null,null,null,null,null,null,null,null,null,null,null,null,null,null,null,null,null,null,null,null,null,null,null,null,null,null,null,null,null,null,null,null,null,null,null,null,null,null,null,null,null,null,null,null,null,null,null,null,null,null,null,null,null,null,null,null,null,null,null,null,null,null,null,null,null,null,null,null,null,null,null,null,null,null,null,null,null,null,null,null,null,null,null,null,null,null,null,null,null,null,null,null,null,null,null,null,null,null,null,null,null,null,null,null,null,null,null,null,null,null,null,null,null,null,null,null,null,null,null,null,null,null,null,null,null,null,null,null,null,null,null,null,null,null,null,null,null,null,null,null,null,null,null,null,null,null,null,null,null,null,null,null,null,null,null,null,null,null,null,null,null,null,null,null,null,null,null,null,null,null,null,null,null,null,null,null,null,null,null,null,null,null,null,null,null,null,null,null,null,null,null,null,null,null,null,null,null,null,null,null,null,null,null,null,null,null,null,null,null,null,null,null,null,null,null,null,null,null,null,null,null,null,null,null,null,null,null,null,null,null,null,null,null,null,null,null,null,null,null,null,null,null,null,null,null,null,null,null,null,null,null,null,null,null,null,null,null,null,null,null,null,null,null,null,null,null,null,null,null,null,null,null,null,null,null,null,null,null,null,null,null,null,null,null,null,null,null,null,null,null,null,null,null,null,null,null,null,null,null,null,null,null,null,null,null,null,null,null,null,null,null,null,null,null,null,null,null,null,null,null,null,null,null,null,null,null,null,null,null,null,null,null,null,null,null,null,null,null,null,null,null,null,null,null,null,null,null,null,null,null,null,null,null,null,null,null,null,null,null,null,null,null,null,null,null,null,null,null,null,null,null,null,null,null,null,null,null,null,null,null,null,null,null,null,null,null,null,null,null,null,null,null,null,null,null,null,null,null,null,null,null,null,null,null,null,null,null,null,null,null,null,null,null,null,null,null,null,null,null,null,null,null,null,null,null,null,null,null,null,null,null,null,null,null,null,null,null,null,null,null,null,null,null,null,null,null,null,null,null,null,null,null,null,null,null,null,null,null,null,null,null,null,null,null,null,null,null,null,null,null,null,null,null,null,null,null,null,null,null,null,null,null,null,null,null,null,null,null,null,null,null,null,null,null,null,null,null,null,null,null,null,null,null,null,null,null,null,null,null,null,null,null,null,null,null,null,null,null,null,null,null,null,null,null,null,null,null,null,null,null,null,null,null,null,null,null,null,null,null,null,null,null,null,null,null,null,null,null,null,null,null,null,null,null,null,null,null,null,null,null,null,null,null,null,null,null,null,null,null,null,null,null,null,null,null,null,null,null,null,null,null,null,null,null,null,null,null,null,null,null,null,null,null,null,null,null,null,null,null,null,null,null,null,null,null,null,null,null,null,null,null,null,null,null,null,null,null,null,null,null,null,null,null,null,null,null,null,null,null,null,null,null,null,null,null,null,null,null,null,null,null,null,null,null,null,null,null,null,null,null,null,null,null,null,null,null,null,null,null,null,null,null,null,null,null,null,null,null,null,null,null,null,null,null,null,null,null,null,null,null,null,null,null,null,null,null,null,null,null,null,null,null,null,null,null,null,null,null,null,null,null,null,null,null,null,null,null,null,null,null,null,null,null,null,null,null,null,null,null,null,null,null,null,null,null,null,null,null,null,null,null,null,null,null,null,null,null,null,null,null,null,null,null,null,null,null,null,null,null,null,null,null,null,null,null,null,null,null,null,null,null,null,null,null,null,null,null,null,null,null,null,null,null,null,null,null,null,null,null,null,null,null,null,null,null,null,null,null,null,null,null,null,null,null,null,null,null,null,null,null,null,null,null,null,null,null,null,null,null,null,null,null,null,null,null,null,null,null,null,null,null,null,null,null,null,null,null,null,null,null,null,null,null,null,null,null,null,null,null,null,null,null,null,null,null,null,null,null,null,null,null,null,null,null,null,null,null,null,null,null,null,null,null,null,null,null,null,null,null,null,null,null,null,null,null,null,null,null,null,null,null,null,null,null,null,null,null,null,null,null,null,null,null,null,null,null,null,null,null,null,null,null,null,null,null,null,null,null,null,null,null,null,null,null,null,null,null,null,null,null,null,null,null,null,null,null,null,null,null,null,null,null,null,null,null,null,null,null,null,null,null,null,null,null,null,null,null,null,null,null,null,null,null,null,null,null,null,null,null,null,null,null,null,null,null,null,null,null,null,null,null,null,null,null,null,null,null,null,null,null,null,null,null,null,null,null,null,null,null,null,null,null,null,null,null,null,null,null,null,null,null,null,null,null,null,null,null,null,null,null,null,null,null,null,null,null,null,null,null,null,null,null,null,null,null,null,null,null,null,null,null,null,null,null,null,null,null,null,null,null,null,null,null,null,null,null,null,null,null,null,null,null,null,null,null,null,null,null,null,null,null,null,null,null,null,null,null,null,null,null,null,null,null,null,null,null,null,null,null,null,null,null,null,null,null,null,null,null,null,null,null,null,null,null,null,null,null,null,null,null,null,null,null,null,null,null,null,null,null,null,null,null,null,null,null,null,null,null,null,null,null,null,null,null,null,null,null,null,null,null,null,null,null,null,null,null,null,null,null,null,null,null,null,null,null,null,null,null,null,null,null,null,null,null,null,null,null,null,null,null,null,null,null,null,null,null,null,null,null,null,null,null,null,null,null,null,null,null,null,null,null,null,null,null,null,null,null,null,null,null,null,null,null,null,null,null,null,null,null,null,null,null,null,null,null,null,null,null,null,null,null,null,null,null,null,null,null,null,null,null,null,null,null,null,null,null,null,null,null,null,null,null,null,null,null,null,null,null,null,null,null,null,null,null,null,null,null,null,null,null,null,null,null,null,null,null,null,null,null,null,null,null,null,null,null,null,null,null,null,null,null,null,null,null,null,null,null,null,null,null,null,null,null,null,null,null,null,null,null,null,null,null,null,null,null,null,null,null,null,null,null,null,null,null,null,null,null,null,null,null,null,null,null,null,null,null,null,null,null,null,null,null,null,null,null,null,null,null,null,null,null,null,null,null,null,null,null,null,null,null,null,null,null,null,null,null,null,null,null,null,null,null,null,null,null,null,null,null,null,null,null,null,null,null,null,null,null,null,null,null,null,null,null,null,null,null,null,null,null,null,null,null,null,null,null,null,null,null,null,null,null,null,null,null,null,null,null,null,null,null,null,null,null,null,null,null,null,null,null,null,null,null,null,null,null,null,null,null,null,null,null,null,null,null,null,null,null,null,null,null,null,null,null,null,null,null,null,null,null,null,null,null,null,null,null,null,null,null,null,null,null,null,null,null,null,null,null,null,null,null,null,null,null,null,null,null,null,null,null,null,null,null,null,null,null,null,null,null,null,null,null,null,null,null,null,null,null,null,null,null,null,null,null,null,null,null,null,null,null,null,null,null,null,null,null,null,null,null,null,null,null,null,null,null,null,null,null,null,null,null,null,null,null,null,null,null,null,null,null,null,null,null,null,null,null,null,null,null,null,null,null,null,null,null,null,null,null,null,null,null,null,null,null,null,null,null,null,null,null,null,null,null,null,null,null,null,null,null,null,null,null,null,null,null,null,null,null,null,null,null,null,null,null,null,null,null,null,null,null,null,null,null,null,null,null,null,null,null,null,null,null,null,null,null,null,null,null,null,null,null,null,null,null,null,null,null,null,null,null,null,null,null,null,null,null,null,null,null,null,null,null,null,null,null,null,null,null,null,null,null,null,null,null,null,null,null,null,null,null,null,null,null,null,null,null,null,null,null,null,null,null,null,null,null,null,null,null,null,null,null,null,null,null,null,null,null,null,null,null,null,null,null,null,null,null,null,null,null,null,null,null,null,null,null,null,null,null,null,null,null,null,null,null,null,null,null,null,null,null,null,null,null,null,null,null,null,null,null,null,null,null,null,null,null,null,null,null,null,null,null,null,null,null,null,null,null,null,null,null,null,null,null,null,null,null,null,null,null,null,null,null,null,null,null,null,null,null,null,null,null,null,null,null,null,null,null,null,null,null,null,null,null,null,null,null,null,null,null,null,null,null,null,null,null,null,null,null,null,null,null,null,null,null,null,null,null,null,null,null,null,null,null,null,null,null,null,null,null,null,null,null,null,null,null,null,null,null,null,null,null,null,null,null,null,null,null,null,null,null,null,null,null,null,null,null,null,null,null,null,null,null,null,null,null,null,null,null,null,null,null,null,null,null,null,null,null,null,null,null,null,null,null,null,null,null,null,null,null,null,null,null,null,null,null,null,null,null,null,null,null,null,null,null,null,null,null,null,null,null,null,null,null,null,null,null,null,null,null,null,null,null,null,null,null,null,null,null,null,null,null,null,null,null,null,null,null,null,null,null,null,null,null,null,null,null,null,null,null,null,null,null,null,null,null,null,null,null,null,null,null,null,null,null,null,null,null,null,null,null,null,null,null,null,null,null,null,null,null,null,null,null,null,null,null,null,null,null,null,null,null,null,null,null,null,null,null,null,null,null,null,null,null,null,null,null,null,null,null,null,null,null,null,null,null,null,null,null,null,null,null,null,null,null,null,null,null,null,null,null,null,null,null,null,null,null,null,null,null,null,null,null,null,null,null,null,null,null,null,null,null,null,null,null,null,null,null,null,null,null,null,null,null,null,null,null,null,null,null,null,null,null,null,null,null,null,null,null,null,null,null,null,null,null,null,null,null,null,null,null,null,null,null,null,null,null,null,null,null,null,null,null,null,null,null,null,null,null,null,null,null,null,null,null,null,null,null,null,null,null,null,null,null,null,null,null,null,null,null,null,null,null,null,null,null,null,null,null,null,null,null,null,null,null,null,null,null,null,null,null,null,null,null,null,null,null,null,null,null,null,null,null,null,null,null,null,null,null,null,null,null,null,null,null,null,null,null,null,null,null,null,null,null,null,null,null,null,null,null,null,null,null,null,null,null,null,null,null,null,null,null,null,null,null,null,null,null,null,null,null,null,null,null,null,null,null,null,null,null,null,null,null,null,null,null,null,null,null,null,null,null,null,null,null,null,null,null,null,null,null,null,null,null,null,null,null,null,null,null,null,null,null,null,null,null,null,null,null,null,null,null,null,null,null,null,null,null,null,null,null,null,null,null,null,null,null,null,null,null,null,null,null,null,null,null,null,null,null,null,null,null,null,null,null,null,null,null,null,null,null,null,null,null,null,null,null,null,null,null,null,null,null,null,null,null,null,null,null,null,null,null,null,null,null,null,null,null,null,null,null,null,null,null,null,null,null,null,null,null,null,null,null,null,null,null,null,null,null,null,null,null,null,null,null,null,null,null,null,null,null,null,null,null,null,null,null,null,null,null,null,null,null,null,null,null,null,null,null,null,null,null,null,null,null,null,null,null,null,null,null,null,null,null,null,null,null,null,null,null,null,null,null,null,null,null,null,null,null,null,null,null,null,null,null,null,null,null,null,null,null,null,null,null,null,null,null,null,null,null,null,null,null,null,null,null,null,null,null,null,null,null,null,null,null,null,null,null,null,null,null,null,null,null,null,null,null,null,null,null,null,null,null,null,null,null,null,null,null,null,null,null,null,null,null,null,null,null,null,null,null,null,null,null,null,null,null,null,null,null,null,null,null,null,null,null,null,null,null,null,null,null,null,null,null,null,null,null,null,null,null,null,null,null,null,null,null,null,null,null,null,null,null,null,null,null,null,null,null,null,null,null,null,null,null,null,null,null,null,null,null,null,null,null,null,null,null,null,null,null,null,null,null,null,null,null,null,null,null,null,null,null,null,null,null,null,null,null,null,null,null,null,null,null,null,null,null,null,null,null,null,null,null,null,null,null,null,null,null,null,null,null,null,null,null,null,null,null,null,null,null,null,null,null,null,null,null,null,null,null,null,null,null,null,null,null,null,null,null,null,null,null,null,null,null,null,null,null,null,null,null,null,null,null,null,null,null,null,null,null,null,null,null,null,null,null,null,null,null,null,null,null,null,null,null,null,null,null,null,null,null,null,null,null,null,null,null,null,null,null,null,null,null,null,null,null,null,null,null,null,null,null,null,null,null,null,null,null,null,null,null,null,null,null,null,null,null,null,null,null,null,null,null,null,null,null,null,null,null,null,null,null,null,null,null,null,null,null,null,null,null,null,null,null,null,null,null,null,null,null,null,null,null,null,null,null,null,null,null,null,null,null,null,null,null,null,null,null,null,null,null,null,null,null,null,null,null,null,null,null,null,null,null,null,null,null,null,null,null,null,null,null,null,null,null,null,null,null,null,null,null,null,null,null,null,null,null,null,null,null,null,null,null,null,null,null,null,null,null,null,null,null,null,null,null,null,null,null,null,null,null,null,null,null,null,null,null,null,null,null,null,null,null,null,null,null,null,null,null,null,null,null,null,null,null,null,null,null,null,null,null,null,null,null,null,null,null,null,null,null,null,null,null,null,null,null,null,null,null,null,null,null,null,null,null,null,null,null,null,null,null,null,null,null,null,null,null,null,null,null,null,null,null,null,null,null,null,null,null,null,null,null,null,null,null,null,null,null,null,null,null,null,null,null,null,null,null,null,null,null,null,null,null,null,null,null,null,null,null,null,null,null,null,null,null,null,null,null,null,null,null,null,null,null,null,null,null,null,null,null,null,null,null,null,null,null,null,null,null,null,null,null,null,null,null,null,null,null,null,null,null,null,null,null,null,null,null,null,null,null,null,null,null,null,null,null,null,null,null,null,null,null,null,null,null,null,null,null,null,null,null,null,null,null,null,null,null,null,null,null,null,null,null,null,null,null,null,null,null,null,null,null,null,null,null,null,null,null,null,null,null,null,null,null,null,null,null,null,null,null,null,null,null,null,null,null,null,null,null,null,null,null,null,null,null,null,null,null,null,null,null,null,null,null,null,null,null,null,null,null,null,null,null,null,null,null,null,null,null,null,null,null,null,null,null,null,null,null,null,null,null,null,null,null,null,null,null,null,null,null,null,null,null,null,null,null,null,null,null,null,null,null,null,null,null,null,null,null,null,null,null,null,null,null,null,null,null,null,null,null,null,null,null,null,null,null,null,null,null,null,null,null,null,null,null,null,null,null,null,null,null,null,null,null,null,null,null,null,null,null,null,null,null,null,null,null,null,null,null,null,null,null,null,null,null,null,null,null,null,null,null,null,null,null,null,null,null,null,null,null,null,null,null,null,null,null,null,null,null,null,null,null,null,null,null,null,null,null,null,null,null,null,null,null,null,null,null,null,null,null,null,null,null,null,null,null,null,null,null,null,null,null,null,null,null,null,null,null,null,null,null,null,null,null,null,null,null,null,null,null,null,null,null,null,null,null,null,null,null,null,null,null,null,null,null,null,null,null,null,null,null,null,null,null,null,null,null,null,null,null,null,null,null,null,null,null,null,null,null,null,null,null,null,null,null,null,null,null,null,null,null,null,null,null,null,null,null,null,null,null,null,null,null,null,null,null,null,null,null,null,null,null,null,null,null,null,null,null,null,null,null,null,null,null,null,null,null,null,null,null,null,null,null,null,null,null,null,null,null,null,null,null,null,null,null,null,null,null,null,null,null,null,null,null,null,null,null,null,null,null,null,null,null,null,null,null,null,null,null,null,null,null,null,null,null,null,null,null,null,null,null,null,null,null,null,null,null,null,null,null,null,null,null,null,null,null,null,null,null,null,null,null,null,null,null,null,null,null,null,null,null,null,null,null,null,null,null,null,null,null,null,null,null,null,null,null,null,null,null,null,null,null,null,null,null,null,null,null,null,null,null,null,null,null,null,null,null,null,null,null,null,null,null,null,null,null,null,null,null,null,null,null,null,null,null,null,null,null,null,null,null,null,null,null,null,null,null,null,null,null,null,null,null,null,null,null,null,null,null,null,null,null,null,null,null,null,null,null,null,null,null,null,null,null,null,null,null,null,null,null,null,null,null,null,null,null,null,null,null,null,null,null,null,null,null,null,null,null,null,null,null,null,null,null,null,null,null,null,null,null,null,null,null,null,null,null,null,null,null,null,null,null,null,null,null,null,null,null,null,null,null,null,null,null,null,null,null,null,null,null,null,null,null,null,null,null,null,null,null,null,null,null,null,null,null,null,null,null,null,null,null,null,null,null,null,null,null,null,null,null,null,null,null,null,null,null,null,null,null,null,null,null,null,null,null,null,null,null,null,null,null,null,null,null,null,null,null,null,null,null,null,null,null,null,null,null,null,null,null,null,null,null,null,null,null,null,null,null,null,null,null,null,null,null,null,null,null,null,null,null,null,null,null,null,null,null,null,null,null,null,null,null,null,null,null,null,null,null,null,null,null,null,null,null,null,null,null,null,null,null,null,null,null,null,null,null,null,null,null,null,null,null,null,null,null,null,null,null,null,null,null,null,null,null,null,null,null,null,null,null,null,null,null,null,null,null,null,null,null,null,null,null,null,null,null,null,null,null,null,null,null,null,null,null,null,null,null,null,null,null,null,null,null,null,null,null,null,null,null,null,null,null,null,null,null,null,null,null,null,null,null,null,null,null,null,null,null,null,null,null,null,null,null,null,null,null,null,null,null,null,null,null,null,null,null,null,null,null,null,null,null,null,null,null,null,null,null,null,null,null,null,null,null,null,null,null,null,null,null,null,null,null,null,null,null,null,null,null,null,null,null,null,null,null,null,null,null,null,null,null,null,null,null,null,null,null,null,null,null,null,null,null,null,null,null,null,null,null,null,null,null,null,null,null,null,null,null,null,null,null,null,null,null,null,null,null,null,null,null,null,null,null,null,null,null,null,null,null,null,null,null,null,null,null,null,null,null,null,null,null,null,null,null,null,null,null,null,null,null,null,null,null,null,null,null,null,null,null,null,null,null,null,null,null,null,null,null,null,null,null,null,null,null,null,null,null,null,null,null,null,null,null,null,null,null,null,null,null,null,null,null,null,null,null,null,null,null,null,null,null,null,null,null,null,null,null,null,null,null,null,null,null,null,null,null,null,null,null,null,null,null,null,null,null,null,null,null,null,null,null,null,null,null,null,null,null,null,null,null,null,null,null,null,null,null,null,null,null,null,null,null,null,null,null,null,null,null,null,null,null,null,null,null,null,null,null,null,null,null,null,null,null,null,null,null,null,null,null,null,null,null,null,null,null,null,null,null,null,null,null,null,null,null,null,null,null,null,null,null,null,null,null,null,null,null,null,null,null,null,null,null,null,null,null,null,null,null,null,null,null,null,null,null,null,null,null,null,null,null,null,null,null,null,null,null,null,null,null,null,null,null,null,null,null,null,null,null,null,null,null,null,null,null,null,null,null,null,null,null,null,null,null,null,null,null,null,null,null,null,null,null,null,null,null,null,null,null,null,null,null,null,null,null,null,null,null,null,null,null,null,null,null,null,null,null,null,null,null,null,null,null,null,null,null,null,null,null,null,null,null,null,null,null,null,null,null,null,null,null,null,null,null,null,null,null,null,null,null,null,null,null,null,null,null,null,null,null,null,null,null,null,null,null,null,null,null,null,null,null,null,null,null,null,null,null,null,null,null,null,null,null,null,null,null,null,null,null,null,null,null,null,null,null,null,null,null,null,null,null,null,null,null,null,null,null,null,null,null,null,null,null,null,null,null,null,null,null,null,null,null,null,null,null,null,null,null,null,null,null,null,null,null,null,null,null,null,null,null,null,null,null,null,null,null,null,null,null,null,null,null,null,null,null,null,null,null,null,null,null,null,null,null,null,null,null,null,null,null,null,null,null,null,null,null,null,null,null,null,null,null,null,null,null,null,null,null,null,null,null,null,null,null,null,null,null,null,null,null,null,null,null,null,null,null,null,null,null,null,null,null,null,null,null,null,null,null,null,null,null,null,null,null,null,null,null,null,null,null,null,null,null,null,null,null,null,null,null,null,null,null,null,null,null,null,null,null,null,null,null,null,null,null,null,null,null,null,null,null,null,null,null,null,null,null,null,null,null,null,null,null,null,null,null,null,null,null,null,null,null,null,null,null,null,null,null,null,null,null,null,null,null,null,null,null,null,null,null,null,null,null,null,null,null,null,null,null,null,null,null,null,null,null,null,null,null,null,null,null,null,null,null,null,null,null,null,null,null,null,null,null,null,null,null,null,null,null,null,null,null,null,null,null,null,null,null,null,null,null,null,null,null,null,null,null,null,null,null,null,null,null,null,null,null,null,null,null,null,null,null,null,null,null,null,null,null,null,null,null,null,null,null,null,null,null,null,null,null,null,null,null,null,null,null,null,null,null,null,null,null,null,null,null,null,null,null,null,null,null,null,null,null,null,null,null,null,null,null,null,null,null,null,null,null,null,null,null,null,null,null,null,null,null,null,null,null,null,null,null,null,null,null,null,null,null,null,null,null,null,null,null,null,null,null,null,null,null,null,null,null,null,null,null,null,null,null,null,null,null,null,null,null,null,null,null,null,null,null,null,null,null,null,null,null,null,null,null,null,null,null,null,null,null,null,null,null,null,null,null,null,null,null,null,null,null,null,null,null,null,null,null,null,null,null,null,null,null,null,null,null,null,null,null,null,null,null,null,null,null,null,null,null,null,null,null,null,null,null,null,null,null,null,null,null,null,null,null,null,null,null,null,null,null,null,null,null,null,null,null,null,null,null,null,null,null,null,null,null,null,null,null,null,null,null,null,null,null,null,null,null,null,null,null,null,null,null,null,null,null,null,null,null,null,null,null,null,null,null,null,null,null,null,null,null,null,null,null,null,null,null,null,null,null,null,null,null,null,null,null,null,null,null,null,null,null,null,null,null,null,null,null,null,null,null,null,null,null,null,null,null,null,null,null,null,null,null,null,null,null,null,null,null,null,null,null,null,null,null,null,null,null,null,null,null,null,null,null,null,null,null,null,null,null,null,null,null,null,null,null,null,null,null,null,null,null,null,null,null,null,null,null,null,null,null,null,null,null,null,null,null,null,null,null,null,null,null,null,null,null,null,null,null,null,null,null,null,null,null,null,null,null,null,null,null,null,null,null,null,null,null,null,null,null,null,null,null,null,null,null,null,null,null,null,null,null,null,null,null,null,null,null,null,null,null,null,null,null,null,null,null,null,null,null,null,null,null,null,null,null,null,null,null,null,null,null,null,null,null,null,null,null,null,null,null,null,null,null,null,null,null,null,null,null,null,null,null,null,null,null,null,null,null,null,null,null,null,null,null,null,null,null,null,null,null,null,null,null,null,null,null,null,null,null,null,null,null,null,null,null,null,null,null,null,null,null,null,null,null,null,null,null,null,null,null,null,null,null,null,null,null,null,null,null,null,null,null,null,null,null,null,null,null,null,null,null,null,null,null,null,null,null,null,null,null,null,null,null,null,null,null,null,null,null,null,null,null,null,null,null,null,null,null,null,null,null,null,null,null,null,null,null,null,null,null,null,null,null,null,null,null,null,null,null,null,null,null,null,null,null,null,null,null,null,null,null,null,null,null,null,null,null,null,null,null,null,null,null,null,null,null,null,null,null,null,null,null,null,null,null,null,null,null,null,null,null,null,null,null,null,null,null,null,null,null,null,null,null,null,null,null,null,null,null,null,null,null,null,null,null,null,null,null,null,null,null,null,null,null,null,null,null,null,null,null,null,null,null,null,null,null,null,null,null,null,null,null,null,null,null,null,null,null,null,null,null,null,null,null,null,null,null,null,null,null,null,null,null,null,null,null,null,null,null,null,null,null,null,null,null,null,null,null,null,null,null,null,null,null,null,null,null,null,null,null,null,null,null,null,null,null,null,null,null,null,null,null,null,null,null,null,null,null,null,null,null,null,null,null,null,null,null,null,null,null,null,null,null,null,null,null,null,null,null,null,null,null,null,null,null,null,null,null,null,null,null,null,null,null,null,null,null,null,null,null,null,null,null,null,null,null,null,null,null,null,null,null,null,null,null,null,null,null,null,null,null,null,null,null,null,null,null,null,null,null,null,null,null,null,null,null,null,null,null,null,null,null,null,null,null,null,null,null,null,null,null,null,null,null,null,null,null,null,null,null,null,null,null,null,null,null,null,null,null,null,null,null,null,null,null,null,null,null,null,null,null,null,null,null,null,null,null,null,null,null,null,null,null,null,null,null,null,null,null,null,null,null,null,null,null,null,null,null,null,null,null,null,null,null,null,null,null,null,null,null,null,null,null,null,null,null,null,null,null,null,null,null,null,null,null,null,null,null,null,null,null,null,null,null,null,null,null,null,null,null,null,null,null,null,null,null,null,null,null,null,null,null,null,null,null,null,null,null,null,null,null,null,null,null,null,null,null,null,null,null,null,null,null,null,null,null,null,null,null,null,null,null,null,null,null,null,null,null,null,null,null,null,null,null,null,null,null,null,null,null,null,null,null,null,null,null,null,null,null,null,null,null,null,null,null,null,null,null,null,null,null,null,null,null,null,null,null,null,null,null,null,null,null,null,null,null,null,null,null,null,null,null,null,null,null,null,null,null,null,null,null,null,null,null,null,null,null,null,null,null,null,null,null,null,null,null,null,null,null,null,null,null,null,null,null,null,null,null,null,null,null,null,null,null,null,null,null,null,null,null,null,null,null,null,null,null,null,null,null,null,null,null,null,null,null,null,null,null,null,null,null,null,null,null,null,null,null,null,null,null,null,null,null,null,null,null,null,null,null,null,null,null,null,null,null,null,null,null,null,null,null,null,null,null,null,null,null,null,null,null,null,null,null,null,null,null,null,null,null,null,null,null,null,null,null,null,null,null,null,null,null,null,null,null,null,null,null,null,null,null,null,null,null,null,null,null,null,null,null,null,null,null,null,null,null,null,null,null,null,null,null,null,null,null,null,null,null,null,null,null,null,null,null,null,null,null,null,null,null,null,null,null,null,null,null,null,null,null,null,null,null,null,null,null,null,null,null,null,null,null,null,null,null,null,null,null,null,null,null,null,null,null,null,null,null,null,null,null,null,null,null,null,null,null,null,null,null,null,null,null,null,null,null,null,null,null,null,null,null,null,null,null,null,null,null,null,null,null,null,null,null,null,null,null,null,null,null,null,null,null,null,null,null,null,null,null,null,null,null,null,null,null,null,null,null,null,null,null,null,null,null,null,null,null,null,null,null,null,null,null,null,null,null,null,null,null,null,null,null,null,null,null,null,null,null,null,null,null,null,null,null,null,null,null,null,null,null,null,null,null,null,null,null,null,null,null,null,null,null,null,null,null,null,null,null,null,null,null,null,null,null,null,null,null,null,null,null,null,null,null,null,null,null,null,null,null,null,null,null,null,null,null,null,null,null,null,null,null,null,null,null,null,null,null,null,null,null,null,null,null,null,null,null,null,null,null,null,null,null,null,null,null,null,null,null,null,null,null,null,null,null,null,null,null,null,null,null,null,null,null,null,null,null,null,null,null,null,null,null,null,null,null,null,null,null,null,null,null,null,null,null,null,null,null,null,null,null,null,null,null,null,null,null,null,null,null,null,null,null,null,null,null,null,null,null,null,null,null,null,null,null,null,null,null,null,null,null,null,null,null,null,null,null,null,null,null,null,null,null,null,null,null,null,null,null,null,null,null,null,null,null,null,null,null,null,null,null,null,null,null,null,null,null,null,null,null,null,null,null,null,null,null,null,null,null,null,null,null,null,null,null,null,null,null,null,null,null,null,null,null,null,null,null,null,null,null,null,null,null,null,null,null,null,null,null,null,null,null,null,null,null,null,null,null,null,null,null,null,null,null,null,null,null,null,null,null,null,null,null,null,null,null,null,null,null,null,null,null,null,null,null,null,null,null,null,null,null,null,null,null,null,null,null,null,null,null,null,null,null,null,null,null,null,null,null,null,null,null,null,null,null,null,null,null,null,null,null,null,null,null,null,null,null,null,null,null,null,null,null,null,null,null,null,null,null,null,null,null,null,null,null,null,null,null,null,null,null,null,null,null,null,null,null,null,null,null,null,null,null,null,null,null,null,null,null,null,null,null,null,null,null,null,null,null,null,null,null,null,null,null,null,null,null,null,null,null,null,null,null,null,null,null,null,null,null,null,null,null,null,null,null,null,null,null,null,null,null,null,null,null,null,null,null,null,null,null,null,null,null,null,null,null,null,null,null,null,null,null,null,null,null,null,null,null,null,null,null,null,null,null,null,null,null,null,null,null,null,null,null,null,null,null,null,null,null,null,null,null,null,null,null,null,null,null,null,null,null,null,null,null,null,null,null,null,null,null,null,null,null,null,null,null,null,null,null,null,null,null,null,null,null,null,null,null,null,null,null,null,null,null,null,null,null,null,null,null,null,null,null,null,null,null,null,null,null,null,null,null,null,null,null,null,null,null,null,null,null,null,null,null,null,null,null,null,null,null,null,null,null,null,null,null,null,null,null,null,null,null,null,null,null,null,null,null,null,null,null,null,null,null,null,null,null,null,null,null,null,null,null,null,null,null,null,null,null,null,null,null,null,null,null,null,null,null,null,null,null,null,null,null,null,null,null,null,null,null,null,null,null,null,null,null,null,null,null,null,null,null,null,null,null,null,null,null,null,null,null,null,null,null,null,null,null,null,null,null,null,null,null,null,null,null,null,null,null,null,null,null,null,null,null,null,null,null,null,null,null,null,null,null,null,null,null,null,null,null,null,null,null,null,null,null,null,null,null,null,null,null,null,null,null,null,null,null,null,null,null,null,null,null,null,null,null,null,null,null,null,null,null,null,null,null,null,null,null,null,null,null,null,null,null,null,null,null,null,null,null,null,null,null,null,null,null,null,null,null,null,null,null,null,null,null,null,null,null,null,null,null,null,null,null,null,null,null,null,null,null,null,null,null,null,null,null,null,null,null,null,null,null,null,null,null,null,null,null,null,null,null,null,null,null,null,null,null,null,null,null,null,null,null,null,null,null,null,null,null,null,null,null,null,null,null,null,null,null,null,null,null,null,null,null,null,null,null,null,null,null,null,null,null,null,null,null,null,null,null,null,null,null,null,null,null,null,null,null,null,null,null,null,null,null,null,null,null,null,null,null,null,null,null,null,null,null,null,null,null,null,null,null,null,null,null,null,null,null,null,null,null,null,null,null,null,null,null,null,null,null,null,null,null,null,null,null,null,null,null,null,null,null,null,null,null,null,null,null,null,null,null,null,null,null,null,null,null,null,null,null,null,null,null,null,null,null,null,null,null,null,null,null,null,null,null,null,null,null,null,null,null,null,null,null,null,null,null,null,null,null,null,null,null,null,null,null,null,null,null,null,null,null,null,null,null,null,null,null,null,null,null,null,null,null,null,null,null,null,null,null,null,null,null,null,null,null,null,null,null,null,null,null,null,null,null,null,null,null,null,null,null,null,null,null,null,null,null,null,null,null,null,null,null,null,null,null,null,null,null,null,null,null,null,null,null,null,null,null,null,null,null,null,null,null,null,null,null,null,null,null,null,null,null,null,null,null,null,null,null,null,null,null,null,null,null,null,null,null,null,null,null,null,null,null,null,null,null,null,null,null,null,null,null,null,null,null,null,null,null,null,null,null,null,null,null,null,null,null,null,null,null,null,null,null,null,null,null,null,null,null,null,null,null,null,null,null,null,null,null,null,null,null,null,null,null,null,null,null,null,null,null,null,null,null,null,null,null,null,null,null,null,null,null,null,null,null,null,null,null,null,null,null,null,null,null,null,null,null,null,null,null,null,null,null,null,null,null,null,null,null,null,null,null,null,null,null,null,null,null,null,null,null,null,null,null,null,null,null,null,null,null,null,null,null,null,null,null,null,null,null,null,null,null,null,null,null,null,null,null,null,null,null,null,null,null,null,null,null,null,null,null,null,null,null,null,null,null,null,null,null,null,null,null,null,null,null,null,null,null,null,null,null,null,null,null,null,null,null,null,null,null,null,null,null,null,null,null,null,null,null,null,null,null,null,null,null,null,null,null,null,null,null,null,null,null,null,null,null,null,null,null,null,null,null,null,null,null,null,null,null,null,null,null,null,null,null,null,null,null,null,null,null,null,null,null,null,null,null,null,null,null,null,null,null,null,null,null,null,null,null,null,null,null,null,null,null,null,null,null,null,null,null,null,null,null,null,null,null,null,null,null,null,null,null,null,null,null,null,null,null,null,null,null,null,null,null,null,null,null,null,null,null,null,null,null,null,null,null,null,null,null,null,null,null,null,null,null,null,null,null,null,null,null,null,null,null,null,null,null,null,null,null,null,null,null,null,null,null,null,null,null,null,null,null,null,null,null,null,null,null,null,null,null,null,null,null,null,null,null,null,null,null,null,null,null,null,null,null,null,null,null,null,null,null,null,null,null,null,null,null,null,null,null,null,null,null,null,null,null,null,null,null,null,null,null,null,null,null,null,null,null,null,null,null,null,null,null,null,null,null,null,null,null,null,null,null,null,null,null,null,null,null,null,null,null,null,null,null,null,null,null,null,null,null,null,null,null,null,null,null,null,null,null,null,null,null,null,null,null,null,null,null,null,null,null,null,null,null,null,null,null,null,null,null,null,null,null,null,null,null,null,null,null,null,null,null,null,null,null,null,null,null,null,null,null,null,null,null,null,null,null,null,null,null,null,null,null,null,null,null,null,null,null,null,null,null,null,null,null,null,null,null,null,null,null,null,null,null,null,null,null,null,null,null,null,null,null,null,null,null,null,null,null,null,null,null,null,null,null,null,null,null,null,null,null,null,null,null,null,null,null,null,null,null,null,null,null,null,null,null,null,null,null,null,null,null,null,null,null,null,null,null,null,null,null,null,null,null,null,null,null,null,null,null,null,null,null,null,null,null,null,null,null,null,null,null,null,null,null,null,null,null,null,null,null,null,null,null,null,null,null,null,null,null,null,null,null,null,null,null,null,null,null,null,null,null,null,null,null,null,null,null,null,null,null,null,null,null,null,null,null,null,null,null,null,null,null,null,null,null,null,null,null,null,null,null,null,null,null,null,null,null,null,null,null,null,null,null,null,null,null,null,null,null,null,null,null,null,null,null,null,null,null,null,null,null,null,null,null,null,null,null,null,null,null,null,null,null,null,null,null,null,null,null,null,null,null,null,null,null,null,null,null,null,null,null,null,null,null,null,null,null,null,null,null,null,null,null,null,null,null,null,null,null,null,null,null,null,null,null,null,null,null,null,null,null,null,null,null,null,null,null,null,null,null,null,null,null,null,null,null,null,null,null,null,null,null,null,null,null,null,null,null,null,null,null,null,null,null,null,null,null,null,null,null,null,null,null,null,null,null,null,null,null,null,null,null,null,null,null,null,null,null,null,null,null,null,null,null,null,null,null,null,null,null,null,null,null,null,null,null,null,null,null,null,null,null,null,null,null,null,null,null,null,null,null,null,null,null,null,null,null,null,null,null,null,null,null,null,null,null,null,null,null,null,null,null,null,null,null,null,null,null,null,null,null,null,null,null,null,null,null,null,null,null,null,null,null,null,null,null,null,null,null,null,null,null,null,null,null,null,null,null,null,null,null,null,null,null,null,null,null,null,null,null,null,null,null,null,null,null,null,null,null,null,null,null,null,null,null,null,null,null,null,null,null,null,null,null,null,null,null,null,null,null,null,null,null,null,null,null,null,null,null,null,null,null,null,null,null,null,null,null,null,null,null,null,null,null,null,null,null,null,null,null,null,null,null,null,null,null,null,null,null,null,null,null,null,null,null,null,null,null,null,null,null,null,null,null,null,null,null,null,null,null,null,null,null,null,null,null,null,null,null,null,null,null,null,null,null,null,null,null,null,null,null,null,null,null,null,null,null,null,null,null,null,null,null,null,null,null,null,null,null,null,null,null,null,null,null,null,null,null,null,null,null,null,null,null,null,null,null,null,null,null,null,null,null,null,null,null,null,null,null,null,null,null,null,null,null,null,null,null,null,null,null,null,null,null,null,null,null,null,null,null,null,null,null,null,null,null,null,null,null,null,null,null,null,null,null,null,null,null,null,null,null,null,null,null,null,null,null,null,null,null,null,null,null,null,null,null,null,null,null,null,null,null,null,null,null,null,null,null,null,null,null,null,null,null,null,null,null,null,null,null,null,null,null,null,null,null,null,null,null,null,null,null,null,null,null,null,null,null,null,null,null,null,null,null,null,null,null,null,null,null,null,null,null,null,null,null,null,null,null,null,null,null,null,null,null,null,null,null,null,null,null,null,null,null,null,null,null,null,null,null,null,null,null,null,null,null,null,null,null,null,null,null,null,null,null,null,null,null,null,null,null,null,null,null,null,null,null,null,null,null,null,null,null,null,null,null,null,null,null,null,null,null,null,null,null,null,null,null,null,null,null,null,null,null,null,null,null,null,null,null,null,null,null,null,null,null,null,null,null,null,null,null,null,null,null,null,null,null,null,null,null,null,null,null,null,null,null,null,null,null,null,null,null,null,null,null,null,null,null,null,null,null,null,null,null,null,null,null,null,null,null,null,null,null,null,null,null,null,null,null,null,null,null,null,null,null,null,null,null,null,null,null,null,null,null,null,null,null,null,null,null,null,null,null,null,null,null,null,null,null,null,null,null,null,null,null,null,null,null,null,null,null,null,null,null,null,null,null,null,null,null,null,null,null,null,null,null,null,null,null,null,null,null,null,null,null,null,null,null,null,null,null,null,null,null,null,null,null,null,null,null,null,null,null,null,null,null,null,null,null,null,null,null,null,null,null,null,null,null,null,null,null,null,null,null,null,null,null,null,null,null,null,null,null,null,null,null,null,null,null,null,null,null,null,null,null,null,null,null,null,null,null,null,null,null,null,null,null,null,null,null,null,null,null,null,null,null,null,null,null,null,null,null,null,null,null,null,null,null,null,null,null,null,null,null,null,null,null,null,null,null,null,null,null,null,null,null,null,null,null,null,null,null,null,null,null,null,null,null,null,null,null,null,null,null,null,null,null,null,null,null,null,null,null,null,null,null,null,null,null,null,null,null,null,null,null,null,null,null,null,null,null,null,null,null,null,null,null,null,null,null,null,null,null,null,null,null,null,null,null,null,null,null,null,null,null,null,null,null,null,null,null,null,null,null,null,null,null,null,null,null,null,null,null,null,null,null,null,null,null,null,null,null,null,null,null,null,null,null,null,null,null,null,null,null,null,null,null,null,null,null,null,null,null,null,null,null,null,null,null,null,null,null,null,null,null,null,null,null,null,null,null,null,null,null,null,null,null,null,null,null,null,null,null,null,null,null,null,null,null,null,null,null,null,null,null,null,null,null,null,null,null,null,null,null,null,null,null,null,null,null,null,null,null,null,null,null,null,null,null,null,null,null,null,null,null,null,null,null,null,null,null,null,null,null,null,null,null,null,null,null,null,null,null,null,null,null,null,null,null,null,null,null,null,null,null,null,null,null,null,null,null,null,null,null,null,null,null,null,null,null,null,null,null,null,null,null,null,null,null,null,null,null,null,null,null,null,null,null,null,null,null,null,null,null,null,null,null,null,null,null,null,null,null,null,null,null,null,null,null,null,null,null,null,null,null,null,null,null,null,null,null,null,null,null,null,null,null,null,null,null,null,null,null,null,null,null,null,null,null,null,null,null,null,null,null,null,null,null,null,null,null,null,null,null,null,null,null,null,null,null,null,null,null,null,null,null,null,null,null,null,null,null,null,null,null,null,null,null,null,null,null,null,null,null,null,null,null,null,null,null,null,null,null,null,null,null,null,null,null,null,null,null,null,null,null,null,null,null,null,null,null,null,null,null,null,null,null,null,null,null,null,null,null,null,null,null,null,null,null,null,null,null,null,null,null,null,null,null,null,null,null,null,null,null,null,null,null,null,null,null,null,null,null,null,null,null,null,null,null,null,null,null,null,null,null,null,null,null,null,null,null,null,null,null,null,null,null,null,null,null,null,null,null,null,null,null,null,null,null,null,null,null,null,null,null,null,null,null,null,null,null,null,null,null,null,null,null,null,null,null,null,null,null,null,null,null,null,null,null,null,null,null,null,null,null,null,null,null,null,null,null,null,null,null,null,null,null,null,null,null,null,null,null,null,null,null,null,null,null,null,null,null,null,null,null,null,null,null,null,null,null,null,null,null,null,null,null,null,null,null,null,null,null,null,null,null,null,null,null,null,null,null,null,null,null,null,null,null,null,null,null,null,null,null,null,null,null,null,null,null,null,null,null,null,null,null,null,null,null,null,null,null,null,null,null,null,null,null,null,null,null,null,null,null,null,null,null,null,null,null,null,null,null,null,null,null,null,null,null,null,null,null,null,null,null,null,null,null,null,null,null,null,null,null,null,null,null,null,null,null,null,null,null,null,null,null,null,null,null,null,null,null,null,null,null,null,null,null,null,null,null,null,null,null,null,null,null,null,null,null,null,null,null,null,null,null,null,null,null,null,null,null,null,null,null,null,null,null,null,null,null,null,null,null,null,null,null,null,null,null,null,null,null,null,null,null,null,null,null,null,null,null,null,null,null,null,null,null,null,null,null,null,null,null,null,null,null,null,null,null,null,null,null,null,null,null,null,null,null,null,null,null,null,null,null,null,null,null,null,null,null,null,null,null,null,null,null,null,null,null,null,null,null,null,null,null,null,null,null,null,null,null,null,null,null,null,null,null,null,null,null,null,null,null,null,null,null,null,null,null,null,null,null,null,null,null,null,null,null,null,null,null,null,null,null,null,null,null,null,null,null,null,null,null,null,null,null,null,null,null,null,null,null,null,null,null,null,null,null,null,null,null,null,null,null,null,null,null,null,null,null,null,null,null,null,null,null,null,null,null,null,null,null,null,null,null,null,null,null,null,null,null,null,null,null,null,null,null,null,null,null,null,null,null,null,null,null,null,null,null,null,null,null,null,null,null,null,null,null,null,null,null,null,null,null,null,null,null,null,null,null,null,null,null,null,null,null,null,null,null,null,null,null,null,null,null,null,null,null,null,null,null,null,null,null,null,null,null,null,null,null,null,null,null,null,null,null,null,null,null,null,null,null,null,null,null,null,null,null,null,null,null,null,null,null,null,null,null,null,null,null,null,null,null,null,null,null,null,null,null,null,null,null,null,null,null,null,null,null,null,null,null,null,null,null,null,null,null,null,null,null,null,null,null,null,null,null,null,null,null,null,null,null,null,null,null,null,null,null,null,null,null,null,null,null,null,null,null,null,null,null,null,null,null,null,null,null,null,null,null,null,null,null,null,null,null,null,null,null,null,null,null,null,null,null,null,null,null,null,null,null,null,null,null,null,null,null,null,null,null,null,null,null,null,null,null,null,null,null,null,null,null,null,null,null,null,null,null,null,null,null,null,null,null,null,null,null,null,null,null,null,null,null,null,null,null,null,null,null,null,null,null,null,null,null,null,null,null,null,null,null,null,null,null,null,null,null,null,null,null,null,null,null,null,null,null,null,null,null,null,null,null,null,null,null,null,null,null,null,null,null,null,null,null,null,null,null,null,null,null,null,null,null,null,null,null,null,null,null,null,null,null,null,null,null,null,null,null,null,null,null,null,null,null,null,null,null,null,null,null,null,null,null,null,null,null,null,null,null,null,null,null,null,null,null,null,null,null,null,null,null,null,null,null,null,null,null,null,null,null,null,null,null,null,null,null,null,null,null,null,null,null,null,null,null,null,null,null,null,null,null,null,null,null,null,null,null,null,null,null,null,null,null,null,null,null,null,null,null,null,null,null,null,null,null,null,null,null,null,null,null,null,null,null,null,null,null,null,null,null,null,null,null,null,null,null,null,null,null,null,null,null,null,null,null,null,null,null,null,null,null,null,null,null,null,null,null,null,null,null,null,null,null,null,null,null,null,null,null,null,null,null,null,null,null,null,null,null,null,null,null,null,null,null,null,null,null,null,null,null,null,null,null,null,null,null,null,null,null,null,null,null,null,null,null,null,null,null,null,null,null,null,null,null,null,null,null,null,null,null,null,null,null,null,null,null,null,null,null,null,null,null,null,null,null,null,null,null,null,null,null,null,null,null,null,null,null,null,null,null,null,null,null,null,null,null,null,null,null,null,null,null,null,null,null,null,null,null,null,null,null,null,null,null,null,null,null,null,null,null,null,null,null,null,null,null,null,null,null,null,null,null,null,null,null,null,null,null,null,null,null,null,null,null,null,null,null,null,null,null,null,null,null,null,null,null,null,null,null,null,null,null,null,null,null,null,null,null,null,null,null,null,null,null,null,null,null,null,null,null,null,null,null,null,null,null,null,null,null,null,null,null,null,null,null,null,null,null,null,null,null,null,null,null,null,null,null,null,null,null,null,null,null,null,null,null,null,null,null,null,null,null,null,null,null,null,null,null,null,null,null,null,null,null,null,null,null,null,null,null,null,null,null,null,null,null,null,null,null,null,null,null,null,null,null,null,null,null,null,null,null,null,null,null,null,null,null,null,null,null,null,null,null,null,null,null,null,null,null,null,null,null,null,null,null,null,null,null,null,null,null,null,null,null,null,null,null,null,null,null,null,null,null,null,null,null,null,null,null,null,null,null,null,null,null,null,null,null,null,null,null,null,null,null,null,null,null,null,null,null,null,null,null,null,null,null,null,null,null,null,null,null,null,null,null,null,null,null,null,null,null,null,null,null,null,null,null,null,null,null,null,null,null,null,null,null,null,null,null,null,null,null,null,null,null,null,null,null,null,null,null,null,null,null,null,null,null,null,null,null,null,null,null,null,null,null,null,null,null,null,null,null,null,null,null,null,null,null,null,null,null,null,null,null,null,null,null,null,null,null,null,null,null,null,null,null,null,null,null,null,null,null,null,null,null,null,null,null,null,null,null,null,null,null,null,null,null,null,null,null,null,null,null,null,null,null,null,null,null,null,null,null,null,null,null,null,null,null,null,null,null,null,null,null,null,null,null,null,null,null,null,null,null,null,null,null,null,null,null,null,null,null,null,null,null,null,null,null,null,null,null,null,null,null,null,null,null,null,null,null,null,null,null,null,null,null,null,null,null,null,null,null,null,null,null,null,null,null,null,null,null,null,null,null,null,null,null,null,null,null,null,null,null,null,null,null,null,null,null,null,null,null,null,null,null,null,null,null,null,null,null,null,null,null,null,null,null,null,null,null,null,null,null,null,null,null,null,null,null,null,null,null,null,null,null,null,null,null,null,null,null,null,null,null,null,null,null,null,null,null,null,null,null,null,null,null,null,null,null,null,null,null,null,null,null,null,null,null,null,null,null,null,null,null,null,null,null,null,null,null,null,null,null,null,null,null,null,null,null,null,null,null,true,null,null,null,0,2158758,9041872,15773696,10086143,15773696,255,0,0,0,"$",null,null,null,null,1,"D",1,1,1,1,null,1,1,1,1,1,null,1,"ISO",1,16,0,1,1,"10E6A",8,0,"DDD DD\\-MMM\\-YY",1,1,0,"ANDRIEUX","<^W_\\&qG]}wH+%%L/XTK8dXexWc+a$","TR7*{0QN",null,0,25,10,"Task",0,0,0,12566463,16777164,"UE6bee2896-3c9f-4633-a1ab-06395a5ca313","ewiHH|Tsivw=lvj-v83{a` 4>a","manual","simple"]
[]
[]
[]
[null,null,null,null,null,null,"Project Name",null,null,null,null,null,null,null,null,null,null,null,null,null,null,null,null,null,null,null,null,null,"2016-01-18","2016-01-19","2016-01-20","2016-01-21","2016-01-22","2016-01-23","2016-01-24","2016-01-25","2016-01-26","2016-01-27","2016-01-28","2016-01-29","2016-01-30","2016-01-31","2016-02-01","2016-02-02","2016-02-03","2016-02-04","2016-02-05","2016-02-06","2016-02-07","2016-02-08","2016-02-09","2016-02-10","2016-02-11","2016-02-12","2016-02-13","2016-02-14","2016-02-15","2016-02-16","2016-02-17","2016-02-18","2016-02-19","2016-02-20","2016-02-21","2016-02-22","2016-02-23","2016-02-24","2016-02-25","2016-02-26","2016-02-27","2016-02-28","2016-02-29","2016-03-01","2016-03-02","2016-03-03","2016-03-04","2016-03-05","2016-03-06","2016-03-07","2016-03-08","2016-03-09","2016-03-10","2016-03-11","2016-03-12","2016-03-13","2016-03-14"]
[null,null,null,null,null,null,"Project Lead: sfsfsfsfsfssdfsf",null,null,null,null,null,null,null,null,null,null,null,null,null,null,null,null,null,null,null,null,null,"Jan-16            [W4]",null,null,null,null,null,null,"Jan-16            [W5]",null,null,null,null,null,null,"Feb-16            [W6]",null,null,null,null,null,null,"Feb-16            [W7]",null,null,null,null,null,null,"Feb-16            [W8]",null,null,null,null,null,null,"Feb-16            [W9]",null,null,null,null,null,null,"Feb-16            [W10]",null,null,null,null,null,null,"Mar-16            [W11]"]
[null,null,null,null,null,null,"Budget: Estimated:  | Baseline:  | Actual: 0",null,null,null,null,null,null,null,null,null,null,null,null,null,null,null,null,null,null,null,null,null,18,19,20,21,22,23,24,25,26,27,28,29,30,31,1,2,3,4,5,6,7,8,9,10,11,12,13,14,15,16,17,18,19,20,21,22,23,24,25,26,27,28,29,1,2,3,4,5,6,7,8,9,10,11,12,13]
["tType","tID","tDependency","tDependents","tStartConstrain","tEndConstrain","WBS","Task Name","Resource Names","Resource Cost","Baseline Start","Baseline End","Baseline Duration","Start","Finish","Duration","Percent Complete","Actual Start","Actual End Date","Actual Duration","Baseline Cost","Cost","Actual Cost","Notes","Bar Color","% Color","Baseline Color","Actuals Color","M","T","W","T","F","S","S","M","T","W","T","F","S","S","M","T","W","T","F","S","S","M","T","W","T","F","S","S","M","T","W","T","F","S","S","M","T","W","T","F","S","S","M","T","W","T","F","S","S","M","T","W","T","F","S","S"]
["T",1,null,null,null,null,1,"Type here or double click to edit in form",null,null,null,null,null,"2016-01-24","2016-01-25",1,0]
[null,null,null,null,null,null,null,"Type here to add a new task"]

{"sheet":"Calendrier","index":2,"n_rows":190,"n_cols":15076,"rows_kept":33,"cut":true,"hidden":false,"merged":[],"bounds":{"rows_first":15,"rows_last":3,"rows_between":15,"halvings":7}}
["tType","tID","tDependency","tDependents","tStartConstrain","tEndConstrain","WBS","Task","TaskLead","TaskLeadCost","BSD","BED","BD","Intempéries1","RetardEntreprise1","Décalage","ESD","EED","ED","ASD","Intem Réal 2","Retard Réal E2","AED","AD","BCS","PercentageCompleted","ECS","ACS","Notes","TColor","TPColor","BLColor","ACColor","TimelineStart",null,null,null,null,null,null,null,null,null,null,null,null,null,null,null,null,null,null,null,null,null,null,null,null,null,null,null,null,null,null,null,null,null,null,null,null,null,null,null,null,null,null,null,null,null,null,null,null,null,null,null,null,null,null,"TimelineEnd",null,null,null,null,null,null,null,null,null,null,null,null,null,null,null,null,null,null,null,null,null,null,null,null,null,null,null,null,null,null,null,null,null,null,null,null,null,null,null,null,null,null,null,null,null,null,null,null,null,null,null,null,null,null,null,null,null,null,null,null,null,null,null,null,null,null,null,null,null,null,null,null,null,null,null,null,null,null,null,null,null,null,null,null,null,null,null,null,null,null,null,null,null,null,null,null,null,null,null,null,null,null,null,null,null,null,null,null,null,null,null,null,null,null,null,null,null,null,null,null,null,null,null,null,null,null,null,null,null,null,null,null,null,null,null,null,null,null,null,null,null,null,null,null,null,null,null,null,null,null,null,null,null,null,null,null,null,null,null,null,null,null,null,null,null,null,null,null,null,null,null,null,null,null,null,null,null,null,null,null,null,null,null,null,null,null,null,null,null,null,null,null,null,null,null,null,null,null,null,null,null,null,null,null,null,null,null,null,null,null,null,null,null,null,null,null,null,null,null,null,null,null,null,null,null,null,null,null,null,null,null,null,null,null,null,null,null,null,null,null,null,null,null,null,null,null,null,null,null,null,null,null,null,null,null,null,null,null,null,null,null,null,null,null,null,null,null,null,null,null,null,null,null,null,null,null,null,null,null,null,null,null,null,null,null,null,null,null,null,null,null,null,null,null,null,null,null,null,null,null,null,null,null,null,null,null,null,null,null,null,null,null,null,null,null,null,null,null,null,null,null,null,null,null,null,null,null,null,null,null,null,null,null,null,null,null,null,null,null,null,null,null,null,null,null,null,null,null,null,null,null,null,null,null,null,null,null,null,null,null,null,null,null,null,null,null,null,null,null,null,null,null,null,null,null,null,null,null,null,null,null,null,null,null,null,null,null,null,null,null,null,null,null,null,null,null,null,null,null,null,null,null,null,null,null,null,null,null,null,null,null,null,null,null,null,null,null,null,null,null,null,null,null,null,null,null,null,null,null,null,null,null,null,null,null,null,null,null,null,null,null,null,null,null,null,null,null,null,null,null,null,null,null,null,null,null,null,null,null,null,null,null,null,null,null,null,null,null,null,null,null,null,null,null,null,null,null,null,null,null,null,null,null,null,null,null,null,null,null,null,null,null,null,null,null,null,null,null,null,null,null,null,null,null,null,null,null,null,null,null,null,null,null,null,null,null,null,null,null,null,null,null,null,null,null,null,null,null,null,null,null,null,null,null,null,null,null,null,null,null,null,null,null,null,null,null,null,null,null,null,null,null,null,null,null,null,null,null,null,null,null,null,null,null,null,null,null,null,null,null,null,null,null,null,null,null,null,null,null,null,null,null,null,null,null,null,null,null,null,null,null,null,null,null,null,null,null,null,null,null,null,null,null,null,null,null,null,null,null,null,null,null,null,null,null,null,null,null,null,null,null,null,null,null,null,null,null,null,null,null,null,null,null,null,null,null,null,null,null,null,null,null,null,null,null,null,null,null,null,null,null,null,null,null,null,null,null,null,null,null,null,null,null,null,null,null,null,null,null,null,null,null,null,null,null,null,null,null,null,null,null,null,null,null,null,null,null,null,null,null,null,null,null,null,null,null,null,null,null,null,null,null,null,null,null,null,null,null,null,null,null,null,null,null,null,null,null,null,null,null,null,null,null,null,null,null,null,null,null,null,null,null,null,null,null,null,null,null,null,null,null,null,null,null,null,null,null,null,null,null,null,null,null,null,null,null,null,null,null,null,null,null,null,null,null,null,null,null,null,null,null,null,null,null,null,null,null,null,null,null,null,null,null,null,null,null,null,null,null,null,null,null,null,null,null,null,null,null,null,null,null,null,null,null,null,null,null,null,null,null,null,null,null,null,null,null,null,null,null,null,null,null,null,null,null,null,null,null,null,null,null,null,null,null,null,null,null,null,null,null,null,null,null,null,null,null,null,null,null,null,null,null,null,null,null,null,null,null,null,null,null,null,null,null,null,null,null,null,null,null,null,null,null,null,null,null,null,null,null,null,null,null,null,null,null,null,null,null,null,null,null,null,null,null,null,null,null,null,null,null,null,null,null,null,null,null,null,null,null,null,null,null,null,null,null,null,null,null,null,null,null,null,null,null,null,null,null,null,null,null,null,null,null,null,null,null,null,null,null,null,null,null,null,null,null,null,null,null,null,null,null,null,null,null,null,null,null,null,null,null,null,null,null,null,null,null,null,null,null,null,null,null,null,null,null,null,null,null,null,null,null,null,null,null,null,null,null,null,null,null,null,null,null,null,null,null,null,null,null,null,null,null,null,null,null,null,null,null,null,null,null,null,null,null,null,null,null,null,null,null,null,null,null,null,null,null,null,null,null,null,null,null,null,null,null,null,null,null,null,null,null,null,null,null,null,null,null,null,null,null,null,null,null,null,null,null,null,null,null,null,null,null,null,null,null,null,null,null,null,null,null,null,null,null,null,null,null,null,null,null,null,null,null,null,null,null,null,null,null,null,null,null,null,null,null,null,null,null,null,null,null,null,null,null,null,null,null,null,null,null,null,null,null,null,null,null,null,null,null,null,null,null,null,null,null,null,null,null,null,null,null,null,null,null,null,null,null,null,null,null,null,null,null,null,null,null,null,null,null,null,null,null,null,null,null,null,null,null,null,null,null,null,null,null,null,null,null,null,null,null,null,null,null,null,null,null,null,null,null,null,null,null,null,null,null,null,null,null,null,null,null,null,null,null,null,null,null,null,null,null,null,null,null,null,null,null,null,null,null,null,null,null,null,null,null,null,null,null,null,null,null,null,null,null,null,null,null,null,null,null,null,null,null,null,null,null,null,null,null,null,null,null,null,null,null,null,null,null,null,null,null,null,null,null,null,null,null,null,null,null,null,null,null,null,null,null,null,null,null,null,null,null,null,null,null,null,null,null,null,null,null,null,null,null,null,null,null,null,null,null,null,null,null,null,null,null,null,null,null,null,null,null,null,null,null,null,null,null,null,null,null,null,null,null,null,null,null,null,null,null,null,null,null,null,null,null,null,null,null,null,null,null,null,null,null,null,null,null,null,null,null,null,null,null,null,null,null,null,null,null,null,null,null,null,null,null,null,null,null,null,null,null,null,null,null,null,null,null,null,null,null,null,null,null,null,null,null,null,null,null,null,null,null,null,null,null,null,null,null,null,null,null,null,null,null,null,null,null,null,null,null,null,null,null,null,null,null,null,null,null,null,null,null,null,null,null,null,null,null,null,null,null,null,null,null,null,null,null,null,null,null,null,null,null,null,null,null,null,null,null,null,null,null,null,null,null,null,null,null,null,null,null,null,null,null,null,null,null,null,null,null,null,null,null,null,null,null,null,null,null,null,null,null,null,null,null,null,null,null,null,null,null,null,null,null,null,null,null,null,null,null,null,null,null,null,null,null,null,null,null,null,null,null,null,null,null,null,null,null,null,null,null,null,null,null,null,null,null,null,null,null,null,null,null,null,null,null,null,null,null,null,null,null,null,null,null,null,null,null,null,null,null,null,null,null,null,null,null,null,null,null,null,null,null,null,null,null,null,null,null,null,null,null,null,null,null,null,null,null,null,null,null,null,null,null,null,null,null,null,null,null,null,null,null,null,null,null,null,null,null,null,null,null,null,null,null,null,null,null,null,null,null,null,null,null,null,null,null,null,null,null,null,null,null,null,null,null,null,null,null,null,null,null,null,null,null,null,null,null,null,null,null,null,null,null,null,null,null,null,null,null,null,null,null,null,null,null,null,null,null,null,null,null,null,null,null,null,null,null,null,null,null,null,null,null,null,null,null,null,null,null,null,null,null,null,null,null,null,null,null,null,null,null,null,null,null,null,null,null,null,null,null,null,null,null,null,null,null,null,null,null,null,null,null,null,null,null,null,null,null,null,null,null,null,null,null,null,null,null,null,null,null,null,null,null,null,null,null,null,null,null,null,null,null,null,null,null,null,null,null,null,null,null,null,null,null,null,null,null,null,null,null,null,null,null,null,null,null,null,null,null,null,null,null,null,null,null,null,null,null,null,null,null,null,null,null,null,null,null,null,null,null,null,null,null,null,null,null,null,null,null,null,null,null,null,null,null,null,null,null,null,null,null,null,null,null,null,null,null,null,null,null,null,null,null,null,null,null,null,null,null,null,null,null,null,null,null,null,null,null,null,null,null,null,null,null,null,null,null,null,null,null,null,null,null,null,null,null,null,null,null,null,null,null,null,null,null,null,null,null,null,null,null,null,null,null,null,null,null,null,null,null,null,null,null,null,null,null,null,null,null,null,null,null,null,null,null,null,null,null,null,null,null,null,null,null,null,null,null,null,null,null,null,null,null,null,null,null,null,null,null,null,null,null,null,null,null,null,null,null,null,null,null,null,null,null,null,null,null,null,null,null,null,null,null,null,null,null,null,null,null,null,null,null,null,null,null,null,null,null,null,null,null,null,null,null,null,null,null,null,null,null,null,null,null,null,null,null,null,null,null,null,null,null,null,null,null,null,null,null,null,null,null,null,null,null,null,null,null,null,null,null,null,null,null,null,null,null,null,null,null,null,null,null,null,null,null,null,null,null,null,null,null,null,null,null,null,null,null,null,null,null,null,null,null,null,null,null,null,null,null,null,null,null,null,null,null,null,null,null,null,null,null,null,"TimelineMaxEnd",null,null,null,null,null,null,null,null,null,null,null,null,null,null,null,null,null,null,null,null,null,null,null,null,null,null,null,null,null,null,null,null,null,null,null,null,null,null,null,null,null,null,null,null,null,null,null,null,null,null,null,null,null,null,null,null,null,null,null,null,null,null,null,null,null,null,null,null,null,null,null,null,null,null,null,null,null,null,null,null,null,null,null,null,null,null,null,null,null,null,null,null,null,null,null,null,null,null,null,null,null,null,null,null,null,null,null,null,null,null,null,null,null,null,null,null,null,null,null,null,null,null,null,null,null,null,null,null,null,null,null,null,null,null,null,null,null,null,null,null,null,null,null,null,null,null,null,null,null,null,null,null,null,null,null,null,null,null,null,null,null,null,null,null,null,null,null,null,null,null,null,null,null,null,null,null,null,null,null,null,null,null,null,null,null,null,null,null,null,null,null,null,null,null,null,null,null,null,null,null,null,null,null,null,null,null,null,null,null,null,null,null,null,null,null,null,null,null,null,null,null,null,null,null,null,null,null,null,null,null,null,null,null,null,null,null,null,null,null,null,null,null,null,null,null,null,null,null,null,null,null,null,null,null,null,null,null,null,null,null,null,null,null,null,null,null,null,null,null,null,null,null,null,null,null,null,null,null,null,null,null,null,null,null,null,null,null,null,null,null,null,null,null,null,null,null,null,null,null,null,null,null,null,null,null,null,null,null,null,null,null,null,null,null,null,null,null,null,null,null,null,null,null,null,null,null,null,null,null,null,null,null,null,null,null,null,null,null,null,null,null,null,null,null,null,null,null,null,null,null,null,null,null,null,null,null,null,null,null,null,null,null,null,null,null,null,null,null,null,null,null,null,null,null,null,null,null,null,null,null,null,null,null,null,null,null,null,null,null,null,null,null,null,null,null,null,null,null,null,null,null,null,null,null,null,null,null,null,null,null,null,null,null,null,null,null,null,null,null,null,null,null,null,null,null,null,null,null,null,null,null,null,null,null,null,null,null,null,null,null,null,null,null,null,null,null,null,null,null,null,null,null,null,null,null,null,null,null,null,null,null,null,null,null,null,null,null,null,null,null,null,null,null,null,null,null,null,null,null,null,null,null,null,null,null,null,null,null,null,null,null,null,null,null,null,null,null,null,null,null,null,null,null,null,null,null,null,null,null,null,null,null,null,null,null,null,null,null,null,null,null,null,null,null,null,null,null,null,null,null,null,null,null,null,null,null,null,null,null,null,null,null,null,null,null,null,null,null,null,null,null,null,null,null,null,null,null,null,null,null,null,null,null,null,null,null,null,null,null,null,null,null,null,null,null,null,null,null,null,null,null,null,null,null,null,null,null,null,null,null,null,null,null,null,null,null,null,null,null,null,null,null,null,null,null,null,null,null,null,null,null,null,null,null,null,null,null,null,null,null,null,null,null,null,null,null,null,null,null,null,null,null,null,null,null,null,null,null,null,null,null,null,null,null,null,null,null,null,null,null,null,null,null,null,null,null,null,null,null,null,null,null,null,null,null,null,null,null,null,null,null,null,null,null,null,null,null,null,null,null,null,null,null,null,null,null,null,null,null,null,null,null,null,null,null,null,null,null,null,null,null,null,null,null,null,null,null,null,null,null,null,null,null,null,null,null,null,null,null,null,null,null,null,null,null,null,null,null,null,null,null,null,null,null,null,null,null,null,null,null,null,null,null,null,null,null,null,null,null,null,null,null,null,null,null,null,null,null,null,null,null,null,null,null,null,null,null,null,null,null,null,null,null,null,null,null,null,null,null,null,null,null,null,null,null,null,null,null,null,null,null,null,null,null,null,null,null,null,null,null,null,null,null,null,null,null,null,null,null,null,null,null,null,null,null,null,null,null,null,null,null,null,null,null,null,null,null,null,null,null,null,null,null,null,null,null,null,null,null,null,null,null,null,null,null,null,null,null,null,null,null,null,null,null,null,null,null,null,null,null,null,null,null,null,null,null,null,null,null,null,null,null,null,null,null,null,null,null,null,null,null,null,null,null,null,null,null,null,null,null,null,null,null,null,null,null,null,null,null,null,null,null,null,null,null,null,null,null,null,null,null,null,null,null,null,null,null,null,null,null,null,null,null,null,null,null,null,null,null,null,null,null,null,null,null,null,null,null,null,null,null,null,null,null,null,null,null,null,null,null,null,null,null,null,null,null,null,null,null,null,null,null,null,null,null,null,null,null,null,null,null,null,null,null,null,null,null,null,null,null,null,null,null,null,null,null,null,null,null,null,null,null,null,null,null,null,null,null,null,null,null,null,null,null,null,null,null,null,null,null,null,null,null,null,null,null,null,null,null,null,null,null,null,null,null,null,null,null,null,null,null,null,null,null,null,null,null,null,null,null,null,null,null,null,null,null,null,null,null,null,null,null,null,null,null,null,null,null,null,null,null,null,null,null,null,null,null,null,null,null,null,null,null,null,null,null,null,null,null,null,null,null,null,null,null,null,null,null,null,null,null,null,null,null,null,null,null,null,null,null,null,null,null,null,null,null,null,null,null,null,null,null,null,null,null,null,null,null,null,null,null,null,null,null,null,null,null,null,null,null,null,null,null,null,null,null,null,null,null,null,null,null,null,null,null,null,null,null,null,null,null,null,null,null,null,null,null,null,null,null,null,null,null,null,null,null,null,null,null,null,null,null,null,null,null,null,null,null,null,null,null,null,null,null,null,null,null,null,null,null,null,null,null,null,null,null,null,null,null,null,null,null,null,null,null,null,null,null,null,null,null,null,null,null,null,null,null,null,null,null,null,null,null,null,null,null,null,null,null,null,null,null,null,null,null,null,null,null,null,null,null,null,null,null,null,null,null,null,null,null,null,null,null,null,null,null,null,null,null,null,null,null,null,null,null,null,null,null,null,null,null,null,null,null,null,null,null,null,null,null,null,null,null,null,null,null,null,null,null,null,null,null,null,null,null,null,null,null,null,null,null,null,null,null,null,null,null,null,null,null,null,null,null,null,null,null,null,null,null,null,null,null,null,null,null,null,null,null,null,null,null,null,null,null,null,null,null,null,null,null,null,null,null,null,null,null,null,null,null,null,null,null,null,null,null,null,null,null,null,null,null,null,null,null,null,null,null,null,null,null,null,null,null,null,null,null,null,null,null,null,null,null,null,null,null,null,null,null,null,null,null,null,null,null,null,null,null,null,null,null,null,null,null,null,null,null,null,null,null,null,null,null,null,null,null,null,null,null,null,null,null,null,null,null,null,null,null,null,null,null,null,null,null,null,null,null,null,null,null,null,null,null,null,null,null,null,null,null,null,null,null,null,null,null,null,null,null,null,null,null,null,null,null,null,null,null,null,null,null,null,null,null,null,null,null,null,null,null,null,null,null,null,null,null,null,null,null,null,null,null,null,null,null,null,null,null,null,null,null,null,null,null,null,null,null,null,null,null,null,null,null,null,null,null,null,null,null,null,null,null,null,null,null,null,null,null,null,null,null,null,null,null,null,null,null,null,null,null,null,null,null,null,null,null,null,null,null,null,null,null,null,null,null,null,null,null,null,null,null,null,null,null,null,null,null,null,null,null,null,null,null,null,null,null,null,null,null,null,null,null,null,null,null,null,null,null,null,null,null,null,null,null,null,null,null,null,null,null,null,null,null,null,null,null,null,null,null,null,null,null,null,null,null,null,null,null,null,null,null,null,null,null,null,null,null,null,null,null,null,null,null,null,null,null,null,null,null,null,null,null,null,null,null,null,null,null,null,null,null,null,null,null,null,null,null,null,null,null,null,null,null,null,null,null,null,null,null,null,null,null,null,null,null,null,null,null,null,null,null,null,null,null,null,null,null,null,null,null,null,null,null,null,null,null,null,null,null,null,null,null,null,null,null,null,null,null,null,null,null,null,null,null,null,null,null,null,null,null,null,null,null,null,null,null,null,null,null,null,null,null,null,null,null,null,null,null,null,null,null,null,null,null,null,null,null,null,null,null,null,null,null,null,null,null,null,null,null,null,null,null,null,null,null,null,null,null,null,null,null,null,null,null,null,null,null,null,null,null,null,null,null,null,null,null,null,null,null,null,null,null,null,null,null,null,null,null,null,null,null,null,null,null,null,null,null,null,null,null,null,null,null,null,null,null,null,null,null,null,null,null,null,null,null,null,null,null,null,null,null,null,null,null,null,null,null,null,null,null,null,null,null,null,null,null,null,null,null,null,null,null,null,null,null,null,null,null,null,null,null,null,null,null,null,null,null,null,null,null,null,null,null,null,null,null,null,null,null,null,null,null,null,null,null,null,null,null,null,null,null,null,null,null,null,null,null,null,null,null,null,null,null,null,null,null,null,null,null,null,null,null,null,null,null,null,null,null,null,null,null,null,null,null,null,null,null,null,null,null,null,null,null,null,null,null,null,null,null,null,null,null,null,null,null,null,null,null,null,null,null,null,null,null,null,null,null,null,null,null,null,null,null,null,null,null,null,null,null,null,null,null,null,null,null,null,null,null,null,null,null,null,null,null,null,null,null,null,null,null,null,null,null,null,null,null,null,null,null,null,null,null,null,null,null,null,null,null,null,null,null,null,null,null,null,null,null,null,null,null,null,null,null,null,null,null,null,null,null,null,null,null,null,null,null,null,null,null,null,null,null,null,null,null,null,null,null,null,null,null,null,null,null,null,null,null,null,null,null,null,null,null,null,null,null,null,null,null,null,null,null,null,null,null,null,null,null,null,null,null,null,null,null,null,null,null,null,null,null,null,null,null,null,null,null,null,null,null,null,null,null,null,null,null,null,null,null,null,null,null,null,null,null,null,null,null,null,null,null,null,null,null,null,null,null,null,null,null,null,null,null,null,null,null,null,null,null,null,null,null,null,null,null,null,null,null,null,null,null,null,null,null,null,null,null,null,null,null,null,null,null,null,null,null,null,null,null,null,null,null,null,null,null,null,null,null,null,null,null,null,null,null,null,null,null,null,null,null,null,null,null,null,null,null,null,null,null,null,null,null,null,null,null,null,null,null,null,null,null,null,null,null,null,null,null,null,null,null,null,null,null,null,null,null,null,null,null,null,null,null,null,null,null,null,null,null,null,null,null,null,null,null,null,null,null,null,null,null,null,null,null,null,null,null,null,null,null,null,null,null,null,null,null,null,null,null,null,null,null,null,null,null,null,null,null,null,null,null,null,null,null,null,null,null,null,null,null,null,null,null,null,null,null,null,null,null,null,null,null,null,null,null,null,null,null,null,null,null,null,null,null,null,null,null,null,null,null,null,null,null,null,null,null,null,null,null,null,null,null,null,null,null,null,null,null,null,null,null,null,null,null,null,null,null,null,null,null,null,null,null,null,null,null,null,null,null,null,null,null,null,null,null,null,null,null,null,null,null,null,null,null,null,null,null,null,null,null,null,null,null,null,null,null,null,null,null,null,null,null,null,null,null,null,null,null,null,null,null,null,null,null,null,null,null,null,null,null,null,null,null,null,null,null,null,null,null,null,null,null,null,null,null,null,null,null,null,null,null,null,null,null,null,null,null,null,null,null,null,null,null,null,null,null,null,null,null,null,null,null,null,null,null,null,null,null,null,null,null,null,null,null,null,null,null,null,null,null,null,null,null,null,null,null,null,null,null,null,null,null,null,null,null,null,null,null,null,null,null,null,null,null,null,null,null,null,null,null,null,null,null,null,null,null,null,null,null,null,null,null,null,null,null,null,null,null,null,null,null,null,null,null,null,null,null,null,null,null,null,null,null,null,null,null,null,null,null,null,null,null,null,null,null,null,null,null,null,null,null,null,null,null,null,null,null,null,null,null,null,null,null,null,null,null,null,null,null,null,null,null,null,null,null,null,null,null,null,null,null,null,null,null,null,null,null,null,null,null,null,null,null,null,null,null,null,null,null,null,null,null,null,null,null,null,null,null,null,null,null,null,null,null,null,null,null,null,null,null,null,null,null,null,null,null,null,null,null,null,null,null,null,null,null,null,null,null,null,null,null,null,null,null,null,null,null,null,null,null,null,null,null,null,null,null,null,null,null,null,null,null,null,null,null,null,null,null,null,null,null,null,null,null,null,null,null,null,null,null,null,null,null,null,null,null,null,null,null,null,null,null,null,null,null,null,null,null,null,null,null,null,null,null,null,null,null,null,null,null,null,null,null,null,null,null,null,null,null,null,null,null,null,null,null,null,null,null,null,null,null,null,null,null,null,null,null,null,null,null,null,null,null,null,null,null,null,null,null,null,null,null,null,null,null,null,null,null,null,null,null,null,null,null,null,null,null,null,null,null,null,null,null,null,null,null,null,null,null,null,null,null,null,null,null,null,null,null,null,null,null,null,null,null,null,null,null,null,null,null,null,null,null,null,null,null,null,null,null,null,null,null,null,null,null,null,null,null,null,null,null,null,null,null,null,null,null,null,null,null,null,null,null,null,null,null,null,null,null,null,null,null,null,null,null,null,null,null,null,null,null,null,null,null,null,null,null,null,null,null,null,null,null,null,null,null,null,null,null,null,null,null,null,null,null,null,null,null,null,null,null,null,null,null,null,null,null,null,null,null,null,null,null,null,null,null,null,null,null,null,null,null,null,null,null,null,null,null,null,null,null,null,null,null,null,null,null,null,null,null,null,null,null,null,null,null,null,null,null,null,null,null,null,null,null,null,null,null,null,null,null,null,null,null,null,null,null,null,null,null,null,null,null,null,null,null,null,null,null,null,null,null,null,null,null,null,null,null,null,null,null,null,null,null,null,null,null,null,null,null,null,null,null,null,null,null,null,null,null,null,null,null,null,null,null,null,null,null,null,null,null,null,null,null,null,null,null,null,null,null,null,null,null,null,null,null,null,null,null,null,null,null,null,null,null,null,null,null,null,null,null,null,null,null,null,null,null,null,null,null,null,null,null,null,null,null,null,null,null,null,null,null,null,null,null,null,null,null,null,null,null,null,null,null,null,null,null,null,null,null,null,null,null,null,null,null,null,null,null,null,null,null,null,null,null,null,null,null,null,null,null,null,null,null,null,null,null,null,null,null,null,null,null,null,null,null,null,null,null,null,null,null,null,null,null,null,null,null,null,null,null,null,null,null,null,null,null,null,null,null,null,null,null,null,null,null,null,null,null,null,null,null,null,null,null,null,null,null,null,null,null,null,null,null,null,null,null,null,null,null,null,null,null,null,null,null,null,null,null,null,null,null,null,null,null,null,null,null,null,null,null,null,null,null,null,null,null,null,null,null,null,null,null,null,null,null,null,null,null,null,null,null,null,null,null,null,null,null,null,null,null,null,null,null,null,null,null,null,null,null,null,null,null,null,null,null,null,null,null,null,null,null,null,null,null,null,null,null,null,null,null,null,null,null,null,null,null,null,null,null,null,null,null,null,null,null,null,null,null,null,null,null,null,null,null,null,null,null,null,null,null,null,null,null,null,null,null,null,null,null,null,null,null,null,null,null,null,null,null,null,null,null,null,null,null,null,null,null,null,null,null,null,null,null,null,null,null,null,null,null,null,null,null,null,null,null,null,null,null,null,null,null,null,null,null,null,null,null,null,null,null,null,null,null,null,null,null,null,null,null,null,null,null,null,null,null,null,null,null,null,null,null,null,null,null,null,null,null,null,null,null,null,null,null,null,null,null,null,null,null,null,null,null,null,null,null,null,null,null,null,null,null,null,null,null,null,null,null,null,null,null,null,null,null,null,null,null,null,null,null,null,null,null,null,null,null,null,null,null,null,null,null,null,null,null,null,null,null,null,null,null,null,null,null,null,null,null,null,null,null,null,null,null,null,null,null,null,null,null,null,null,null,null,null,null,null,null,null,null,null,null,null,null,null,null,null,null,null,null,null,null,null,null,null,null,null,null,null,null,null,null,null,null,null,null,null,null,null,null,null,null,null,null,null,null,null,null,null,null,null,null,null,null,null,null,null,null,null,null,null,null,null,null,null,null,null,null,null,null,null,null,null,null,null,null,null,null,null,null,null,null,null,null,null,null,null,null,null,null,null,null,null,null,null,null,null,null,null,null,null,null,null,null,null,null,null,null,null,null,null,null,null,null,null,null,null,null,null,null,null,null,null,null,null,null,null,null,null,null,null,null,null,null,null,null,null,null,null,null,null,null,null,null,null,null,null,null,null,null,null,null,null,null,null,null,null,null,null,null,null,null,null,null,null,null,null,null,null,null,null,null,null,null,null,null,null,null,null,null,null,null,null,null,null,null,null,null,null,null,null,null,null,null,null,null,null,null,null,null,null,null,null,null,null,null,null,null,null,null,null,null,null,null,null,null,null,null,null,null,null,null,null,null,null,null,null,null,null,null,null,null,null,null,null,null,null,null,null,null,null,null,null,null,null,null,null,null,null,null,null,null,null,null,null,null,null,null,null,null,null,null,null,null,null,null,null,null,null,null,null,null,null,null,null,null,null,null,null,null,null,null,null,null,null,null,null,null,null,null,null,null,null,null,null,null,null,null,null,null,null,null,null,null,null,null,null,null,null,null,null,null,null,null,null,null,null,null,null,null,null,null,null,null,null,null,null,null,null,null,null,null,null,null,null,null,null,null,null,null,null,null,null,null,null,null,null,null,null,null,null,null,null,null,null,null,null,null,null,null,null,null,null,null,null,null,null,null,null,null,null,null,null,null,null,null,null,null,null,null,null,null,null,null,null,null,null,null,null,null,null,null,null,null,null,null,null,null,null,null,null,null,null,null,null,null,null,null,null,null,null,null,null,null,null,null,null,null,null,null,null,null,null,null,null,null,null,null,null,null,null,null,null,null,null,null,null,null,null,null,null,null,null,null,null,null,null,null,null,null,null,null,null,null,null,null,null,null,null,null,null,null,null,null,null,null,null,null,null,null,null,null,null,null,null,null,null,null,null,null,null,null,null,null,null,null,null,null,null,null,null,null,null,null,null,null,null,null,null,null,null,null,null,null,null,null,null,null,null,null,null,null,null,null,null,null,null,null,null,null,null,null,null,null,null,null,null,null,null,null,null,null,null,null,null,null,null,null,null,null,null,null,null,null,null,null,null,null,null,null,null,null,null,null,null,null,null,null,null,null,null,null,null,null,null,null,null,null,null,null,null,null,null,null,null,null,null,null,null,null,null,null,null,null,null,null,null,null,null,null,null,null,null,null,null,null,null,null,null,null,null,null,null,null,null,null,null,null,null,null,null,null,null,null,null,null,null,null,null,null,null,null,null,null,null,null,null,null,null,null,null,null,null,null,null,null,null,null,null,null,null,null,null,null,null,null,null,null,null,null,null,null,null,null,null,null,null,null,null,null,null,null,null,null,null,null,null,null,null,null,null,null,null,null,null,null,null,null,null,null,null,null,null,null,null,null,null,null,null,null,null,null,null,null,null,null,null,null,null,null,null,null,null,null,null,null,null,null,null,null,null,null,null,null,null,null,null,null,null,null,null,null,null,null,null,null,null,null,null,null,null,null,null,null,null,null,null,null,null,null,null,null,null,null,null,null,null,null,null,null,null,null,null,null,null,null,null,null,null,null,null,null,null,null,null,null,null,null,null,null,null,null,null,null,null,null,null,null,null,null,null,null,null,null,null,null,null,null,null,null,null,null,null,null,null,null,null,null,null,null,null,null,null,null,null,null,null,null,null,null,null,null,null,null,null,null,null,null,null,null,null,null,null,null,null,null,null,null,null,null,null,null,null,null,null,null,null,null,null,null,null,null,null,null,null,null,null,null,null,null,null,null,null,null,null,null,null,null,null,null,null,null,null,null,null,null,null,null,null,null,null,null,null,null,null,null,null,null,null,null,null,null,null,null,null,null,null,null,null,null,null,null,null,null,null,null,null,null,null,null,null,null,null,null,null,null,null,null,null,null,null,null,null,null,null,null,null,null,null,null,null,null,null,null,null,null,null,null,null,null,null,null,null,null,null,null,null,null,null,null,null,null,null,null,null,null,null,null,null,null,null,null,null,null,null,null,null,null,null,null,null,null,null,null,null,null,null,null,null,null,null,null,null,null,null,null,null,null,null,null,null,null,null,null,null,null,null,null,null,null,null,null,null,null,null,null,null,null,null,null,null,null,null,null,null,null,null,null,null,null,null,null,null,null,null,null,null,null,null,null,null,null,null,null,null,null,null,null,null,null,null,null,null,null,null,null,null,null,null,null,null,null,null,null,null,null,null,null,null,null,null,null,null,null,null,null,null,null,null,null,null,null,null,null,null,null,null,null,null,null,null,null,null,null,null,null,null,null,null,null,null,null,null,null,null,null,null,null,null,null,null,null,null,null,null,null,null,null,null,null,null,null,null,null,null,null,null,null,null,null,null,null,null,null,null,null,null,null,null,null,null,null,null,null,null,null,null,null,null,null,null,null,null,null,null,null,null,null,null,null,null,null,null,null,null,null,null,null,null,null,null,null,null,null,null,null,null,null,null,null,null,null,null,null,null,null,null,null,null,null,null,null,null,null,null,null,null,null,null,null,null,null,null,null,null,null,null,null,null,null,null,null,null,null,null,null,null,null,null,null,null,null,null,null,null,null,null,null,null,null,null,null,null,null,null,null,null,null,null,null,null,null,null,null,null,null,null,null,null,null,null,null,null,null,null,null,null,null,null,null,null,null,null,null,null,null,null,null,null,null,null,null,null,null,null,null,null,null,null,null,null,null,null,null,null,null,null,null,null,null,null,null,null,null,null,null,null,null,null,null,null,null,null,null,null,null,null,null,null,null,null,null,null,null,null,null,null,null,null,null,null,null,null,null,null,null,null,null,null,null,null,null,null,null,null,null,null,null,null,null,null,null,null,null,null,null,null,null,null,null,null,null,null,null,null,null,null,null,null,null,null,null,null,null,null,null,null,null,null,null,null,null,null,null,null,null,null,null,null,null,null,null,null,null,null,null,null,null,null,null,null,null,null,null,null,null,null,null,null,null,null,null,null,null,null,null,null,null,null,null,null,null,null,null,null,null,null,null,null,null,null,null,null,null,null,null,null,null,null,null,null,null,null,null,null,null,null,null,null,null,null,null,null,null,null,null,null,null,null,null,null,null,null,null,null,null,null,null,null,null,null,null,null,null,null,null,null,null,null,null,null,null,null,null,null,null,null,null,null,null,null,null,null,null,null,null,null,null,null,null,null,null,null,null,null,null,null,null,null,null,null,null,null,null,null,null,null,null,null,null,null,null,null,null,null,null,null,null,null,null,null,null,null,null,null,null,null,null,null,null,null,null,null,null,null,null,null,null,null,null,null,null,null,null,null,null,null,null,null,null,null,null,null,null,null,null,null,null,null,null,null,null,null,null,null,null,null,null,null,null,null,null,null,null,null,null,null,null,null,null,null,null,null,null,null,null,null,null,null,null,null,null,null,null,null,null,null,null,null,null,null,null,null,null,null,null,null,null,null,null,null,null,null,null,null,null,null,null,null,null,null,null,null,null,null,null,null,null,null,null,null,null,null,null,null,null,null,null,null,null,null,null,null,null,null,null,null,null,null,null,null,null,null,null,null,null,null,null,null,null,null,null,null,null,null,null,null,null,null,null,null,null,null,null,null,null,null,null,null,null,null,null,null,null,null,null,null,null,null,null,null,null,null,null,null,null,null,null,null,null,null,null,null,null,null,null,null,null,null,null,null,null,null,null,null,null,null,null,null,null,null,null,null,null,null,null,null,null,null,null,null,null,null,null,null,null,null,null,null,null,null,null,null,null,null,null,null,null,null,null,null,null,null,null,null,null,null,null,null,null,null,null,null,null,null,null,null,null,null,null,null,null,null,null,null,null,null,null,null,null,null,null,null,null,null,null,null,null,null,null,null,null,null,null,null,null,null,null,null,null,null,null,null,null,null,null,null,null,null,null,null,null,null,null,null,null,null,null,null,null,null,null,null,null,null,null,null,null,null,null,null,null,null,null,null,null,null,null,null,null,null,null,null,null,null,null,null,null,null,null,null,null,null,null,null,null,null,null,null,null,null,null,null,null,null,null,null,null,null,null,null,null,null,null,null,null,null,null,null,null,null,null,null,null,null,null,null,null,null,null,null,null,null,null,null,null,null,null,null,null,null,null,null,null,null,null,null,null,null,null,null,null,null,null,null,null,null,null,null,null,null,null,null,null,null,null,null,null,null,null,null,null,null,null,null,null,null,null,null,null,null,null,null,null,null,null,null,null,null,null,null,null,null,null,null,null,null,null,null,null,null,null,null,null,null,null,null,null,null,null,null,null,null,null,null,null,null,null,null,null,null,null,null,null,null,null,null,null,null,null,null,null,null,null,null,null,null,null,null,null,null,null,null,null,null,null,null,null,null,null,null,null,null,null,null,null,null,null,null,null,null,null,null,null,null,null,null,null,null,null,null,null,null,null,null,null,null,null,null,null,null,null,null,null,null,null,null,null,null,null,null,null,null,null,null,null,null,null,null,null,null,null,null,null,null,null,null,null,null,null,null,null,null,null,null,null,null,null,null,null,null,null,null,null,null,null,null,null,null,null,null,null,null,null,null,null,null,null,null,null,null,null,null,null,null,null,null,null,null,null,null,null,null,null,null,null,null,null,null,null,null,null,null,null,null,null,null,null,null,null,null,null,null,null,null,null,null,null,null,null,null,null,null,null,null,null,null,null,null,null,null,null,null,null,null,null,null,null,null,null,null,null,null,null,null,null,null,null,null,null,null,null,null,null,null,null,null,null,null,null,null,null,null,null,null,null,null,null,null,null,null,null,null,null,null,null,null,null,null,null,null,null,null,null,null,null,null,null,null,null,null,null,null,null,null,null,null,null,null,null,null,null,null,null,null,null,null,null,null,null,null,null,null,null,null,null,null,null,null,null,null,null,null,null,null,null,null,null,null,null,null,null,null,null,null,null,null,null,null,null,null,null,null,null,null,null,null,null,null,null,null,null,null,null,null,null,null,null,null,null,null,null,null,null,null,null,null,null,null,null,null,null,null,null,null,null,null,null,null,null,null,null,null,null,null,null,null,null,null,null,null,null,null,null,null,null,null,null,null,null,null,null,null,null,null,null,null,null,null,null,null,null,null,null,null,null,null,null,null,null,null,null,null,null,null,null,null,null,null,null,null,null,null,null,null,null,null,null,null,null,null,null,null,null,null,null,null,null,null,null,null,null,null,null,null,null,null,null,null,null,null,null,null,null,null,null,null,null,null,null,null,null,null,null,null,null,null,null,null,null,null,null,null,null,null,null,null,null,null,null,null,null,null,null,null,null,null,null,null,null,null,null,null,null,null,null,null,null,null,null,null,null,null,null,null,null,null,null,null,null,null,null,null,null,null,null,null,null,null,null,null,null,null,null,null,null,null,null,null,null,null,null,null,null,null,null,null,null,null,null,null,null,null,null,null,null,null,null,null,null,null,null,null,null,null,null,null,null,null,null,null,null,null,null,null,null,null,null,null,null,null,null,null,null,null,null,null,null,null,null,null,null,null,null,null,null,null,null,null,null,null,null,null,null,null,null,null,null,null,null,null,null,null,null,null,null,null,null,null,null,null,null,null,null,null,null,null,null,null,null,null,null,null,null,null,null,null,null,null,null,null,null,null,null,null,null,null,null,null,null,null,null,null,null,null,null,null,null,null,null,null,null,null,null,null,null,null,null,null,null,null,null,null,null,null,null,null,null,null,null,null,null,null,null,null,null,null,null,null,null,null,null,null,null,null,null,null,null,null,null,null,null,null,null,null,null,null,null,null,null,null,null,null,null,null,null,null,null,null,null,null,null,null,null,null,null,null,null,null,null,null,null,null,null,null,null,null,null,null,null,null,null,null,null,null,null,null,null,null,null,null,null,null,null,null,null,null,null,null,null,null,null,null,null,null,null,null,null,null,null,null,null,null,null,null,null,null,null,null,null,null,null,null,null,null,null,null,null,null,null,null,null,null,null,null,null,null,null,null,null,null,null,null,null,null,null,null,null,null,null,null,null,null,null,null,null,null,null,null,null,null,null,null,null,null,null,null,null,null,null,null,null,null,null,null,null,null,null,null,null,null,null,null,null,null,null,null,null,null,null,null,null,null,null,null,null,null,null,null,null,null,null,null,null,null,null,null,null,null,null,null,null,null,null,null,null,null,null,null,null,null,null,null,null,null,null,null,null,null,null,null,null,null,null,null,null,null,null,null,null,null,null,null,null,null,null,null,null,null,null,null,null,null,null,null,null,null,null,null,null,null,null,null,null,null,null,null,null,null,null,null,null,null,null,null,null,null,null,null,null,null,null,null,null,null,null,null,null,null,null,null,null,null,null,null,null,null,null,null,null,null,null,null,null,null,null,null,null,null,null,null,null,null,null,null,null,null,null,null,null,null,null,null,null,null,null,null,null,null,null,null,null,null,null,null,null,null,null,null,null,null,null,null,null,null,null,null,null,null,null,null,null,null,null,null,null,null,null,null,null,null,null,null,null,null,null,null,null,null,null,null,null,null,null,null,null,null,null,null,null,null,null,null,null,null,null,null,null,null,null,null,null,null,null,null,null,null,null,null,null,null,null,null,null,null,null,null,null,null,null,null,null,null,null,null,null,null,null,null,null,null,null,null,null,null,null,null,null,null,null,null,null,null,null,null,null,null,null,null,null,null,null,null,null,null,null,null,null,null,null,null,null,null,null,null,null,null,null,null,null,null,null,null,null,null,null,null,null,null,null,null,null,null,null,null,null,null,null,null,null,null,null,null,null,null,null,null,null,null,null,null,null,null,null,null,null,null,null,null,null,null,null,null,null,null,null,null,null,null,null,null,null,null,null,null,null,null,null,null,null,null,null,null,null,null,null,null,null,null,null,null,null,null,null,null,null,null,null,null,null,null,null,null,null,null,null,null,null,null,null,null,null,null,null,null,null,null,null,null,null,null,null,null,null,null,null,null,null,null,null,null,null,null,null,null,null,null,null,null,null,null,null,null,null,null,null,null,null,null,null,null,null,null,null,null,null,null,null,null,null,null,null,null,null,null,null,null,null,null,null,null,null,null,null,null,null,null,null,null,null,null,null,null,null,null,null,null,null,null,null,null,null,null,null,null,null,null,null,null,null,null,null,null,null,null,null,null,null,null,null,null,null,null,null,null,null,null,null,null,null,null,null,null,null,null,null,null,null,null,null,null,null,null,null,null,null,null,null,null,null,null,null,null,null,null,null,null,null,null,null,null,null,null,null,null,null,null,null,null,null,null,null,null,null,null,null,null,null,null,null,null,null,null,null,null,null,null,null,null,null,null,null,null,null,null,null,null,null,null,null,null,null,null,null,null,null,null,null,null,null,null,null,null,null,null,null,null,null,null,null,null,null,null,null,null,null,null,null,null,null,null,null,null,null,null,null,null,null,null,null,null,null,null,null,null,null,null,null,null,null,null,null,null,null,null,null,null,null,null,null,null,null,null,null,null,null,null,null,null,null,null,null,null,null,null,null,null,null,null,null,null,null,null,null,null,null,null,null,null,null,null,null,null,null,null,null,null,null,null,null,null,null,null,null,null,null,null,null,null,null,null,null,null,null,null,null,null,null,null,null,null,null,null,null,null,null,null,null,null,null,null,null,null,null,null,null,null,null,null,null,null,null,null,null,null,null,null,null,null,null,null,null,null,null,null,null,null,null,null,null,null,null,null,null,null,null,null,null,null,null,null,null,null,null,null,null,null,null,null,null,null,null,null,null,null,null,null,null,null,null,null,null,null,null,null,null,null,null,null,null,null,null,null,null,null,null,null,null,null,null,null,null,null,null,null,null,null,null,null,null,null,null,null,null,null,null,null,null,null,null,null,null,null,null,null,null,null,null,null,null,null,null,null,null,null,null,null,null,null,null,null,null,null,null,null,null,null,null,null,null,null,null,null,null,null,null,null,null,null,null,null,null,null,null,null,null,null,null,null,null,null,null,null,null,null,null,null,null,null,null,null,null,null,null,null,null,null,null,null,null,null,null,null,null,null,null,null,null,null,null,null,null,null,null,null,null,null,null,null,null,null,null,null,null,null,null,null,null,null,null,null,null,null,null,null,null,null,null,null,null,null,null,null,null,null,null,null,null,null,null,null,null,null,null,null,null,null,null,null,null,null,null,null,null,null,null,null,null,null,null,null,null,null,null,null,null,null,null,null,null,null,null,null,null,null,null,null,null,null,null,null,null,null,null,null,null,null,null,null,null,null,null,null,null,null,null,null,null,null,null,null,null,null,null,null,null,null,null,null,null,null,null,null,null,null,null,null,null,null,null,null,null,null,null,null,null,null,null,null,null,null,null,null,null,null,null,null,null,null,null,null,null,null,null,null,null,null,null,null,null,null,null,null,null,null,null,null,null,null,null,null,null,null,null,null,null,null,null,null,null,null,null,null,null,null,null,null,null,null,null,null,null,null,null,null,null,null,null,null,null,null,null,null,null,null,null,null,null,null,null,null,null,null,null,null,null,null,null,null,null,null,null,null,null,null,null,null,null,null,null,null,null,null,null,null,null,null,null,null,null,null,null,null,null,null,null,null,null,null,null,null,null,null,null,null,null,null,null,null,null,null,null,null,null,null,null,null,null,null,null,null,null,null,null,null,null,null,null,null,null,null,null,null,null,null,null,null,null,null,null,null,null,null,null,null,null,null,null,null,null,null,null,null,null,null,null,null,null,null,null,null,null,null,null,null,null,null,null,null,null,null,null,null,null,null,null,null,null,null,null,null,null,null,null,null,null,null,null,null,null,null,null,null,null,null,null,null,null,null,null,null,null,null,null,null,null,null,null,null,null,null,null,null,null,null,null,null,null,null,null,null,null,null,null,null,null,null,null,null,null,null,null,null,null,null,null,null,null,null,null,null,null,null,null,null,null,null,null,null,null,null,null,null,null,null,null,null,null,null,null,null,null,null,null,null,null,null,null,null,null,null,null,null,null,null,null,null,null,null,null,null,null,null,null,null,null,null,null,null,null,null,null,null,null,null,null,null,null,null,null,null,null,null,null,null,null,null,null,null,null,null,null,null,null,null,null,null,null,null,null,null,null,null,null,null,null,null,null,null,null,null,null,null,null,null,null,null,null,null,null,null,null,null,null,null,null,null,null,null,null,null,null,null,null,null,null,null,null,null,null,null,null,null,null,null,null,null,null,null,null,null,null,null,null,null,null,null,null,null,null,null,null,null,null,null,null,null,null,null,null,null,null,null,null,null,null,null,null,null,null,null,null,null,null,null,null,null,null,null,null,null,null,null,null,null,null,null,null,null,null,null,null,null,null,null,null,null,null,null,null,null,null,null,null,null,null,null,null,null,null,null,null,null,null,null,null,null,null,null,null,null,null,null,null,null,null,null,null,null,null,null,null,null,null,null,null,null,null,null,null,null,null,null,null,null,null,null,null,null,null,null,null,null,null,null,null,null,null,null,null,null,null,null,null,null,null,null,null,null,null,null,null,null,null,null,null,null,null,null,null,null,null,null,null,null,null,null,null,null,null,null,null,null,null,null,null,null,null,null,null,null,null,null,null,null,null,null,null,null,null,null,null,null,null,null,null,null,null,null,null,null,null,null,null,null,null,null,null,null,null,null,null,null,null,null,null,null,null,null,null,null,null,null,null,null,null,null,null,null,null,null,null,null,null,null,null,null,null,null,null,null,null,null,null,null,null,null,null,null,null,null,null,null,null,null,null,null,null,null,null,null,null,null,null,null,null,null,null,null,null,null,null,null,null,null,null,null,null,null,null,null,null,null,null,null,null,null,null,null,null,null,null,null,null,null,null,null,null,null,null,null,null,null,null,null,null,null,null,null,null,null,null,null,null,null,null,null,null,null,null,null,null,null,null,null,null,null,null,null,null,null,null,null,null,null,null,null,null,null,null,null,null,null,null,null,null,null,null,null,null,null,null,null,null,null,null,null,null,null,null,null,null,null,null,null,null,null,null,null,null,null,null,null,null,null,null,null,null,null,null,null,null,null,null,null,null,null,null,null,null,null,null,null,null,null,null,null,null,null,null,null,null,null,null,null,null,null,null,null,null,null,null,null,null,null,null,null,null,null,null,null,null,null,null,null,null,null,null,null,null,null,null,null,null,null,null,null,null,null,null,null,null,null,null,null,null,null,null,null,null,null,null,null,null,null,null,null,null,null,null,null,null,null,null,null,null,null,null,null,null,null,null,null,null,null,null,null,null,null,null,null,null,null,null,null,null,null,null,null,null,null,null,null,null,null,null,null,null,null,null,null,null,null,null,null,null,null,null,null,null,null,null,null,null,null,null,null,null,null,null,null,null,null,null,null,null,null,null,null,null,null,null,null,null,null,null,null,null,null,null,null,null,null,null,null,null,null,null,null,null,null,null,null,null,null,null,null,null,null,null,null,null,null,null,null,null,null,null,null,null,null,null,null,null,null,null,null,null,null,null,null,null,null,null,null,null,null,null,null,null,null,null,null,null,null,null,null,null,null,null,null,null,null,null,null,null,null,null,null,null,null,null,null,null,null,null,null,null,null,null,null,null,null,null,null,null,null,null,null,null,null,null,null,null,null,null,null,null,null,null,null,null,null,null,null,null,null,null,null,null,null,null,null,null,null,null,null,null,null,null,null,null,null,null,null,null,null,null,null,null,null,null,null,null,null,null,null,null,null,null,null,null,null,null,null,null,null,null,null,null,null,null,null,null,null,null,null,null,null,null,null,null,null,null,null,null,null,null,null,null,null,null,null,null,null,null,null,null,null,null,null,null,null,null,null,null,null,null,null,null,null,null,null,null,null,null,null,null,null,null,null,null,null,null,null,null,null,null,null,null,null,null,null,null,null,null,null,null,null,null,null,null,null,null,null,null,null,null,null,null,null,null,null,null,null,null,null,null,null,null,null,null,null,null,null,null,null,null,null,null,null,null,null,null,null,null,null,null,null,null,null,null,null,null,null,null,null,null,null,null,null,null,null,null,null,null,null,null,null,null,null,null,null,null,null,null,null,null,null,null,null,null,null,null,null,null,null,null,null,null,null,null,null,null,null,null,null,null,null,null,null,null,null,null,null,null,null,null,null,null,null,null,null,null,null,null,null,null,null,null,null,null,null,null,null,null,null,null,null,null,null,null,null,null,null,null,null,null,null,null,null,null,null,null,null,null,null,null,null,null,null,null,null,null,null,null,null,null,null,null,null,null,null,null,null,null,null,null,null,null,null,null,null,null,null,null,null,null,null,null,null,null,null,null,null,null,null,null,null,null,null,null,null,null,null,null,null,null,null,null,null,null,null,null,null,null,null,null,null,null,null,null,null,null,null,null,null,null,null,null,null,null,null,null,null,null,null,null,null,null,null,null,null,null,null,null,null,null,null,null,null,null,null,null,null,null,null,null,null,null,null,null,null,null,null,null,null,null,null,null,null,null,null,null,null,null,null,null,null,null,null,null,null,null,null,null,null,null,null,null,null,null,null,null,null,null,null,null,null,null,null,null,null,null,null,null,null,null,null,null,null,null,null,null,null,null,null,null,null,null,null,null,null,null,null,null,null,null,null,null,null,null,null,null,null,null,null,null,null,null,null,null,null,null,null,null,null,null,null,null,null,null,null,null,null,null,null,null,null,null,null,null,null,null,null,null,null,null,null,null,null,null,null,null,null,null,null,null,null,null,null,null,null,null,null,null,null,null,null,null,null,null,null,null,null,null,null,null,null,null,null,null,null,null,null,null,null,null,null,null,null,null,null,null,null,null,null,null,null,null,null,null,null,null,null,null,null,null,null,null,null,null,null,null,null,null,null,null,null,null,null,null,null,null,null,null,null,null,null,null,null,null,null,null,null,null,null,null,null,null,null,null,null,null,null,null,null,null,null,null,null,null,null,null,null,null,null,null,null,null,null,null,null,null,null,null,null,null,null,null,null,null,null,null,null,null,null,null,null,null,null,null,null,null,null,null,null,null,null,null,null,null,null,null,null,null,null,null,null,null,null,null,null,null,null,null,null,null,null,null,null,null,null,null,null,null,null,null,null,null,null,null,null,null,null,null,null,null,null,null,null,null,null,null,null,null,null,null,null,null,null,null,null,null,null,null,null,null,null,null,null,null,null,null,null,null,null,null,null,null,null,null,null,null,null,null,null,null,null,null,null,null,null,null,null,null,null,null,null,null,null,null,null,null,null,null,null,null,null,null,null,null,null,null,null,null,null,null,null,null,null,null,null,null,null,null,null,null,null,null,null,null,null,null,null,null,null,null,null,null,null,null,null,null,null,null,null,null,null,null,null,null,null,null,null,null,null,null,null,null,null,null,null,null,null,null,null,null,null,null,null,null,null,null,null,null,null,null,null,null,null,null,null,null,null,null,null,null,null,null,null,null,null,null,null,null,null,null,null,null,null,null,null,null,null,null,null,null,null,null,null,null,null,null,null,null,null,null,null,null,null,null,null,null,null,null,null,null,null,null,null,null,null,null,null,null,null,null,null,null,null,null,null,null,null,null,null,null,null,null,null,null,null,null,null,null,null,null,null,null,null,null,null,null,null,null,null,null,null,null,null,null,null,null,null,null,null,null,null,null,null,null,null,null,null,null,null,null,null,null,null,null,null,null,null,null,null,null,null,null,null,null,null,null,null,null,null,null,null,null,null,null,null,null,null,null,null,null,null,null,null,null,null,null,null,null,null,null,null,null,null,null,null,null,null,null,null,null,null,null,null,null,null,null,null,null,null,null,null,null,null,null,null,null,null,null,null,null,null,null,null,null,null,null,null,null,null,null,null,null,null,null,null,null,null,null,null,null,null,null,null,null,null,null,null,null,null,null,null,null,null,null,null,null,null,null,null,null,null,null,null,null,null,null,null,null,null,null,null,null,null,null,null,null,null,null,null,null,null,null,null,null,null,null,null,null,null,null,null,null,null,null,null,null,null,null,null,null,null,null,null,null,null,null,null,null,null,null,null,null,null,null,null,null,null,null,null,null,null,null,null,null,null,null,null,null,null,null,null,null,null,null,null,null,null,null,null,null,null,null,null,null,null,null,null,null,null,null,null,null,null,null,null,null,null,null,null,null,null,null,null,null,null,null,null,null,null,null,null,null,null,null,null,null,null,null,null,null,null,null,null,null,null,null,null,null,null,null,null,null,null,null,null,null,null,null,null,null,null,null,null,null,null,null,null,null,null,null,null,null,null,null,null,null,null,null,null,null,null,null,null,null,null,null,null,null,null,null,null,null,null,null,null,null,null,null,null,null,null,null,null,null,null,null,null,null,null,null,null,null,null,null,null,null,null,null,null,null,null,null,null,null,null,null,null,null,null,null,null,null,null,null,null,null,null,null,null,null,null,null,null,null,null,null,null,null,null,null,null,null,null,null,null,null,null,null,null,null,null,null,null,null,null,null,null,null,null,null,null,null,null,null,null,null,null,null,null,null,null,null,null,null,null,null,null,null,null,null,null,null,null,null,null,null,null,null,null,null,null,null,null,null,null,null,null,null,null,null,null,null,null,null,null,null,null,null,null,null,null,null,null,null,null,null,null,null,null,null,null,null,null,null,null,null,null,null,null,null,null,null,null,null,null,null,null,null,null,null,null,null,null,null,null,null,null,null,null,null,null,null,null,null,null,null,null,null,null,null,null,null,null,null,null,null,null,null,null,null,null,null,null,null,null,null,null,null,null,null,null,null,null,null,null,null,null,null,null,null,null,null,null,null,null,null,null,null,null,null,null,null,null,null,null,null,null,null,null,null,null,null,null,null,null,null,null,null,null,null,null,null,null,null,null,null,null,null,null,null,null,null,null,null,null,null,null,null,null,null,null,null,null,null,null,null,null,null,null,null,null,null,null,null,null,null,null,null,null,null,null,null,null,null,null,null,null,null,null,null,null,null,null,null,null,null,null,null,null,null,null,null,null,null,null,null,null,null,null,null,null,null,null,null,null,null,null,null,null,null,null,null,null,null,null,null,null,null,null,null,null,null,null,null,null,null,null,null,null,null,null,null,null,null,null,null,null,null,null,null,null,null,null,null,null,null,null,null,null,null,null,null,null,null,null,null,null,null,null,null,null,null,null,null,null,null,null,null,null,null,null,null,null,null,null,null,null,null,null,null,null,null,null,null,null,null,null,null,null,null,null,null,null,null,null,null,null,null,null,null,null,null,null,null,null,null,null,null,null,null,null,null,null,null,null,null,null,null,null,null,null,null,null,null,null,null,null,null,null,null,null,null,null,null,null,null,null,null,null,null,null,null,null,null,null,null,null,null,null,null,null,null,null,null,null,null,null,null,null,null,null,null,null,null,null,null,null,null,null,null,null,null,null,null,null,null,null,null,null,null,null,null,null,null,null,null,null,null,null,null,null,null,null,null,null,null,null,null,null,null,null,null,null,null,null,null,null,null,null,null,null,null,null,null,null,null,null,null,null,null,null,null,null,null,null,null,null,null,null,null,null,null,null,null,null,null,null,null,null,null,null,null,null,null,null,null,null,null,null,null,null,null,null,null,null,null,null,null,null,null,null,null,null,null,null,null,null,null,null,null,null,null,null,null,null,null,null,null,null,null,null,null,null,null,null,null,null,null,null,null,null,null,null,null,null,null,null,null,null,null,null,null,null,null,null,null,null,null,null,null,null,null,null,null,null,null,null,null,null,null,null,null,null,null,null,null,null,null,null,null,null,null,null,null,null,null,null,null,null,null,null,null,null,null,null,null,null,null,null,null,null,null,null,null,null,null,null,null,null,null,null,null,null,null,null,null,null,null,null,null,null,null,null,null,null,null,null,null,null,null,null,null,null,null,null,null,null,null,null,null,null,null,null,null,null,null,null,null,null,null,null,null,null,null,null,null,null,null,null,null,null,null,null,null,null,null,null,null,null,null,null,null,null,null,null,null,null,null,null,null,null,null,null,null,null,null,null,null,null,null,null,null,null,null,null,null,null,null,null,null,null,null,null,null,null,null,null,null,null,null,null,null,null,null,null,null,null,null,null,null,null,null,null,null,null,null,null,null,null,null,null,null,null,null,null,null,null,null,null,null,null,null,null,null,null,null,null,null,null,null,null,null,null,null,null,null,null,null,null,null,null,null,null,null,null,null,null,null,null,null,null,null,null,null,null,null,null,null,null,null,null,null,null,null,null,null,null,null,null,null,null,null,null,null,null,null,null,null,null,null,null,null,null,null,null,null,null,null,null,null,null,null,null,null,null,null,null,null,null,null,null,null,null,null,null,null,null,null,null,null,null,null,null,null,null,null,null,null,null,null,null,null,null,null,null,null,null,null,null,null,null,null,null,null,null,null,null,null,null,null,null,null,null,null,null,null,null,null,null,null,null,null,null,null,null,null,null,null,null,null,null,null,null,null,null,null,null,null,null,null,null,null,null,null,null,null,null,null,null,null,null,null,null,null,null,null,null,null,null,null,null,null,null,null,null,null,null,null,null,null,null,null,null,null,null,null,null,null,null,null,null,null,null,null,null,null,null,null,null,null,null,null,null,null,null,null,null,null,null,null,null,null,null,null,null,null,null,null,null,null,null,null,null,null,null,null,null,null,null,null,null,null,null,null,null,null,null,null,null,null,null,null,null,null,null,null,null,null,null,null,null,null,null,null,null,null,null,null,null,null,null,null,null,null,null,null,null,null,null,null,null,null,null,null,null,null,null,null,null,null,null,null,null,null,null,null,null,null,null,null,null,null,null,null,null,null,null,null,null,null,null,null,null,null,null,null,null,null,null,null,null,null,null,null,null,null,null,null,null,null,null,null,null,null,null,null,null,null,null,null,null,null,null,null,null,null,null,null,null,null,null,null,null,null,null,null,null,null,null,null,null,null,null,null,null,null,null,null,null,null,null,null,null,null,null,null,null,null,null,null,null,null,null,null,null,null,null,null,null,null,null,null,null,null,null,null,null,null,null,null,null,null,null,null,null,null,null,null,null,null,null,null,null,null,null,null,null,null,null,null,null,null,null,null,null,null,null,null,null,null,null,null,null,null,null,null,null,null,null,null,null,null,null,null,null,null,null,null,null,null,null,null,null,null,null,null,null,null,null,null,null,null,null,null,null,null,null,null,null,null,null,null,null,null,null,null,null,null,null,null,null,null,null,null,null,null,null,null,null,null,null,null,null,null,null,null,null,null,null,null,null,null,null,null,null,null,null,null,null,null,null,null,null,null,null,null,null,null,null,null,null,null,null,null,null,null,null,null,null,null,null,null,null,null,null,null,null,null,null,null,null,null,null,null,null,null,null,null,null,null,null,null,null,null,null,null,null,null,null,null,null,null,null,null,null,null,null,null,null,null,null,null,null,null,null,null,null,null,null,null,null,null,null,null,null,null,null,null,null,null,null,null,null,null,null,null,null,null,null,null,null,null,null,null,null,null,null,null,null,null,null,null,null,null,null,null,null,null,null,null,null,null,null,null,null,null,null,null,null,null,null,null,null,null,null,null,null,null,null,null,null,null,null,null,null,null,null,null,null,null,null,null,null,null,null,null,null,null,null,null,null,null,null,null,null,null,null,null,null,null,null,null,null,null,null,null,null,null,null,null,null,null,null,null,null,null,null,null,null,null,null,null,null,null,null,null,null,null,null,null,null,null,null,null,null,null,null,null,null,null,null,null,null,null,null,null,null,null,null,null,null,null,null,null,null,null,null,null,null,null,null,null,null,null,null,null,null,null,null,null,null,null,null,null,null,null,null,null,null,null,null,null,null,null,null,null,null,null,null,null,null,null,null,null,null,null,null,null,null,null,null,null,null,null,null,null,null,null,null,null,null,null,null,null,null,null,null,null,null,null,null,null,null,null,null,null,null,null,null,null,null,null,null,null,null,null,null,null,null,null,null,null,null,null,null,null,null,null,null,null,null,null,null,null,null,null,null,null,null,null,null,null,null,null,null,null,null,null,null,null,null,null,null,null,null,null,null,null,null,null,null,null,null,null,null,null,null,null,null,null,null,null,null,null,null,null,null,null,null,null,null,null,null,null,null,null,null,null,null,null,null,null,null,null,null,null,null,null,null,null,null,null,null,null,null,null,null,null,null,null,null,null,null,null,null,null,null,null,null,null,null,null,null,null,null,null,null,null,null,null,null,null,null,null,null,null,null,null,null,null,null,null,null,null,null,null,null,null,null,null,null,null,null,null,null,null,null,null,null,null,null,null,null,null,null,null,null,null,null,null,null,null,null,null,null,null,null,null,null,null,null,null,null,null,null,null,null,null,null,null,null,null,null,null,null,null,null,null,null,null,null,null,null,null,null,null,null,null,null,null,null,null,null,null,null,null,null,null,null,null,null,null,null,null,null,null,null,null,null,null,null,null,null,null,null,null,null,null,null,null,null,null,null,null,null,null,null,null,null,null,null,null,null,null,null,null,null,null,null,null,null,null,null,null,null,null,null,null,null,null,null,null,null,null,null,null,null,null,null,null,null,null,null,null,null,null,null,null,null,null,null,null,null,null,null,null,null,null,null,null,null,null,null,null,null,null,null,null,null,null,null,null,null,null,null,null,null,null,null,null,null,null,null,null,null,null,null,null,null,null,null,null,null,null,null,null,null,null,null,null,null,null,null,null,null,null,null,null,null,null,null,null,null,null,null,null,null,null,null,null,null,null,null,null,null,null,null,null,null,null,null,null,null,null,null,null,null,null,null,null,null,null,null,null,null,null,null,null,null,null,null,null,null,null,null,null,null,null,null,null,null,null,null,null,null,null,null,null,null,null,null,null,null,null,null,null,null,null,null,null,null,null,null,null,null,null,null,null,null,null,null,null,null,null,null,null,null,null,null,null,null,null,null,null,null,null,null,null,null,null,null,null,null,null,null,null,null,null,null,null,null,null,null,null,null,null,null,null,null,null,null,null,null,null,null,null,null,null,null,null,null,null,null,null,null,null,null,null,null,null,null,null,null,null,null,null,null,null,null,null,null,null,null,null,null,null,null,null,null,null,null,null,null,null,null,null,null,null,null,null,null,null,null,null,null,null,null,null,null,null,null,null,null,null,null,null,null,null,null,null,null,null,null,null,null,null,null,null,null,null,null,null,null,null,null,null,null,null,null,null,null,null,null,null,null,null,null,null,null,null,null,null,null,null,null,null,null,null,null,null,null,null,null,null,null,null,null,null,null,null,null,null,null,null,null,null,null,null,null,null,null,null,null,null,null,null,null,null,null,null,null,null,null,null,null,null,null,null,null,null,null,null,null,null,null,null,null,null,null,null,null,null,null,null,null,null,null,null,null,null,null,null,null,null,null,null,null,null,null,null,null,null,null,null,null,null,null,null,null,null,null,null,null,null,null,null,null,null,null,null,null,null,null,null,null,null,null,null,null,null,null,null,null,null,null,null,null,null,null,null,null,null,null,null,null,null,null,null,null,null,null,null,null,null,null,null,null,null,null,null,null,null,null,null,null,null,null,null,null,null,null,null,null,null,null,null,null,null,null,null,null,null,null,null,null,null,null,null,null,null,null,null,null,null,null,null,null,null,null,null,null,null,null,null,null,null,null,null,null,null,null,null,null,null,null,null,null,null,null,null,null,null,null,null,null,null,null,null,null,null,null,null,null,null,null,null,null,null,null,null,null,null,null,null,null,null,null,null,null,null,null,null,null,null,null,null,null,null,null,null,null,null,null,null,null,null,null,null,null,null,null,null,null,null,null,null,null,null,null,null,null,null,null,null,null,null,null,null,null,null,null,null,null,null,null,null,null,null,null,null,null,null,null,null,null,null,null,null,null,null,null,null,null,null,null,null,null,null,null,null,null,null,null,null,null,null,null,null,null,null,null,null,null,null,null,null,null,null,null,null,null,null,null,null,null,null,null,null,null,null,null,null,null,null,null,null,null,null,null,null,null,null,null,null,null,null,null,null,null,null,null,null,null,null,null,null,null,null,null,null,null,null,null,null,null,null,null,null,null,null,null,null,null,null,null,null,null,null,null,null,null,null,null,null,null,null,null,null,null,null,null,null,null,null,null,null,null,null,null,null,null,null,null,null,null,null,null,null,null,null,null,null,null,null,null,null,null,null,null,null,null,null,null,null,null,null,null,null,null,null,null,null,null,null,null,null,null,null,null,null,null,null,null,null,null,null,null,null,null,null,null,null,null,null,null,null,null,null,null,null,null,null,null,null,null,null,null,null,null,null,null,null,null,null,null,null,null,null,null,null,null,null,null,null,null,null,null,null,null,null,null,null,null,null,null,null,null,null,null,null,null,null,null,null,null,null,null,null,null,null,null,null,null,null,null,null,null,null,null,null,null,null,null,null,null,null,null,null,null,null,null,null,null,null,null,null,null,null,null,null,null,null,null,null,null,null,null,null,null,null,null,null,null,null,null,null,null,null,null,null,null,null,null,null,null,null,null,null,null,null,null,null,null,null,null,null,null,null,null,null,null,null,null,null,null,null,null,null,null,null,null,null,null,null,null,null,null,null,null,null,null,null,null,null,null,null,null,null,null,null,null,null,null,null,null,null,null,null,null,null,null,null,null,null,null,null,null,null,null,null,null,null,null,null,null,null,null,null,null,null,null,null,null,null,null,null,null,null,null,null,null,null,null,null,null,null,null,null,null,null,null,null,null,null,null,null,null,null,null,null,null,null,null,null,null,null,null,null,null,null,null,null,null,null,null,null,null,null,null,null,null,null,null,null,null,null,null,null,null,null,null,null,null,null,null,null,null,null,null,null,null,null,null,null,null,null,null,null,null,null,null,null,null,null,null,null,null,null,null,null,null,null,null,null,null,null,null,null,null,null,null,null,null,null,null,null,null,null,null,null,null,null,null,null,null,null,null,null,null,null,null,null,null,null,null,null,null,null,null,null,null,null,null,null,null,null,null,null,null,null,null,null,null,null,null,null,null,null,null,null,null,null,null,null,null,null,null,null,null,null,null,null,null,null,null,null,null,null,null,null,null,null,null,null,null,null,null,null,null,null,null,null,null,null,null,null,null,null,null,null,null,null,null,null,null,null,null,null,null,null,null,null,null,null,null,null,null,null,null,null,null,null,null,null,null,null,null,null,null,null,null,null,null,null,null,null,null,null,null,null,null,null,null,null,null,null,null,null,null,null,null,null,null,null,null,null,null,null,null,null,null,null,null,null,null,null,null,null,null,null,null,null,null,null,null,null,null,null,null,null,null,null,null,null,null,null,null,null,null,null,null,null,null,null,null,null,null,null,null,null,null,null,null,null,null,null,null,null,null,null,null,null,null,null,null,null,null,null,null,null,null,null,null,null,null,null,null,null,null,null,null,null,null,null,null,null,null,null,null,null,null,null,null,null,null,null,null,null,null,null,null,null,null,null,null,null,null,null,null,null,null,null,null,null,null,null,null,null,null,null,null,null,null,null,null,null,null,null,null,null,null,null,null,null,null,null,null,null,null,null,null,null,null,null,null,null,null,null,null,null,null,null,null,null,null,null,null,null,null,null,null,null,null,null,null,null,null,null,null,null,null,null,null,null,null,null,null,null,null,null,null,null,null,null,null,null,null,null,null,null,null,null,null,null,null,null,null,null,null,null,null,null,null,null,null,null,null,null,null,null,null,null,null,null,null,null,null,null,null,null,null,null,null,null,null,null,null,null,null,null,null,null,null,null,null,null,null,null,null,null,null,null,null,null,null,null,null,null,null,null,null,null,null,null,null,null,null,null,null,null,null,null,null,null,null,null,null,null,null,null,null,null,null,null,null,null,null,null,null,null,null,null,null,null,null,null,null,null,null,null,null,null,null,null,null,null,null,null,null,null,null,null,null,null,null,null,null,null,null,null,null,null,null,null,null,null,null,null,null,null,null,null,null,null,null,null,null,null,null,null,null,null,null,null,null,null,null,null,null,null,null,null,null,null,null,null,null,null,null,null,null,null,null,null,null,null,null,null,null,null,null,null,null,null,null,null,null,null,null,null,null,null,null,null,null,null,null,null,null,null,null,null,null,null,null,null,null,null,null,null,null,null,null,null,null,null,null,null,null,null,null,null,null,null,null,null,null,null,null,null,null,null,null,null,null,null,null,null,null,null,null,null,null,null,null,null,null,null,null,null,null,null,null,null,null,null,null,null,null,null,null,null,null,null,null,null,null,null,null,null,null,null,null,null,null,null,null,null,null,null,null,null,null,null,null,null,null,null,null,null,null,null,null,null,null,null,null,null,null,null,null,null,null,null,null,null,null,null,null,null,null,null,null,null,null,null,null,null,null,null,null,null,null,null,null,null,null,null,null,null,null,null,null,null,null,null,"GanttSheet","BaselineBudget","EstimatedBudget","ActualCosts","TotalACS","PercentageColor","EstimatedTimelineColor","Mcolor","BaselineTimelineColor","ActualTimelineColor","OverdueTaskColor","ShowOverdueBar","ShowBaselineBar","ShowActualBar","CurrencySymbol","HolidayDate","HolidayName","ResourceName","ResourceCost","ScrollPosition","CurrentView","ShowCompleted","ShowInProgress","ShowPlanned","ShowLate","WorkdaySun","WorkdayMon","WorkdayTue","WorkdayWed","WorkdayThu","WorkdayFri","WorkdaySat","WeekStartDay","WeekNumType","LV","TaskRowHeight","CM","EC","DB","LiType","TimelineWeeks","ShowGrouping","DateFormat","ShowTodayLines","ShowDependencyConnector","ConnectorColor","peru","chirun","vidud","EnableBarText","BarTextColor","BarTextCharacters","BarTextFontSize","BarTextDataColumnName","BarTextIsBold","BarTextIsItalic","BarTextIsUnderline","TodayLineColor","BordersColor","liky","duli","PercentageEntryMode","PercentageCalculationType","FiSa"]
["System","System","System","System","System","System","System","System","System","System","System","System","System","Custom","Custom","Custom","System","System","System","System","Custom","Custom","System","System","System","System","System","System","System","System","System","System","System",null,null,null,null,null,null,null,null,null,null,null,null,null,null,null,null,null,null,null,null,null,null,null,null,null,null,null,null,null,null,null,null,null,null,null,null,null,null,null,null,null,null,null,null,null,null,null,null,null,null,null,null,null,null,null,null,null,null,null,null,null,null,null,null,null,null,null,null,null,null,null,null,null,null,null,null,null,null,null,null,null,null,null,null,null,null,null,null,null,null,null,null,null,null,null,null,null,null,null,null,null,null,null,null,null,null,null,null,null,null,null,null,null,null,null,null,null,null,null,null,null,null,null,null,null,null,null,null,null,null,null,null,null,null,null,null,null,null,null,null,null,null,null,null,null,null,null,null,null,null,null,null,null,null,null,null,null,null,null,null,null,null,null,null,null,null,null,null,null,null,null,null,null,null,null,null,null,null,null,null,null,null,null,null,null,null,null,null,null,null,null,null,null,null,null,null,null,null,null,null,null,null,null,null,null,null,null,null,null,null,null,null,null,null,null,null,null,null,null,null,null,null,null,null,null,null,null,null,null,null,null,null,null,null,null,null,null,null,null,null,null,null,null,null,null,null,null,null,null,null,null,null,null,null,null,null,null,null,null,null,null,null,null,null,null,null,null,null,null,null,null,null,null,null,null,null,null,null,null,null,null,null,null,null,null,null,null,null,null,null,null,null,null,null,null,null,null,null,null,null,null,null,null,null,null,null,null,null,null,null,null,null,null,null,null,null,null,null,null,null,null,null,null,null,null,null,null,null,null,null,null,null,null,null,null,null,null,null,null,null,null,null,null,null,null,null,null,null,null,null,null,null,null,null,null,null,null,null,null,null,null,null,null,null,null,null,null,null,null,null,null,null,null,null,null,null,null,null,null,null,null,null,null,null,null,null,null,null,null,null,null,null,null,null,null,null,null,null,null,null,null,null,null,null,null,null,null,null,null,null,null,null,null,null,null,null,null,null,null,null,null,null,null,null,null,null,null,null,null,null,null,null,null,null,null,null,null,null,null,null,null,null,null,null,null,null,null,null,null,null,null,null,null,null,null,null,null,null,null,null,null,null,null,null,null,null,null,null,null,null,null,null,null,null,null,null,null,null,null,null,null,null,null,null,null,null,null,null,null,null,null,null,null,null,null,null,null,null,null,null,null,null,null,null,null,null,null,null,null,null,null,null,null,null,null,null,null,null,null,null,null,null,null,null,null,null,null,null,null,null,null,null,null,null,null,null,null,null,null,null,null,null,null,null,null,null,null,null,null,null,null,null,null,null,null,null,null,null,null,null,null,null,null,null,null,null,null,null,null,null,null,null,null,null,null,null,null,null,null,null,null,null,null,null,null,null,null,null,null,null,null,null,null,null,null,null,null,null,null,null,null,null,null,null,null,null,null,null,null,null,null,null,null,null,null,null,null,null,null,null,null,null,null,null,null,null,null,null,null,null,null,null,null,null,null,null,null,null,null,null,null,null,null,null,null,null,null,null,null,null,null,null,null,null,null,null,null,null,null,null,null,null,null,null,null,null,null,null,null,null,null,null,null,null,null,null,null,null,null,null,null,null,null,null,null,null,null,null,null,null,null,null,null,null,null,null,null,null,null,null,null,null,null,null,null,null,null,null,null,null,null,null,null,null,null,null,null,null,null,null,null,null,null,null,null,null,null,null,null,null,null,null,null,null,null,null,null,null,null,null,null,null,null,null,null,null,null,null,null,null,null,null,null,null,null,null,null,null,null,null,null,null,null,null,null,null,null,null,null,null,null,null,null,null,null,null,null,null,null,null,null,null,null,null,null,null,null,null,null,null,null,null,null,null,null,null,null,null,null,null,null,null,null,null,null,null,null,null,null,null,null,null,null,null,null,null,null,null,null,null,null,null,null,null,null,null,null,null,null,null,null,null,null,null,null,null,null,null,null,null,null,null,null,null,null,null,null,null,null,null,null,null,null,null,null,null,null,null,null,null,null,null,null,null,null,null,null,null,null,null,null,null,null,null,null,null,null,null,null,null,null,null,null,null,null,null,null,null,null,null,null,null,null,null,null,null,null,null,null,null,null,null,null,null,null,null,null,null,null,null,null,null,null,null,null,null,null,null,null,null,null,null,null,null,null,null,null,null,null,null,null,null,null,null,null,null,null,null,null,null,null,null,null,null,null,null,null,null,null,null,null,null,null,null,null,null,null,null,null,null,null,null,null,null,null,null,null,null,null,null,null,null,null,null,null,null,null,null,null,null,null,null,null,null,null,null,null,null,null,null,null,null,null,null,null,null,null,null,null,null,null,null,null,null,null,null,null,null,null,null,null,null,null,null,null,null,null,null,null,null,null,null,null,null,null,null,null,null,null,null,null,null,null,null,null,null,null,null,null,null,null,null,null,null,null,null,null,null,null,null,null,null,null,null,null,null,null,null,null,null,null,null,null,null,null,null,null,null,null,null,null,null,null,null,null,null,null,null,null,null,null,null,null,null,null,null,null,null,null,null,null,null,null,null,null,null,null,null,null,null,null,null,null,null,null,null,null,null,null,null,null,null,null,null,null,null,null,null,null,null,null,null,null,null,null,null,null,null,null,null,null,null,null,null,null,null,null,null,null,null,null,null,null,null,null,null,null,null,null,null,null,null,null,null,null,null,null,null,null,null,null,null,null,null,null,null,null,null,null,null,null,null,null,null,null,null,null,null,null,null,null,null,null,null,null,null,null,null,null,null,null,null,null,null,null,null,null,null,null,null,null,null,null,null,null,null,null,null,null,null,null,null,null,null,null,null,null,null,null,null,null,null,null,null,null,null,null,null,null,null,null,null,null,null,null,null,null,null,null,null,null,null,null,null,null,null,null,null,null,null,null,null,null,null,null,null,null,null,null,null,null,null,null,null,null,null,null,null,null,null,null,null,null,null,null,null,null,null,null,null,null,null,null,null,null,null,null,null,null,null,null,null,null,null,null,null,null,null,null,null,null,null,null,null,null,null,null,null,null,null,null,null,null,null,null,null,null,null,null,null,null,null,null,null,null,null,null,null,null,null,null,null,null,null,null,null,null,null,null,null,null,null,null,null,null,null,null,null,null,null,null,null,null,null,null,null,null,null,null,null,null,null,null,null,null,null,null,null,null,null,null,null,null,null,null,null,null,null,null,null,null,null,null,null,null,null,null,null,null,null,null,null,null,null,null,null,null,null,null,null,null,null,null,null,null,null,null,null,null,null,null,null,null,null,null,null,null,null,null,null,null,null,null,null,null,null,null,null,null,null,null,null,null,null,null,null,null,null,null,null,null,null,null,null,null,null,null,null,null,null,null,null,null,null,null,null,null,null,null,null,null,null,null,null,null,null,null,null,null,null,null,null,null,null,null,null,null,null,null,null,null,null,null,null,null,null,null,null,null,null,null,null,null,null,null,null,null,null,null,null,null,null,null,null,null,null,null,null,null,null,null,null,null,null,null,null,null,null,null,null,null,null,null,null,null,null,null,null,null,null,null,null,null,null,null,null,null,null,null,null,null,null,null,null,null,null,null,null,null,null,null,null,null,null,null,null,null,null,null,null,null,null,null,null,null,null,null,null,null,null,null,null,null,null,null,null,null,null,null,null,null,null,null,null,null,null,null,null,null,null,null,null,null,null,null,null,null,null,null,null,null,null,null,null,null,null,null,null,null,null,null,null,null,null,null,null,null,null,null,null,null,null,null,null,null,null,null,null,null,null,null,null,null,null,null,null,null,null,null,null,null,null,null,null,null,null,null,null,null,null,null,null,null,null,null,null,null,null,null,null,null,null,null,null,null,null,null,null,null,null,null,null,null,null,null,null,null,null,null,null,null,null,null,null,null,null,null,null,null,null,null,null,null,null,null,null,null,null,null,null,null,null,null,null,null,null,null,null,null,null,null,null,null,null,null,null,null,null,null,null,null,null,null,null,null,null,null,null,null,null,null,null,null,null,null,null,null,null,null,null,null,null,null,null,null,null,null,null,null,null,null,null,null,null,null,null,null,null,null,null,null,null,null,null,null,null,null,null,null,null,null,null,null,null,null,null,null,null,null,null,null,null,null,null,null,null,null,null,null,null,null,null,null,null,null,null,null,null,null,null,null,null,null,null,null,null,null,null,null,null,null,null,null,null,null,null,null,null,null,null,null,null,null,null,null,null,null,null,null,null,null,null,null,null,null,null,null,null,null,null,null,null,null,null,null,null,null,null,null,null,null,null,null,null,null,null,null,null,null,null,null,null,null,null,null,null,null,null,null,null,null,null,null,null,null,null,null,null,null,null,null,null,null,null,null,null,null,null,null,null,null,null,null,null,null,null,null,null,null,null,null,null,null,null,null,null,null,null,null,null,null,null,null,null,null,null,null,null,null,null,null,null,null,null,null,null,null,null,null,null,null,null,null,null,null,null,null,null,null,null,null,null,null,null,null,null,null,null,null,null,null,null,null,null,null,null,null,null,null,null,null,null,null,null,null,null,null,null,null,null,null,null,null,null,null,null,null,null,null,null,null,null,null,null,null,null,null,null,null,null,null,null,null,null,null,null,null,null,null,null,null,null,null,null,null,null,null,null,null,null,null,null,null,null,null,null,null,null,null,null,null,null,null,null,null,null,null,null,null,null,null,null,null,null,null,null,null,null,null,null,null,null,null,null,null,null,null,null,null,null,null,null,null,null,null,null,null,null,null,null,null,null,null,null,null,null,null,null,null,null,null,null,null,null,null,null,null,null,null,null,null,null,null,null,null,null,null,null,null,null,null,null,null,null,null,null,null,null,null,null,null,null,null,null,null,null,null,null,null,null,null,null,null,null,null,null,null,null,null,null,null,null,null,null,null,null,null,null,null,null,null,null,null,null,null,null,null,null,null,null,null,null,null,null,null,null,null,null,null,null,null,null,null,null,null,null,null,null,null,null,null,null,null,null,null,null,null,null,null,null,null,null,null,null,null,null,null,null,null,null,null,null,null,null,null,null,null,null,null,null,null,null,null,null,null,null,null,null,null,null,null,null,null,null,null,null,null,null,null,null,null,null,null,null,null,null,null,null,null,null,null,null,null,null,null,null,null,null,null,null,null,null,null,null,null,null,null,null,null,null,null,null,null,null,null,null,null,null,null,null,null,null,null,null,null,null,null,null,null,null,null,null,null,null,null,null,null,null,null,null,null,null,null,null,null,null,null,null,null,null,null,null,null,null,null,null,null,null,null,null,null,null,null,null,null,null,null,null,null,null,null,null,null,null,null,null,null,null,null,null,null,null,null,null,null,null,null,null,null,null,null,null,null,null,null,null,null,null,null,null,null,null,null,null,null,null,null,null,null,null,null,null,null,null,null,null,null,null,null,null,null,null,null,null,null,null,null,null,null,null,null,null,null,null,null,null,null,null,null,null,null,null,null,null,null,null,null,null,null,null,null,null,null,null,null,null,null,null,null,null,null,null,null,null,null,null,null,null,null,null,null,null,null,null,null,null,null,null,null,null,null,null,null,null,null,null,null,null,null,null,null,null,null,null,null,null,null,null,null,null,null,null,null,null,null,null,null,null,null,null,null,null,null,null,null,null,null,null,null,null,null,null,null,null,null,null,null,null,null,null,null,null,null,null,null,null,null,null,null,null,null,null,null,null,null,null,null,null,null,null,null,null,null,null,null,null,null,null,null,null,null,null,null,null,null,null,null,null,null,null,null,null,null,null,null,null,null,null,null,null,null,null,null,null,null,null,null,null,null,null,null,null,null,null,null,null,null,null,null,null,null,null,null,null,null,null,null,null,null,null,null,null,null,null,null,null,null,null,null,null,null,null,null,null,null,null,null,null,null,null,null,null,null,null,null,null,null,null,null,null,null,null,null,null,null,null,null,null,null,null,null,null,null,null,null,null,null,null,null,null,null,null,null,null,null,null,null,null,null,null,null,null,null,null,null,null,null,null,null,null,null,null,null,null,null,null,null,null,null,null,null,null,null,null,null,null,null,null,null,null,null,null,null,null,null,null,null,null,null,null,null,null,null,null,null,null,null,null,null,null,null,null,null,null,null,null,null,null,null,null,null,null,null,null,null,null,null,null,null,null,null,null,null,null,null,null,null,null,null,null,null,null,null,null,null,null,null,null,null,null,null,null,null,null,null,null,null,null,null,null,null,null,null,null,null,null,null,null,null,null,null,null,null,null,null,null,null,null,null,null,null,null,null,null,null,null,null,null,null,null,null,null,null,null,null,null,null,null,null,null,null,null,null,null,null,null,null,null,null,null,null,null,null,null,null,null,null,null,null,null,null,null,null,null,null,null,null,null,null,null,null,null,null,null,null,null,null,null,null,null,null,null,null,null,null,null,null,null,null,null,null,null,null,null,null,null,null,null,null,null,null,null,null,null,null,null,null,null,null,null,null,null,null,null,null,null,null,null,null,null,null,null,null,null,null,null,null,null,null,null,null,null,null,null,null,null,null,null,null,null,null,null,null,null,null,null,null,null,null,null,null,null,null,null,null,null,null,null,null,null,null,null,null,null,null,null,null,null,null,null,null,null,null,null,null,null,null,null,null,null,null,null,null,null,null,null,null,null,null,null,null,null,null,null,null,null,null,null,null,null,null,null,null,null,null,null,null,null,null,null,null,null,null,null,null,null,null,null,null,null,null,null,null,null,null,null,null,null,null,null,null,null,null,null,null,null,null,null,null,null,null,null,null,null,null,null,null,null,null,null,null,null,null,null,null,null,null,null,null,null,null,null,null,null,null,null,null,null,null,null,null,null,null,null,null,null,null,null,null,null,null,null,null,null,null,null,null,null,null,null,null,null,null,null,null,null,null,null,null,null,null,null,null,null,null,null,null,null,null,null,null,null,null,null,null,null,null,null,null,null,null,null,null,null,null,null,null,null,null,null,null,null,null,null,null,null,null,null,null,null,null,null,null,null,null,null,null,null,null,null,null,null,null,null,null,null,null,null,null,null,null,null,null,null,null,null,null,null,null,null,null,null,null,null,null,null,null,null,null,null,null,null,null,null,null,null,null,null,null,null,null,null,null,null,null,null,null,null,null,null,null,null,null,null,null,null,null,null,null,null,null,null,null,null,null,null,null,null,null,null,null,null,null,null,null,null,null,null,null,null,null,null,null,null,null,null,null,null,null,null,null,null,null,null,null,null,null,null,null,null,null,null,null,null,null,null,null,null,null,null,null,null,null,null,null,null,null,null,null,null,null,null,null,null,null,null,null,null,null,null,null,null,null,null,null,null,null,null,null,null,null,null,null,null,null,null,null,null,null,null,null,null,null,null,null,null,null,null,null,null,null,null,null,null,null,null,null,null,null,null,null,null,null,null,null,null,null,null,null,null,null,null,null,null,null,null,null,null,null,null,null,null,null,null,null,null,null,null,null,null,null,null,null,null,null,null,null,null,null,null,null,null,null,null,null,null,null,null,null,null,null,null,null,null,null,null,null,null,null,null,null,null,null,null,null,null,null,null,null,null,null,null,null,null,null,null,null,null,null,null,null,null,null,null,null,null,null,null,null,null,null,null,null,null,null,null,null,null,null,null,null,null,null,null,null,null,null,null,null,null,null,null,null,null,null,null,null,null,null,null,null,null,null,null,null,null,null,null,null,null,null,null,null,null,null,null,null,null,null,null,null,null,null,null,null,null,null,null,null,null,null,null,null,null,null,null,null,null,null,null,null,null,null,null,null,null,null,null,null,null,null,null,null,null,null,null,null,null,null,null,null,null,null,null,null,null,null,null,null,null,null,null,null,null,null,null,null,null,null,null,null,null,null,null,null,null,null,null,null,null,null,null,null,null,null,null,null,null,null,null,null,null,null,null,null,null,null,null,null,null,null,null,null,null,null,null,null,null,null,null,null,null,null,null,null,null,null,null,null,null,null,null,null,null,null,null,null,null,null,null,null,null,null,null,null,null,null,null,null,null,null,null,null,null,null,null,null,null,null,null,null,null,null,null,null,null,null,null,null,null,null,null,null,null,null,null,null,null,null,null,null,null,null,null,null,null,null,null,null,null,null,null,null,null,null,null,null,null,null,null,null,null,null,null,null,null,null,null,null,null,null,null,null,null,null,null,null,null,null,null,null,null,null,null,null,null,null,null,null,null,null,null,null,null,null,null,null,null,null,null,null,null,null,null,null,null,null,null,null,null,null,null,null,null,null,null,null,null,null,null,null,null,null,null,null,null,null,null,null,null,null,null,null,null,null,null,null,null,null,null,null,null,null,null,null,null,null,null,null,null,null,null,null,null,null,null,null,null,null,null,null,null,null,null,null,null,null,null,null,null,null,null,null,null,null,null,null,null,null,null,null,null,null,null,null,null,null,null,null,null,null,null,null,null,null,null,null,null,null,null,null,null,null,null,null,null,null,null,null,null,null,null,null,null,null,null,null,null,null,null,null,null,null,null,null,null,null,null,null,null,null,null,null,null,null,null,null,null,null,null,null,null,null,null,null,null,null,null,null,null,null,null,null,null,null,null,null,null,null,null,null,null,null,null,null,null,null,null,null,null,null,null,null,null,null,null,null,null,null,null,null,null,null,null,null,null,null,null,null,null,null,null,null,null,null,null,null,null,null,null,null,null,null,null,null,null,null,null,null,null,null,null,null,null,null,null,null,null,null,null,null,null,null,null,null,null,null,null,null,null,null,null,null,null,null,null,null,null,null,null,null,null,null,null,null,null,null,null,null,null,null,null,null,null,null,null,null,null,null,null,null,null,null,null,null,null,null,null,null,null,null,null,null,null,null,null,null,null,null,null,null,null,null,null,null,null,null,null,null,null,null,null,null,null,null,null,null,null,null,null,null,null,null,null,null,null,null,null,null,null,null,null,null,null,null,null,null,null,null,null,null,null,null,null,null,null,null,null,null,null,null,null,null,null,null,null,null,null,null,null,null,null,null,null,null,null,null,null,null,null,null,null,null,null,null,null,null,null,null,null,null,null,null,null,null,null,null,null,null,null,null,null,null,null,null,null,null,null,null,null,null,null,null,null,null,null,null,null,null,null,null,null,null,null,null,null,null,null,null,null,null,null,null,null,null,null,null,null,null,null,null,null,null,null,null,null,null,null,null,null,null,null,null,null,null,null,null,null,null,null,null,null,null,null,null,null,null,null,null,null,null,null,null,null,null,null,null,null,null,null,null,null,null,null,null,null,null,null,null,null,null,null,null,null,null,null,null,null,null,null,null,null,null,null,null,null,null,null,null,null,null,null,null,null,null,null,null,null,null,null,null,null,null,null,null,null,null,null,null,null,null,null,null,null,null,null,null,null,null,null,null,null,null,null,null,null,null,null,null,null,null,null,null,null,null,null,null,null,null,null,null,null,null,null,null,null,null,null,null,null,null,null,null,null,null,null,null,null,null,null,null,null,null,null,null,null,null,null,null,null,null,null,null,null,null,null,null,null,null,null,null,null,null,null,null,null,null,null,null,null,null,null,null,null,null,null,null,null,null,null,null,null,null,null,null,null,null,null,null,null,null,null,null,null,null,null,null,null,null,null,null,null,null,null,null,null,null,null,null,null,null,null,null,null,null,null,null,null,null,null,null,null,null,null,null,null,null,null,null,null,null,null,null,null,null,null,null,null,null,null,null,null,null,null,null,null,null,null,null,null,null,null,null,null,null,null,null,null,null,null,null,null,null,null,null,null,null,null,null,null,null,null,null,null,null,null,null,null,null,null,null,null,null,null,null,null,null,null,null,null,null,null,null,null,null,null,null,null,null,null,null,null,null,null,null,null,null,null,null,null,null,null,null,null,null,null,null,null,null,null,null,null,null,null,null,null,null,null,null,null,null,null,null,null,null,null,null,null,null,null,null,null,null,null,null,null,null,null,null,null,null,null,null,null,null,null,null,null,null,null,null,null,null,null,null,null,null,null,null,null,null,null,null,null,null,null,null,null,null,null,null,null,null,null,null,null,null,null,null,null,null,null,null,null,null,null,null,null,null,null,null,null,null,null,null,null,null,null,null,null,null,null,null,null,null,null,null,null,null,null,null,null,null,null,null,null,null,null,null,null,null,null,null,null,null,null,null,null,null,null,null,null,null,null,null,null,null,null,null,null,null,null,null,null,null,null,null,null,null,null,null,null,null,null,null,null,null,null,null,null,null,null,null,null,null,null,null,null,null,null,null,null,null,null,null,null,null,null,null,null,null,null,null,null,null,null,null,null,null,null,null,null,null,null,null,null,null,null,null,null,null,null,null,null,null,null,null,null,null,null,null,null,null,null,null,null,null,null,null,null,null,null,null,null,null,null,null,null,null,null,null,null,null,null,null,null,null,null,null,null,null,null,null,null,null,null,null,null,null,null,null,null,null,null,null,null,null,null,null,null,null,null,null,null,null,null,null,null,null,null,null,null,null,null,null,null,null,null,null,null,null,null,null,null,null,null,null,null,null,null,null,null,null,null,null,null,null,null,null,null,null,null,null,null,null,null,null,null,null,null,null,null,null,null,null,null,null,null,null,null,null,null,null,null,null,null,null,null,null,null,null,null,null,null,null,null,null,null,null,null,null,null,null,null,null,null,null,null,null,null,null,null,null,null,null,null,null,null,null,null,null,null,null,null,null,null,null,null,null,null,null,null,null,null,null,null,null,null,null,null,null,null,null,null,null,null,null,null,null,null,null,null,null,null,null,null,null,null,null,null,null,null,null,null,null,null,null,null,null,null,null,null,null,null,null,null,null,null,null,null,null,null,null,null,null,null,null,null,null,null,null,null,null,null,null,null,null,null,null,null,null,null,null,null,null,null,null,null,null,null,null,null,null,null,null,null,null,null,null,null,null,null,null,null,null,null,null,null,null,null,null,null,null,null,null,null,null,null,null,null,null,null,null,null,null,null,null,null,null,null,null,null,null,null,null,null,null,null,null,null,null,null,null,null,null,null,null,null,null,null,null,null,null,null,null,null,null,null,null,null,null,null,null,null,null,null,null,null,null,null,null,null,null,null,null,null,null,null,null,null,null,null,null,null,null,null,null,null,null,null,null,null,null,null,null,null,null,null,null,null,null,null,null,null,null,null,null,null,null,null,null,null,null,null,null,null,null,null,null,null,null,null,null,null,null,null,null,null,null,null,null,null,null,null,null,null,null,null,null,null,null,null,null,null,null,null,null,null,null,null,null,null,null,null,null,null,null,null,null,null,null,null,null,null,null,null,null,null,null,null,null,null,null,null,null,null,null,null,null,null,null,null,null,null,null,null,null,null,null,null,null,null,null,null,null,null,null,null,null,null,null,null,null,null,null,null,null,null,null,null,null,null,null,null,null,null,null,null,null,null,null,null,null,null,null,null,null,null,null,null,null,null,null,null,null,null,null,null,null,null,null,null,null,null,null,null,null,null,null,null,null,null,null,null,null,null,null,null,null,null,null,null,null,null,null,null,null,null,null,null,null,null,null,null,null,null,null,null,null,null,null,null,null,null,null,null,null,null,null,null,null,null,null,null,null,null,null,null,null,null,null,null,null,null,null,null,null,null,null,null,null,null,null,null,null,null,null,null,null,null,null,null,null,null,null,null,null,null,null,null,null,null,null,null,null,null,null,null,null,null,null,null,null,null,null,null,null,null,null,null,null,null,null,null,null,null,null,null,null,null,null,null,null,null,null,null,null,null,null,null,null,null,null,null,null,null,null,null,null,null,null,null,null,null,null,null,null,null,null,null,null,null,null,null,null,null,null,null,null,null,null,null,null,null,null,null,null,null,null,null,null,null,null,null,null,null,null,null,null,null,null,null,null,null,null,null,null,null,null,null,null,null,null,null,null,null,null,null,null,null,null,null,null,null,null,null,null,null,null,null,null,null,null,null,null,null,null,null,null,null,null,null,null,null,null,null,null,null,null,null,null,null,null,null,null,null,null,null,null,null,null,null,null,null,null,null,null,null,null,null,null,null,null,null,null,null,null,null,null,null,null,null,null,null,null,null,null,null,null,null,null,null,null,null,null,null,null,null,null,null,null,null,null,null,null,null,null,null,null,null,null,null,null,null,null,null,null,null,null,null,null,null,null,null,null,null,null,null,null,null,null,null,null,null,null,null,null,null,null,null,null,null,null,null,null,null,null,null,null,null,null,null,null,null,null,null,null,null,null,null,null,null,null,null,null,null,null,null,null,null,null,null,null,null,null,null,null,null,null,null,null,null,null,null,null,null,null,null,null,null,null,null,null,null,null,null,null,null,null,null,null,null,null,null,null,null,null,null,null,null,null,null,null,null,null,null,null,null,null,null,null,null,null,null,null,null,null,null,null,null,null,null,null,null,null,null,null,null,null,null,null,null,null,null,null,null,null,null,null,null,null,null,null,null,null,null,null,null,null,null,null,null,null,null,null,null,null,null,null,null,null,null,null,null,null,null,null,null,null,null,null,null,null,null,null,null,null,null,null,null,null,null,null,null,null,null,null,null,null,null,null,null,null,null,null,null,null,null,null,null,null,null,null,null,null,null,null,null,null,null,null,null,null,null,null,null,null,null,null,null,null,null,null,null,null,null,null,null,null,null,null,null,null,null,null,null,null,null,null,null,null,null,null,null,null,null,null,null,null,null,null,null,null,null,null,null,null,null,null,null,null,null,null,null,null,null,null,null,null,null,null,null,null,null,null,null,null,null,null,null,null,null,null,null,null,null,null,null,null,null,null,null,null,null,null,null,null,null,null,null,null,null,null,null,null,null,null,null,null,null,null,null,null,null,null,null,null,null,null,null,null,null,null,null,null,null,null,null,null,null,null,null,null,null,null,null,null,null,null,null,null,null,null,null,null,null,null,null,null,null,null,null,null,null,null,null,null,null,null,null,null,null,null,null,null,null,null,null,null,null,null,null,null,null,null,null,null,null,null,null,null,null,null,null,null,null,null,null,null,null,null,null,null,null,null,null,null,null,null,null,null,null,null,null,null,null,null,null,null,null,null,null,null,null,null,null,null,null,null,null,null,null,null,null,null,null,null,null,null,null,null,null,null,null,null,null,null,null,null,null,null,null,null,null,null,null,null,null,null,null,null,null,null,null,null,null,null,null,null,null,null,null,null,null,null,null,null,null,null,null,null,null,null,null,null,null,null,null,null,null,null,null,null,null,null,null,null,null,null,null,null,null,null,null,null,null,null,null,null,null,null,null,null,null,null,null,null,null,null,null,null,null,null,null,null,null,null,null,null,null,null,null,null,null,null,null,null,null,null,null,null,null,null,null,null,null,null,null,null,null,null,null,null,null,null,null,null,null,null,null,null,null,null,null,null,null,null,null,null,null,null,null,null,null,null,null,null,null,null,null,null,null,null,null,null,null,null,null,null,null,null,null,null,null,null,null,null,null,null,null,null,null,null,null,null,null,null,null,null,null,null,null,null,null,null,null,null,null,null,null,null,null,null,null,null,null,null,null,null,null,null,null,null,null,null,null,null,null,null,null,null,null,null,null,null,null,null,null,null,null,null,null,null,null,null,null,null,null,null,null,null,null,null,null,null,null,null,null,null,null,null,null,null,null,null,null,null,null,null,null,null,null,null,null,null,null,null,null,null,null,null,null,null,null,null,null,null,null,null,null,null,null,null,null,null,null,null,null,null,null,null,null,null,null,null,null,null,null,null,null,null,null,null,null,null,null,null,null,null,null,null,null,null,null,null,null,null,null,null,null,null,null,null,null,null,null,null,null,null,null,null,null,null,null,null,null,null,null,null,null,null,null,null,null,null,null,null,null,null,null,null,null,null,null,null,null,null,null,null,null,null,null,null,null,null,null,null,null,null,null,null,null,null,null,null,null,null,null,null,null,null,null,null,null,null,null,null,null,null,null,null,null,null,null,null,null,null,null,null,null,null,null,null,null,null,null,null,null,null,null,null,null,null,null,null,null,null,null,null,null,null,null,null,null,null,null,null,null,null,null,null,null,null,null,null,null,null,null,null,null,null,null,null,null,null,null,null,null,null,null,null,null,null,null,null,null,null,null,null,null,null,null,null,null,null,null,null,null,null,null,null,null,null,null,null,null,null,null,null,null,null,null,null,null,null,null,null,null,null,null,null,null,null,null,null,null,null,null,null,null,null,null,null,null,null,null,null,null,null,null,null,null,null,null,null,null,null,null,null,null,null,null,null,null,null,null,null,null,null,null,null,null,null,null,null,null,null,null,null,null,null,null,null,null,null,null,null,null,null,null,null,null,null,null,null,null,null,null,null,null,null,null,null,null,null,null,null,null,null,null,null,null,null,null,null,null,null,null,null,null,null,null,null,null,null,null,null,null,null,null,null,null,null,null,null,null,null,null,null,null,null,null,null,null,null,null,null,null,null,null,null,null,null,null,null,null,null,null,null,null,null,null,null,null,null,null,null,null,null,null,null,null,null,null,null,null,null,null,null,null,null,null,null,null,null,null,null,null,null,null,null,null,null,null,null,null,null,null,null,null,null,null,null,null,null,null,null,null,null,null,null,null,null,null,null,null,null,null,null,null,null,null,null,null,null,null,null,null,null,null,null,null,null,null,null,null,null,null,null,null,null,null,null,null,null,null,null,null,null,null,null,null,null,null,null,null,null,null,null,null,null,null,null,null,null,null,null,null,null,null,null,null,null,null,null,null,null,null,null,null,null,null,null,null,null,null,null,null,null,null,null,null,null,null,null,null,null,null,null,null,null,null,null,null,null,null,null,null,null,null,null,null,null,null,null,null,null,null,null,null,null,null,null,null,null,null,null,null,null,null,null,null,null,null,null,null,null,null,null,null,null,null,null,null,null,null,null,null,null,null,null,null,null,null,null,null,null,null,null,null,null,null,null,null,null,null,null,null,null,null,null,null,null,null,null,null,null,null,null,null,null,null,null,null,null,null,null,null,null,null,null,null,null,null,null,null,null,null,null,null,null,null,null,null,null,null,null,null,null,null,null,null,null,null,null,null,null,null,null,null,null,null,null,null,null,null,null,null,null,null,null,null,null,null,null,null,null,null,null,null,null,null,null,null,null,null,null,null,null,null,null,null,null,null,null,null,null,null,null,null,null,null,null,null,null,null,null,null,null,null,null,null,null,null,null,null,null,null,null,null,null,null,null,null,null,null,null,null,null,null,null,null,null,null,null,null,null,null,null,null,null,null,null,null,null,null,null,null,null,null,null,null,null,null,null,null,null,null,null,null,null,null,null,null,null,null,null,null,null,null,null,null,null,null,null,null,null,null,null,null,null,null,null,null,null,null,null,null,null,null,null,null,null,null,null,null,null,null,null,null,null,null,null,null,null,null,null,null,null,null,null,null,null,null,null,null,null,null,null,null,null,null,null,null,null,null,null,null,null,null,null,null,null,null,null,null,null,null,null,null,null,null,null,null,null,null,null,null,null,null,null,null,null,null,null,null,null,null,null,null,null,null,null,null,null,null,null,null,null,null,null,null,null,null,null,null,null,null,null,null,null,null,null,null,null,null,null,null,null,null,null,null,null,null,null,null,null,null,null,null,null,null,null,null,null,null,null,null,null,null,null,null,null,null,null,null,null,null,null,null,null,null,null,null,null,null,null,null,null,null,null,null,null,null,null,null,null,null,null,null,null,null,null,null,null,null,null,null,null,null,null,null,null,null,null,null,null,null,null,null,null,null,null,null,null,null,null,null,null,null,null,null,null,null,null,null,null,null,null,null,null,null,null,null,null,null,null,null,null,null,null,null,null,null,null,null,null,null,null,null,null,null,null,null,null,null,null,null,null,null,null,null,null,null,null,null,null,null,null,null,null,null,null,null,null,null,null,null,null,null,null,null,null,null,null,null,null,null,null,null,null,null,null,null,null,null,null,null,null,null,null,null,null,null,null,null,null,null,null,null,null,null,null,null,null,null,null,null,null,null,null,null,null,null,null,null,null,null,null,null,null,null,null,null,null,null,null,null,null,null,null,null,null,null,null,null,null,null,null,null,null,null,null,null,null,null,null,null,null,null,null,null,null,null,null,null,null,null,null,null,null,null,null,null,null,null,null,null,null,null,null,null,null,null,null,null,null,null,null,null,null,null,null,null,null,null,null,null,null,null,null,null,null,null,null,null,null,null,null,null,null,null,null,null,null,null,null,null,null,null,null,null,null,null,null,null,null,null,null,null,null,null,null,null,null,null,null,null,null,null,null,null,null,null,null,null,null,null,null,null,null,null,null,null,null,null,null,null,null,null,null,null,null,null,null,null,null,null,null,null,null,null,null,null,null,null,null,null,null,null,null,null,null,null,null,null,null,null,null,null,null,null,null,null,null,null,null,null,null,null,null,null,null,null,null,null,null,null,null,null,null,null,null,null,null,null,null,null,null,null,null,null,null,null,null,null,null,null,null,null,null,null,null,null,null,null,null,null,null,null,null,null,null,null,null,null,null,null,null,null,null,null,null,null,null,null,null,null,null,null,null,null,null,null,null,null,null,null,null,null,null,null,null,null,null,null,null,null,null,null,null,null,null,null,null,null,null,null,null,null,null,null,null,null,null,null,null,null,null,null,null,null,null,null,null,null,null,null,null,null,null,null,null,null,null,null,null,null,null,null,null,null,null,null,null,null,null,null,null,null,null,null,null,null,null,null,null,null,null,null,null,null,null,null,null,null,null,null,null,null,null,null,null,null,null,null,null,null,null,null,null,null,null,null,null,null,null,null,null,null,null,null,null,null,null,null,null,null,null,null,null,null,null,null,null,null,null,null,null,null,null,null,null,null,null,null,null,null,null,null,null,null,null,null,null,null,null,null,null,null,null,null,null,null,null,null,null,null,null,null,null,null,null,null,null,null,null,null,null,null,null,null,null,null,null,null,null,null,null,null,null,null,null,null,null,null,null,null,null,null,null,null,null,null,null,null,null,null,null,null,null,null,null,null,null,null,null,null,null,null,null,null,null,null,null,null,null,null,null,null,null,null,null,null,null,null,null,null,null,null,null,null,null,null,null,null,null,null,null,null,null,null,null,null,null,null,null,null,null,null,null,null,null,null,null,null,null,null,null,null,null,null,null,null,null,null,null,null,null,null,null,null,null,null,null,null,null,null,null,null,null,null,null,null,null,null,null,null,null,null,null,null,null,null,null,null,null,null,null,null,null,null,null,null,null,null,null,null,null,null,null,null,null,null,null,null,null,null,null,null,null,null,null,null,null,null,null,null,null,null,null,null,null,null,null,null,null,null,null,null,null,null,null,null,null,null,null,null,null,null,null,null,null,null,null,null,null,null,null,null,null,null,null,null,null,null,null,null,null,null,null,null,null,null,null,null,null,null,null,null,null,null,null,null,null,null,null,null,null,null,null,null,null,null,null,null,null,null,null,null,null,null,null,null,null,null,null,null,null,null,null,null,null,null,null,null,null,null,null,null,null,null,null,null,null,null,null,null,null,null,null,null,null,null,null,null,null,null,null,null,null,null,null,null,null,null,null,null,null,null,null,null,null,null,null,null,null,null,null,null,null,null,null,null,null,null,null,null,null,null,null,null,null,null,null,null,null,null,null,null,null,null,null,null,null,null,null,null,null,null,null,null,null,null,null,null,null,null,null,null,null,null,null,null,null,null,null,null,null,null,null,null,null,null,null,null,null,null,null,null,null,null,null,null,null,null,null,null,null,null,null,null,null,null,null,null,null,null,null,null,null,null,null,null,null,null,null,null,null,null,null,null,null,null,null,null,null,null,null,null,null,null,null,null,null,null,null,null,null,null,null,null,null,null,null,null,null,null,null,null,null,null,null,null,null,null,null,null,null,null,null,null,null,null,null,null,null,null,null,null,null,null,null,null,null,null,null,null,null,null,null,null,null,null,null,null,null,null,null,null,null,null,null,null,null,null,null,null,null,null,null,null,null,null,null,null,null,null,null,null,null,null,null,null,null,null,null,null,null,null,null,null,null,null,null,null,null,null,null,null,null,null,null,null,null,null,null,null,null,null,null,null,null,null,null,null,null,null,null,null,null,null,null,null,null,null,null,null,null,null,null,null,null,null,null,null,null,null,null,null,null,null,null,null,null,null,null,null,null,null,null,null,null,null,null,null,null,null,null,null,null,null,null,null,null,null,null,null,null,null,null,null,null,null,null,null,null,null,null,null,null,null,null,null,null,null,null,null,null,null,null,null,null,null,null,null,null,null,null,null,null,null,null,null,null,null,null,null,null,null,null,null,null,null,null,null,null,null,null,null,null,null,null,null,null,null,null,null,null,null,null,null,null,null,null,null,null,null,null,null,null,null,null,null,null,null,null,null,null,null,null,null,null,null,null,null,null,null,null,null,null,null,null,null,null,null,null,null,null,null,null,null,null,null,null,null,null,null,null,null,null,null,null,null,null,null,null,null,null,null,null,null,null,null,null,null,null,null,null,null,null,null,null,null,null,null,null,null,null,null,null,null,null,null,null,null,null,null,null,null,null,null,null,null,null,null,null,null,null,null,null,null,null,null,null,null,null,null,null,null,null,null,null,null,null,null,null,null,null,null,null,null,null,null,null,null,null,null,null,null,null,null,null,null,null,null,null,null,null,null,null,null,null,null,null,null,null,null,null,null,null,null,null,null,null,null,null,null,null,null,null,null,null,null,null,null,null,null,null,null,null,null,null,null,null,null,null,null,null,null,null,null,null,null,null,null,null,null,null,null,null,null,null,null,null,null,null,null,null,null,null,null,null,null,null,null,null,null,null,null,null,null,null,null,null,null,null,null,null,null,null,null,null,null,null,null,null,null,null,null,null,null,null,null,null,null,null,null,null,null,null,null,null,null,null,null,null,null,null,null,null,null,null,null,null,null,null,null,null,null,null,null,null,null,null,null,null,null,null,null,null,null,null,null,null,null,null,null,null,null,null,null,null,null,null,null,null,null,null,null,null,null,null,null,null,null,null,null,null,null,null,null,null,null,null,null,null,null,null,null,null,null,null,null,null,null,null,null,null,null,null,null,null,null,null,null,null,null,null,null,null,null,null,null,null,null,null,null,null,null,null,null,null,null,null,null,null,null,null,null,null,null,null,null,null,null,null,null,null,null,null,null,null,null,null,null,null,null,null,null,null,null,null,null,null,null,null,null,null,null,null,null,null,null,null,null,null,null,null,null,null,null,null,null,null,null,null,null,null,null,null,null,null,null,null,null,null,null,null,null,null,null,null,null,null,null,null,null,null,null,null,null,null,null,null,null,null,null,null,null,null,null,null,null,null,null,null,null,null,null,null,null,null,null,null,null,null,null,null,null,null,null,null,null,null,null,null,null,null,null,null,null,null,null,null,null,null,null,null,null,null,null,null,null,null,null,null,null,null,null,null,null,null,null,null,null,null,null,null,null,null,null,null,null,null,null,null,null,null,null,null,null,null,null,null,null,null,null,null,null,null,null,null,null,null,null,null,null,null,null,null,null,null,null,null,null,null,null,null,null,null,null,null,null,null,null,null,null,null,null,null,null,null,null,null,null,null,null,null,null,null,null,null,null,null,null,null,null,null,null,null,null,null,null,null,null,null,null,null,null,null,null,null,null,null,null,null,null,null,null,null,null,null,null,null,null,null,null,null,null,null,null,null,null,null,null,null,null,null,null,null,null,null,null,null,null,null,null,null,null,null,null,null,null,null,null,null,null,null,null,null,null,null,null,null,null,null,null,null,null,null,null,null,null,null,null,null,null,null,null,null,null,null,null,null,null,null,null,null,null,null,null,null,null,null,null,null,null,null,null,null,null,null,null,null,null,null,null,null,null,null,null,null,null,null,null,null,null,null,null,null,null,null,null,null,null,null,null,null,null,null,null,null,null,null,null,null,null,null,null,null,null,null,null,null,null,null,null,null,null,null,null,null,null,null,null,null,null,null,null,null,null,null,null,null,null,null,null,null,null,null,null,null,null,null,null,null,null,null,null,null,null,null,null,null,null,null,null,null,null,null,null,null,null,null,null,null,null,null,null,null,null,null,null,null,null,null,null,null,null,null,null,null,null,null,null,null,null,null,null,null,null,null,null,null,null,null,null,null,null,null,null,null,null,null,null,null,null,null,null,null,null,null,null,null,null,null,null,null,null,null,null,null,null,null,null,null,null,null,null,null,null,null,null,null,null,null,null,null,null,null,null,null,null,null,null,null,null,null,null,null,null,null,null,null,null,null,null,null,null,null,null,null,null,null,null,null,null,null,null,null,null,null,null,null,null,null,null,null,null,null,null,null,null,null,null,null,null,null,null,null,null,null,null,null,null,null,null,null,null,null,null,null,null,null,null,null,null,null,null,null,null,null,null,null,null,null,null,null,null,null,null,null,null,null,null,null,null,null,null,null,null,null,null,null,null,null,null,null,null,null,null,null,null,null,null,null,null,null,null,null,null,null,null,null,null,null,null,null,null,null,null,null,null,null,null,null,null,null,null,null,null,null,null,null,null,null,null,null,null,null,null,null,null,null,null,null,null,null,null,null,null,null,null,null,null,null,null,null,null,null,null,null,null,null,null,null,null,null,null,null,null,null,null,null,null,null,null,null,null,null,null,null,null,null,null,null,null,null,null,null,null,null,null,null,null,null,null,null,null,null,null,null,null,null,null,null,null,null,null,null,null,null,null,null,null,null,null,null,null,null,null,null,null,null,null,null,null,null,null,null,null,null,null,null,null,null,null,null,null,null,null,null,null,null,null,null,null,null,null,null,null,null,null,null,null,null,null,null,null,null,null,null,null,null,null,null,null,null,null,null,null,null,null,null,null,null,null,null,null,null,null,null,null,null,null,null,null,null,null,null,null,null,null,null,null,null,null,null,null,null,null,null,null,null,null,null,null,null,null,null,null,null,null,null,null,null,null,null,null,null,null,null,null,null,null,null,null,null,null,null,null,null,null,null,null,null,null,null,null,null,null,null,null,null,null,null,null,null,null,null,null,null,null,null,null,null,null,null,null,null,null,null,null,null,null,null,null,null,null,null,null,null,null,null,null,null,null,null,null,null,null,null,null,null,null,null,null,null,null,null,null,null,null,null,null,null,null,null,null,null,null,null,null,null,null,null,null,null,null,null,null,null,null,null,null,null,null,null,null,null,null,null,null,null,null,null,null,null,null,null,null,null,null,null,null,null,null,null,null,null,null,null,null,null,null,null,null,null,null,null,null,null,null,null,null,null,null,null,null,null,null,null,null,null,null,null,null,null,null,null,null,null,null,null,null,null,null,null,null,null,null,null,null,null,null,null,null,null,null,null,null,null,null,null,null,null,null,null,null,null,null,null,null,null,null,null,null,null,null,null,null,null,null,null,null,null,null,null,null,null,null,null,null,null,null,null,null,null,null,null,null,null,null,null,null,null,null,null,null,null,null,null,null,null,null,null,null,null,null,null,null,null,null,null,null,null,null,null,null,null,null,null,null,null,null,null,null,null,null,null,null,null,null,null,null,null,null,null,null,null,null,null,null,null,null,null,null,null,null,null,null,null,null,null,null,null,null,null,null,null,null,null,null,null,null,null,null,null,null,null,null,null,null,null,null,null,null,null,null,null,null,null,null,null,null,null,null,null,null,null,null,null,null,null,null,null,null,null,null,null,null,null,null,null,null,null,null,null,null,null,null,null,null,null,null,null,null,null,null,null,null,null,null,null,null,null,null,null,null,null,null,null,null,null,null,null,null,null,null,null,null,null,null,null,null,null,null,null,null,null,null,null,null,null,null,null,null,null,null,null,null,null,null,null,null,null,null,null,null,null,null,null,null,null,null,null,null,null,null,null,null,null,null,null,null,null,null,null,null,null,null,null,null,null,null,null,null,null,null,null,null,null,null,null,null,null,null,null,null,null,null,null,null,null,null,null,null,null,null,null,null,null,null,null,null,null,null,null,null,null,null,null,null,null,null,null,null,null,null,null,null,null,null,null,null,null,null,null,null,null,null,null,null,null,null,null,null,null,null,null,null,null,null,null,null,null,null,null,null,null,null,null,null,null,null,null,null,null,null,null,null,null,null,null,null,null,null,null,null,null,null,null,null,null,null,null,null,null,null,null,null,null,null,null,null,null,null,null,null,null,null,null,null,null,null,null,null,null,null,null,null,null,null,null,null,null,null,null,null,null,null,null,null,null,null,null,null,null,null,null,null,null,null,null,null,null,null,null,null,null,null,null,null,null,null,null,null,null,null,null,null,null,null,null,null,null,null,null,null,null,null,null,null,null,null,null,null,null,null,null,null,null,null,null,null,null,null,null,null,null,null,null,null,null,null,null,null,null,null,null,null,null,null,null,null,null,null,null,null,null,null,null,null,null,null,null,null,null,null,null,null,null,null,null,null,null,null,null,null,null,null,null,null,null,null,null,null,null,null,null,null,null,null,null,null,null,null,null,null,null,null,null,null,null,null,null,null,null,null,null,null,null,null,null,null,null,null,null,null,null,null,null,null,null,null,null,null,null,null,null,null,null,null,null,null,null,null,null,null,null,null,null,null,null,null,null,null,null,null,null,null,null,null,null,null,null,null,null,null,null,null,null,null,null,null,null,null,null,null,null,null,null,null,null,null,null,null,null,null,null,null,null,null,null,null,null,null,null,null,null,null,null,null,null,null,null,null,null,null,null,null,null,null,null,null,null,null,null,null,null,null,null,null,null,null,null,null,null,null,null,null,null,null,null,null,null,null,null,null,null,null,null,null,null,null,null,null,null,null,null,null,null,null,null,null,null,null,null,null,null,null,null,null,null,null,null,null,null,null,null,null,null,null,null,null,null,null,null,null,null,null,null,null,null,null,null,null,null,null,null,null,null,null,null,null,null,null,null,null,null,null,null,null,null,null,null,null,null,null,null,null,null,null,null,null,null,null,null,null,null,null,null,null,null,null,null,null,null,null,null,null,null,null,null,null,null,null,null,null,null,null,null,null,null,null,null,null,null,null,null,null,null,null,null,null,null,null,null,null,null,null,null,null,null,null,null,null,null,null,null,null,null,null,null,null,null,null,null,null,null,null,null,null,null,null,null,null,null,null,null,null,null,null,null,null,null,null,null,null,null,null,null,null,null,null,null,null,null,null,null,null,null,null,null,null,null,null,null,null,null,null,null,null,null,null,null,null,null,null,null,null,null,null,null,null,null,null,null,null,null,null,null,null,null,null,null,null,null,null,null,null,null,null,null,null,null,null,null,null,null,null,null,null,null,null,null,null,null,null,null,null,null,null,null,null,null,null,null,null,null,null,null,null,null,null,null,null,null,null,null,null,null,null,null,null,null,null,null,null,null,null,null,null,null,null,null,null,null,null,null,null,null,null,null,null,null,null,null,null,null,null,null,null,null,null,null,null,null,null,null,null,null,null,null,null,null,null,null,null,null,null,null,null,null,null,null,null,null,null,null,null,null,null,null,null,null,null,null,null,null,null,null,null,null,null,null,null,null,null,null,null,null,null,null,null,null,null,null,null,null,null,null,null,null,null,null,null,null,null,null,null,null,null,null,null,null,null,null,null,null,null,null,null,null,null,null,null,null,null,null,null,null,null,null,null,null,null,null,null,null,null,null,null,null,null,null,null,null,null,null,null,null,null,null,null,null,null,null,null,null,null,null,null,null,null,null,null,null,null,null,null,null,null,null,null,null,null,null,null,null,null,null,null,null,null,null,null,null,null,null,null,null,null,null,null,null,null,null,null,null,null,null,null,null,null,null,null,null,null,null,null,null,null,null,null,null,null,null,null,null,null,null,null,null,null,null,null,null,null,null,null,null,null,null,null,null,null,null,null,null,null,null,null,null,null,null,null,null,null,null,null,null,null,null,null,null,null,null,null,null,null,null,null,null,null,null,null,null,null,null,null,null,null,null,null,null,null,null,null,null,null,null,null,null,null,null,null,null,null,null,null,null,null,null,null,null,null,null,null,null,null,null,null,null,null,null,null,null,null,null,null,null,null,null,null,null,null,null,null,null,null,null,null,null,null,null,null,null,null,null,null,null,null,null,null,null,null,null,null,null,null,null,null,null,null,null,null,null,null,null,null,null,null,null,null,null,null,null,null,null,null,null,null,null,null,null,null,null,null,null,null,null,null,null,null,null,null,null,null,null,null,null,null,null,null,null,null,null,null,null,null,null,null,null,null,null,null,null,null,null,null,null,null,null,null,null,null,null,null,null,null,null,null,null,null,null,null,null,null,null,null,null,null,null,null,null,null,null,null,null,null,null,null,null,null,null,null,null,null,null,null,null,null,null,null,null,null,null,null,null,null,null,null,null,null,null,null,null,null,null,null,null,null,null,null,null,null,null,null,null,null,null,null,null,null,null,null,null,null,null,null,null,null,null,null,null,null,null,null,null,null,null,null,null,null,null,null,null,null,null,null,null,null,null,null,null,null,null,null,null,null,null,null,null,null,null,null,null,null,null,null,null,null,null,null,null,null,null,null,null,null,null,null,null,null,null,null,null,null,null,null,null,null,null,null,null,null,null,null,null,null,null,null,null,null,null,null,null,null,null,null,null,null,null,null,null,null,null,null,null,null,null,null,null,null,null,null,null,null,null,null,null,null,null,null,null,null,null,null,null,null,null,null,null,null,null,null,null,null,null,null,null,null,null,null,null,null,null,null,null,null,null,null,null,null,null,null,null,null,null,null,null,null,null,null,null,null,null,null,null,null,null,null,null,null,null,null,null,null,null,null,null,null,null,null,null,null,null,null,null,null,null,null,null,null,null,null,null,null,null,null,null,null,null,null,null,null,null,null,null,null,null,null,null,null,null,null,null,null,null,null,null,null,null,null,null,null,null,null,null,null,null,null,null,null,null,null,null,null,null,null,null,null,null,null,null,null,null,null,null,null,null,null,null,null,null,null,null,null,null,null,null,null,null,null,null,null,null,null,null,null,null,null,null,null,null,null,null,null,null,null,null,null,null,null,null,null,null,null,null,null,null,null,null,null,null,null,null,null,null,null,null,null,null,null,null,null,null,null,null,null,null,null,null,null,null,null,null,null,null,null,null,null,null,null,null,null,null,null,null,null,null,null,null,null,null,null,null,null,null,null,null,null,null,null,null,null,null,null,null,null,null,null,null,null,null,null,null,null,null,null,null,null,null,null,null,null,null,null,null,null,null,null,null,null,null,null,null,null,null,null,null,null,null,null,null,null,null,null,null,null,null,null,null,null,null,null,null,null,null,null,null,null,null,null,null,null,null,null,null,null,null,null,null,null,null,null,null,null,null,null,null,null,null,null,null,null,null,null,null,null,null,null,null,null,null,null,null,null,null,null,null,null,null,null,null,null,null,null,null,null,null,null,null,null,null,null,null,null,null,null,null,null,null,null,null,null,null,null,null,null,null,null,null,null,null,null,null,null,null,null,null,null,null,null,null,null,null,null,null,null,null,null,null,null,null,null,null,null,null,null,null,null,null,null,null,null,null,null,null,null,null,null,null,null,null,null,null,null,null,null,null,null,null,null,null,null,null,null,null,null,null,null,null,null,null,null,null,null,null,null,null,null,null,null,null,null,null,null,null,null,null,null,null,null,null,null,null,null,null,null,null,null,null,null,null,null,null,null,null,null,null,null,null,null,null,null,null,null,null,null,null,null,null,null,null,null,null,null,null,null,null,null,null,null,null,null,null,null,null,null,null,null,null,null,null,null,null,null,null,null,null,null,null,null,null,null,null,null,null,null,null,null,null,null,null,null,null,null,null,null,null,null,null,null,null,null,null,null,null,null,null,null,null,null,null,null,null,null,null,null,null,null,null,null,null,null,null,null,null,null,null,null,null,null,null,null,null,null,null,null,null,null,null,null,null,null,null,null,null,null,null,null,null,null,null,null,null,null,null,null,null,null,null,null,null,null,null,null,null,null,null,null,null,null,null,null,null,null,null,null,null,null,null,null,null,null,null,null,null,null,null,null,null,null,null,null,null,null,null,null,null,null,null,null,null,null,null,null,null,null,null,null,null,null,null,null,null,null,null,null,null,null,null,null,null,null,null,null,null,null,null,null,null,null,null,null,null,null,null,null,null,null,null,null,null,null,null,null,null,null,null,null,null,null,null,null,null,null,null,null,null,null,null,null,null,null,null,null,null,null,null,null,null,null,null,null,null,null,null,null,null,null,null,null,null,null,null,null,null,null,null,null,null,null,null,null,null,null,null,null,null,null,null,null,null,null,null,null,null,null,null,null,null,null,null,null,null,null,null,null,null,null,null,null,null,null,null,null,null,null,null,null,null,null,null,null,null,null,null,null,null,null,null,null,null,null,null,null,null,null,null,null,null,null,null,null,null,null,null,null,null,null,null,null,null,null,null,null,null,null,null,null,null,null,null,null,null,null,null,null,null,null,null,null,null,null,null,null,null,null,null,null,null,null,null,null,null,null,null,null,null,null,null,null,null,null,null,null,null,null,null,null,null,null,null,null,null,null,null,null,null,null,null,null,null,null,null,null,null,null,null,null,null,null,null,null,null,null,null,null,null,null,null,null,null,null,null,null,null,null,null,null,null,null,null,null,null,null,null,null,null,null,null,null,null,null,null,null,null,null,null,null,null,null,null,null,null,null,null,null,null,null,null,null,null,null,null,null,null,null,null,null,null,null,null,null,null,null,null,null,null,null,null,null,null,null,null,null,null,null,null,null,null,null,null,null,null,null,null,null,null,null,null,null,null,null,null,null,null,null,null,null,null,null,null,null,null,null,null,null,null,null,null,null,null,null,null,null,null,null,null,null,null,null,null,null,null,null,null,null,null,null,null,null,null,null,null,null,null,null,null,null,null,null,null,null,null,null,null,null,null,null,null,null,null,null,null,null,null,null,null,null,null,null,null,null,null,null,null,null,null,null,null,null,null,null,null,null,null,null,null,null,null,null,null,null,null,null,null,null,null,null,null,null,null,null,null,null,null,null,null,null,null,null,null,null,null,null,null,null,null,null,null,null,null,null,null,null,null,null,null,null,null,null,null,null,null,null,null,null,null,null,null,null,null,null,null,null,null,null,null,null,null,null,null,null,null,null,null,null,null,null,null,null,null,null,null,null,null,null,null,null,null,null,null,null,null,null,null,null,null,null,null,null,null,null,null,null,null,null,null,null,null,null,null,null,null,null,null,null,null,null,null,null,null,null,null,null,null,null,null,null,null,null,null,null,null,null,null,null,null,null,null,null,null,null,null,null,null,null,null,null,null,null,null,null,null,null,null,null,null,null,null,null,null,null,null,null,null,null,null,null,null,null,null,null,null,null,null,null,null,null,null,null,null,null,null,null,null,null,null,null,null,null,null,null,null,null,null,null,null,null,null,null,null,null,null,null,null,null,null,null,null,null,null,null,null,null,null,null,null,null,null,null,null,null,null,null,null,null,null,null,null,null,null,null,null,null,null,null,null,null,null,null,null,null,null,null,null,null,null,null,null,null,null,null,null,null,null,null,null,null,null,null,null,null,null,null,null,null,null,null,null,null,null,null,null,null,null,null,null,null,null,null,null,null,null,null,null,null,null,null,null,null,null,null,null,null,null,null,null,null,null,null,null,null,null,null,null,null,null,null,null,null,null,null,null,null,null,null,null,null,null,null,null,null,null,null,null,null,null,null,null,null,null,null,null,null,null,null,null,null,null,null,null,null,null,null,null,null,null,null,null,null,null,null,null,null,null,null,null,null,null,null,null,null,null,null,null,null,null,null,null,null,null,null,null,null,null,null,null,null,null,null,null,null,null,null,null,null,null,null,null,null,null,null,null,null,null,null,null,null,null,null,null,null,null,null,null,null,null,null,null,null,null,null,null,null,null,null,null,null,null,null,null,null,null,null,null,null,null,null,null,null,null,null,null,null,null,null,null,null,null,null,null,null,null,null,null,null,null,null,null,null,null,null,null,null,null,null,null,null,null,null,null,null,null,null,null,null,null,null,null,null,null,null,null,null,null,null,null,null,null,null,null,null,null,null,null,null,null,null,null,null,null,null,null,null,null,null,null,null,null,null,null,null,null,null,null,null,null,null,null,null,null,null,null,null,null,null,null,null,null,null,null,null,null,null,null,null,null,null,null,null,null,null,null,null,null,null,null,null,null,null,null,null,null,null,null,null,null,null,null,null,null,null,null,null,null,null,null,null,null,null,null,null,null,null,null,null,null,null,null,null,null,null,null,null,null,null,null,null,null,null,null,null,null,null,null,null,null,null,null,null,null,null,null,null,null,null,null,null,null,null,null,null,null,null,null,null,null,null,null,null,null,null,null,null,null,null,null,null,null,null,null,null,null,null,null,null,null,null,null,null,null,null,null,null,null,null,null,null,null,null,null,null,null,null,null,null,null,null,null,null,null,null,null,null,null,null,null,null,null,null,null,null,null,null,null,null,null,null,null,null,null,null,null,null,null,null,null,null,null,null,null,null,null,null,null,null,null,null,null,null,null,null,null,null,null,null,null,null,null,null,null,null,null,null,null,null,null,null,null,null,null,null,null,null,null,null,null,null,null,null,null,null,null,null,null,null,null,null,null,null,null,null,null,null,null,null,null,null,null,null,null,null,null,null,null,null,null,null,null,null,null,null,null,null,null,null,null,null,null,null,null,null,null,null,null,null,null,null,null,null,null,null,null,null,null,null,null,null,null,null,null,null,null,null,null,null,null,null,null,null,null,null,null,null,null,null,null,null,null,null,null,null,null,null,null,null,null,null,null,null,null,null,null,null,null,null,null,null,null,null,null,null,null,null,null,null,null,null,null,null,null,null,null,null,null,null,null,null,null,null,null,null,null,null,null,null,null,null,null,null,null,null,null,null,null,null,null,null,null,null,null,null,null,null,null,null,null,null,null,null,null,null,null,null,null,null,null,null,null,null,null,null,null,null,null,null,null,null,null,null,null,null,null,null,null,null,null,null,null,null,null,null,null,null,null,null,null,null,null,null,null,null,null,null,null,null,null,null,null,null,null,null,null,null,null,null,null,null,null,null,null,null,null,null,null,null,null,null,null,null,null,null,null,null,null,null,null,null,null,null,null,null,null,null,null,null,null,null,null,null,null,null,null,null,null,null,null,null,null,null,null,null,null,null,null,null,null,null,null,null,null,null,null,null,null,null,null,null,null,null,null,null,null,null,null,null,null,null,null,null,null,null,null,null,null,null,null,null,null,null,null,null,null,null,null,null,null,null,null,null,null,null,null,null,null,null,null,null,null,null,null,null,null,null,null,null,null,null,null,null,null,null,null,null,null,null,null,null,null,null,null,null,null,null,null,null,null,null,null,null,null,null,null,null,null,null,null,null,null,null,null,null,null,null,null,null,null,null,null,null,null,null,null,null,null,null,null,null,null,null,null,null,null,null,null,null,null,null,null,null,null,null,null,null,null,null,null,null,null,null,null,null,null,null,null,null,null,null,null,null,null,null,null,null,null,null,null,null,null,null,null,null,null,null,null,null,null,null,null,null,null,null,null,null,null,null,null,null,null,null,null,null,null,null,null,null,null,null,null,null,null,null,null,null,null,null,null,null,null,null,null,null,null,null,null,null,null,null,null,null,null,null,null,null,null,null,null,null,null,null,null,null,null,null,null,null,null,null,null,null,null,null,null,null,null,null,null,null,null,null,null,null,null,null,null,null,null,null,null,null,null,null,null,null,null,null,null,null,null,null,null,null,null,null,null,null,null,null,null,null,null,null,null,null,null,null,null,null,null,null,null,null,null,null,null,null,null,null,null,null,null,null,null,null,null,null,null,null,null,null,null,null,null,null,null,null,null,null,null,null,null,null,null,null,null,null,null,null,null,null,null,null,null,null,null,null,null,null,null,null,null,null,null,null,null,null,null,null,null,null,null,null,null,null,null,null,null,null,null,null,null,null,null,null,null,null,null,null,null,null,null,null,null,null,null,null,null,null,null,null,null,null,null,null,null,null,null,null,null,null,null,null,null,null,null,null,null,null,null,null,null,null,null,null,null,null,null,null,null,null,null,null,null,null,null,null,null,null,null,null,null,null,null,null,null,null,null,null,null,null,null,null,null,null,null,null,null,null,null,null,null,null,null,null,null,null,null,null,null,null,null,null,null,null,null,null,null,null,null,null,null,null,null,null,null,null,null,null,null,null,null,null,null,null,null,null,null,null,null,null,null,null,null,null,null,null,null,null,null,null,null,null,null,null,null,null,null,null,null,null,null,null,null,null,null,null,null,null,null,null,null,null,null,null,null,null,null,null,null,null,null,null,null,null,null,null,null,null,null,null,null,null,null,null,null,null,null,null,null,null,null,null,null,null,null,null,null,null,null,null,null,null,null,null,null,null,null,null,null,null,null,null,null,null,null,null,null,null,null,null,null,null,null,null,null,null,null,null,null,null,null,null,null,null,null,null,null,null,null,null,null,null,null,null,null,null,null,null,null,null,null,null,null,null,null,null,null,null,null,null,null,null,null,null,null,null,null,null,null,null,null,null,null,null,null,null,null,null,null,null,null,null,null,null,null,null,null,null,null,null,null,null,null,null,null,null,null,null,null,null,null,null,null,null,null,null,null,null,null,null,null,null,null,null,null,null,null,null,null,null,null,null,null,null,null,null,null,null,null,null,null,null,null,null,null,null,null,null,null,null,null,null,null,null,null,null,null,null,null,null,null,null,null,null,null,null,null,null,null,null,null,null,null,null,null,null,null,null,null,null,null,null,null,null,null,null,null,null,null,null,null,null,null,null,null,null,null,null,null,null,null,null,null,null,null,null,null,null,null,null,null,null,null,null,null,null,null,null,null,null,null,null,null,null,null,null,null,null,null,null,null,null,null,null,null,null,null,null,null,null,null,null,null,null,null,null,null,null,null,null,null,null,null,null,null,null,null,null,null,null,null,null,null,null,null,null,null,null,null,null,null,null,null,null,null,null,null,null,null,null,null,null,null,null,null,null,null,null,null,null,null,null,null,null,null,null,null,null,null,null,null,null,null,null,null,null,null,null,null,null,null,null,null,null,null,null,null,null,null,null,null,null,null,null,null,null,null,null,null,null,null,null,null,null,null,null,null,null,null,null,null,null,null,null,null,null,null,null,null,null,null,null,null,null,null,null,null,null,null,null,null,null,null,null,null,null,null,null,null,null,null,null,null,null,null,null,null,null,null,null,null,null,null,null,null,null,null,null,null,null,null,null,null,null,null,null,null,null,null,null,null,null,null,null,null,null,null,null,null,null,null,null,null,null,null,null,null,null,null,null,null,null,null,null,null,null,null,null,null,null,null,null,null,null,null,null,null,null,null,null,null,null,null,null,null,null,null,null,null,null,null,null,null,null,null,null,null,null,null,null,null,null,null,null,null,null,null,null,null,null,null,null,null,null,null,null,null,null,null,null,null,null,null,null,null,null,null,null,null,null,null,null,null,null,null,null,null,null,null,null,null,null,null,null,null,null,null,null,null,null,null,null,null,null,null,null,null,null,null,null,null,null,null,null,null,null,null,null,null,null,null,null,null,null,null,null,null,null,null,null,null,null,null,null,null,null,null,null,null,null,null,null,null,null,null,null,null,null,null,null,null,null,null,null,null,null,null,null,null,null,null,null,null,null,null,null,null,null,null,null,null,null,null,null,null,null,null,null,null,null,null,null,null,null,null,null,null,null,null,null,null,null,null,null,null,null,null,null,null,null,null,null,null,null,null,null,null,null,null,null,null,null,null,null,null,null,null,null,null,null,null,null,null,null,null,null,null,null,null,null,null,null,null,null,null,null,null,null,null,null,null,null,null,null,null,null,null,null,null,null,null,null,null,null,null,null,null,null,null,null,null,null,null,null,null,null,null,null,null,null,null,null,null,null,null,null,null,null,null,null,null,null,null,null,null,null,null,null,null,null,null,null,null,null,null,null,null,null,null,null,null,null,null,null,null,null,null,null,null,null,null,null,null,null,null,null,null,null,null,null,null,null,null,null,null,null,null,null,null,null,null,null,null,null,null,null,null,null,null,null,null,null,null,null,null,null,null,null,null,null,null,null,null,null,null,null,null,null,null,null,null,null,null,null,null,null,null,null,null,null,null,null,null,null,null,null,null,null,null,null,null,null,null,null,null,null,null,null,null,null,null,null,null,null,null,null,null,null,null,null,null,null,null,null,null,null,null,null,null,null,null,null,null,null,null,null,null,null,null,null,null,null,null,null,null,null,null,null,null,null,null,null,null,null,null,null,null,null,null,null,null,null,null,null,null,null,null,null,null,null,null,null,null,null,null,null,null,null,null,null,null,null,null,null,null,null,null,null,null,null,null,null,null,null,null,null,null,null,null,null,null,null,null,null,null,null,null,null,null,null,null,null,null,null,null,null,null,null,null,null,null,null,null,null,null,null,null,null,null,null,null,null,null,null,null,null,null,null,null,null,null,null,null,null,null,null,null,null,null,null,null,null,null,null,null,null,null,null,null,null,null,null,null,null,null,null,null,null,null,null,null,null,null,null,null,null,null,null,null,null,null,null,null,null,null,null,null,null,null,null,null,null,null,null,null,null,null,null,null,null,null,null,null,null,null,null,null,null,null,null,null,null,null,null,null,null,null,null,null,null,null,null,null,null,null,null,null,null,null,null,null,null,null,null,null,null,null,null,null,null,null,null,null,null,null,null,null,null,null,null,null,null,null,null,null,null,null,null,null,null,null,null,null,null,null,null,null,null,null,null,null,null,null,null,null,null,null,null,null,null,null,null,null,null,null,null,null,null,null,null,null,null,null,null,null,null,null,null,null,null,null,null,null,null,null,null,null,null,null,null,null,null,null,null,null,null,null,null,null,null,null,null,null,null,null,null,null,null,null,null,null,null,null,null,null,null,null,null,null,null,null,null,null,null,null,null,null,null,null,null,null,null,null,null,null,null,null,null,null,null,null,null,null,null,null,null,null,null,null,null,null,null,null,null,null,null,null,null,null,null,null,null,null,null,null,null,null,null,null,null,null,null,null,null,null,null,null,null,null,null,null,null,null,null,null,null,null,null,null,null,null,null,null,null,null,null,null,null,null,null,null,null,null,null,null,null,null,null,null,null,null,null,null,null,null,null,null,null,null,null,null,null,null,null,null,null,null,null,null,null,null,null,null,null,null,null,null,null,null,null,null,null,null,null,null,null,null,null,null,null,null,null,null,null,null,null,null,null,null,null,null,null,null,null,null,null,null,null,null,null,null,null,null,null,null,null,null,null,null,null,null,null,null,null,null,null,null,null,null,null,null,null,null,null,null,null,null,null,null,null,null,null,null,null,null,null,null,null,null,null,null,null,null,null,null,null,null,null,null,null,null,null,null,null,null,null,null,null,null,null,null,null,null,null,null,null,null,null,null,null,null,null,null,null,null,null,null,null,null,null,null,null,null,null,null,null,null,null,null,null,null,null,null,null,null,null,null,null,null,null,null,null,null,null,null,null,null,null,null,null,null,null,null,null,null,null,null,null,null,null,null,null,null,null,null,null,null,null,null,null,null,null,null,null,null,null,null,null,null,null,null,null,null,null,null,null,null,null,null,null,null,null,null,null,null,null,null,null,null,null,null,null,null,null,null,null,null,null,null,null,null,null,null,null,null,null,null,null,null,null,null,null,null,null,null,null,null,null,null,null,null,null,null,null,null,null,null,null,null,null,null,null,null,null,null,null,null,null,null,null,null,null,null,null,null,null,null,null,null,null,null,null,null,null,null,null,null,null,null,null,null,null,null,null,null,null,null,null,null,null,null,null,null,null,null,null,null,null,null,null,null,null,null,null,null,null,null,null,null,null,null,null,null,null,null,null,null,null,null,null,null,null,null,null,null,null,null,null,null,null,null,null,null,null,null,null,null,null,null,null,null,null,null,null,null,null,null,null,null,null,null,null,null,null,null,null,null,null,null,null,null,null,null,null,null,null,null,null,null,null,null,null,null,null,null,null,null,null,null,null,null,null,null,null,null,null,null,null,null,null,null,null,null,null,null,null,null,null,null,null,null,null,null,null,null,null,null,null,null,null,null,null,null,null,null,null,null,null,null,null,null,null,null,null,null,null,null,null,null,null,null,null,null,null,null,null,null,null,null,null,null,null,null,true,null,null,null,0,2158758,9041872,15773696,10086143,15773696,255,true,true,true,"€",null,null,null,null,6,"D",1,1,1,1,null,1,1,1,1,1,null,1,"ISO",1,16,0,1,1,"10E6A",8,0,"DDD DD\\-MM\\-YY",true,true,0,"ANDRIEUX","<^W_\\&qG]}wH+%%L/XTK8dXexWc+a$","TR7*{0QN",true,0,40,6,"Task",false,false,false,13311,16777164,"UE6bee2896-3c9f-4633-a1ab-06395a5ca313","ewiHH|Tsivw=lvj-v83{a` 4>a","automatic","simple"]
[null,null,null,null,null,null,""]
[null,null,null,null,null,null,""]
[null,null,null,null,null,null,""]
[null,null,null,null,null,null,"ModèleVISA-DET-AOR",null,null,null,null,null,null,null,null,null,null,null,null,null,null,null,null,null,null,null,null,null,null,null,null,null,null,"2018-04-09","2018-04-10","2018-04-11","2018-04-12","2018-04-13","2018-04-14","2018-04-15","2018-04-16","2018-04-17","2018-04-18","2018-04-19","2018-04-20","2018-04-21","2018-04-22","2018-04-23","2018-04-24","2018-04-25","2018-04-26","2018-04-27","2018-04-28","2018-04-29","2018-04-30","2018-05-01","2018-05-02","2018-05-03","2018-05-04","2018-05-05","2018-05-06","2018-05-07","2018-05-08","2018-05-09","2018-05-10","2018-05-11","2018-05-12","2018-05-13","2018-05-14","2018-05-15","2018-05-16","2018-05-17","2018-05-18","2018-05-19","2018-05-20","2018-05-21","2018-05-22","2018-05-23","2018-05-24","2018-05-25","2018-05-26","2018-05-27","2018-05-28","2018-05-29","2018-05-30","2018-05-31","2018-06-01","2018-06-02","2018-06-03","2018-06-04"]
[null,null,null,null,null,null,"Project Lead: Tâches",null,null,null,null,null,null,null,null,null,null,null,null,null,null,null,null,null,null,null,null,null,null,null,null,null,null,"avr-18      [W15]",null,null,null,null,null,null,"avr-18      [W16]",null,null,null,null,null,null,"avr-18      [W17]",null,null,null,null,null,null,"avr-18      [W18]",null,null,null,null,null,null,"mai-18      [W19]",null,null,null,null,null,null,"mai-18      [W20]",null,null,null,null,null,null,"mai-18      [W21]",null,null,null,null,null,null,"mai-18      [W22]"]
[null,null,null,null,null,null,null,null,null,null,null,null,null,null,null,null,null,null,null,null,null,null,null,null,null,null,null,null,null,null,null,null,null,9,10,11,12,13,14,15,16,17,18,19,20,21,22,23,24,25,26,27,28,29,30,1,2,3,4,5,6,7,8,9,10,11,12,13,14,15,16,17,18,19,20,21,22,23,24,25,26,27,28,29,30,31,1,2,3]
["tType","tID","tDependency","tDependents","tStartConstrain","tEndConstrain","WBS","Tâche","N° Lot","Resource Cost","Début contractuel","Fin contractuelle","Durée contr","Intem Dém1","Retard DemE1","Décalage","Début estimé/réel","Fin estimée","Durée estim","Début réel","Intem Réal2","Retard RéalE2","Fin réelle","Durée réelle","Baseline Cost","Percent Complete","Cost","Actual Cost","Notes","Bar Color","% Color","Baseline Color","Actuals Color","lun.","mar.","mer.","jeu.","ven.","sam.","dim.","lun.","mar.","mer.","jeu.","ven.","sam.","dim.","lun.","mar.","mer.","jeu.","ven.","sam.","dim.","lun.","mar.","mer.","jeu.","ven.","sam.","dim.","lun.","mar.","mer.","jeu.","ven.","sam.","dim.","lun.","mar.","mer.","jeu.","ven.","sam.","dim.","lun.","mar.","mer.","jeu.","ven.","sam.","dim.","lun.","mar.","mer.","jeu.","ven.","sam.","dim."]
["T",1,null,null,null,null,"1","Etat des lieux Lot 1",1,0,null,null,null,null,null,null,"2018-04-09","2018-04-11",3,null,null,null,null,null,null,0.83333333333333326]
["T",2,null,null,null,null,"1.1","Sondages complémentaires",1,0,null,null,null,null,null,null,"2018-04-09","2018-04-11",3,null,null,null,null,null,null,0.33333333333333331]
["T",3,null,null,null,null,"1.2","Reconnaissance des réseaux",1,0,null,null,null,null,null,null,"2018-04-09","2018-04-09",1,null,null,null,null,null,null,1]
["T",4,null,null,null,null,"1.3","Plan Topographique Général Initial",1,0,null,null,null,null,null,null,"2018-04-09","2018-04-09",1,null,null,null,null,null,null,1]
["T",5,null,null,null,null,"1.4","Constat d'Etat des lieux contradictoire","MOE",0,null,null,null,null,null,null,"2018-04-09","2018-04-09",1,null,null,null,null,null,null,1]
["T",6,null,null,null,null,"2","Déploiement Lot 1",1,0,null,null,null,null,null,null,"2018-04-09","2018-04-09",1,null,null,null,null,null,null,1]
["T",10,null,null,null,null,"2.4","Aménagement des plateformes de stockage",1,0,null,null,null,null,null,null,"2018-04-09","2018-04-09",1,null,null,null,null,null,null,1]
["T",20,null,null,null,null,"4.4","Pose du busage renforcé et de l'Ecobox",1,0,null,null,null,null,null,null,"2018-03-09","2018-03-09",1,null,null,null,null,null,null,1]
["T",36,null,null,null,null,"6.5","Plan cinématique des stocks par famille - Indice 6",1,0,null,null,null,null,null,null,"2018-03-09","2018-03-09",1,null,null,null,null,null,null,1]
["T",48,null,null,null,null,"10","Déploiement Lot 2",2,0,null,null,null,null,null,null,"2018-03-09","2018-03-09",1,null,null,null,null,null,null,1]
["T",57,null,null,null,null,"12.2","Résultats de conformité / responsable du contrôle interne",2,0,null,null,null,null,null,null,"2018-03-09","2018-03-09",1,null,null,null,null,null,null,1]
["T",72,null,null,null,null,"14.2","Planche d'essais de mise en œuvre et compactage",1,0,null,null,null,null,null,null,"2018-03-09","2018-03-09",1,null,null,null,null,null,null,1]
["T",78,null,null,null,null,"14.8","Levée du Point d'Arrêt \"Remblais / Couverture du casier 7.2 = Matériaux argileux (70 cm)-Zone Nord\"","MOE",0,null,null,null,null,null,null,"2018-03-09","2018-03-09",1,null,null,null,null,null,null,1]
["T",89,null,null,null,null,"17.1","Planche d'essais Barrière passive",1,0,null,null,null,null,null,null,"2018-03-09","2018-03-09",1,null,null,null,null,null,null,1]
["T",99,null,null,null,null,"17.11","Contrôle extérieur de type \"Barrière passive\"","EXT",0,null,null,null,null,null,null,"2018-03-09","2018-03-09",1,null,null,null,null,null,null,1]
["T",117,null,null,null,null,"19.5","Levée du Point d'Arrêt \"Remblais / Couverture du casier 7.2 = Matériaux argileux (70 cm)-Zone Sud\"","MOE",0,null,null,null,null,null,null,"2018-03-09","2018-03-09",1,null,null,null,null,null,null,1]
["T",128,null,null,null,null,"21.8","Contrôle extérieur de type \"Géogrille\"","EXT",0,null,null,null,null,null,null,"2018-03-09","2018-03-09",1,null,null,null,null,null,null,1]
["T",134,null,null,null,null,"22.5","Contrôle interne de type \"Géomembrane PEHD\"",2,0,null,null,null,null,null,null,"2018-03-09","2018-03-09",1,null,null,null,null,null,null,1]
["T",149,null,null,null,null,"23.8","Plan cinématique des stocks par famille - Indice 7",1,0,null,null,null,null,null,null,"2018-03-09","2018-03-09",1,null,null,null,null,null,null,1]
["T",158,null,null,null,null,"24.3","Contrôle extérieur de types \"Plateforme\"","EXT",0,null,null,null,null,null,null,"2018-03-09","2018-03-09",1,null,null,null,null,null,null,1]
["T",170,null,null,null,null,"26.3","Visite de Réception du Lot 1",1,0,null,null,null,null,null,null,"2018-03-09","2018-03-09",1,null,null,null,null,null,null,1]
[null,null,null,null,null,null,null,null,null,null,null,null,null,null,null,null,null,null,null,null,null,null,null,null,null,null,null,null,null,null,null,null,null,null,null,null,null,null,null,null,null,null,null,null,null,null,null,null,null,null,null,null,null,null,null,null,null,null,null,null,null,null,null,null,null,null,null,null,null,null,null,null,null,null,null,null,null,null,null,null,null,null,null,null,null,null,null,null,null,null,null,null,null,null,null,null,null,null,null,null,null,null,null,null,null,null,null,null,null,null,null,null,null,null,null,null,null,null,null,null,null,null,null,null,null,null,null,null,null,null,null,null,null,null,null,null,null,null,null,null,null,null,null,null,null,null,null,null,null,null,null,null,null,null,null,null,null,null,null,null,null,null,null,null,null,null,null,null,null,null,null,null,null,null,null,null,null,null,null,null,null,null,null,null,null,null,null,null,null,null,null,null,null,null,null,null,null,null,null,null,null,null,null,null,null,null,null,null,null,null,null,null,null,null,null,null,null,null,null,null,null,null,null,null,null,null,null,null,null,null,null,null,null,null,null,null,null,null,null,null,null,null,null,null,null,null,null,null,null,null,null,null,null,null,null,null,null,null,null,null,null,null,null,null,null,null,null,null,null,null,null,null,null,null,null,null,null,null,null,null,null,null,null,null,null,null,null,null,null,null,null,null,null,null,null,null,null,null,null,null,null,null,null,null,null,null,null,null,null,null,null,null,null,null,null,null,null,null,null,null,null,null,null,null,null,null,null,null,null,null,null,null,null,null,null,null,null,null,null,null,null,null,null,null,null,null,null,null,null,null,null,null,null,null,null,null,null,null,null,null,null,null,null,null,null,null,null,null,null,null,null,null,null,null,null,null,null,null,null,null,null,null,null,null,null,null,null,null,null,null,null,null,null,null,null,null,null,null,null,null,null,null,null,null,null,null,null,null,null,null,null,null,null,null,null,null,null,null,null,null,null,null,null,null,null,null,null,null,null,null,null,null,null,null,null,null,null,null,null,null,null,null,null,null,null,null,null,null,null,null,null,null,null,null,null,null,null,null,null,null,null,null,null,null,null,null,null,null,null,null,null,null,null,null,null,null,null,null,null,null,null,null,null,null,null,null,null,null,null,null,null,null,null,null,null,null,null,null,null,null,null,null,null,null,null,null,null,null,null,null,null,null,null,null,null,null,null,null,null,null,null,null,null,null,null,null,null,null,null,null,null,null,null,null,null,null,null,null,null,null,null,null,null,null,null,null,null,null,null,null,null,null,null,null,null,null,null,null,null,null,null,null,null,null,null,null,null,null,null,null,null,null,null,null,null,null,null,null,null,null,null,null,null,null,null,null,null,null,null,null,null,null,null,null,null,null,null,null,null,null,null,null,null,null,null,null,null,null,null,null,null,null,null,null,null,null,null,null,null,null,null,null,null,null,null,null,null,null,null,null,null,null,null,null,null,null,null,null,null,null,null,null,null,null,null,null,null,null,null,null,null,null,null,null,null,null,null,null,null,null,null,null,null,null,null,null,null,null,null,null,null,null,null,null,null,null,null,null,null,null,null,null,null,null,null,null,null,null,null,null,null,null,null,null,null,null,null,null,null,null,null,null,null,null,null,null,null,null,null,null,null,null,null,null,null,null,null,null,null,null,null,null,null,null,null,null,null,null,null,null,null,null,null,null,null,null,null,null,null,null,null,null,null,null,null,null,null,null,null,null,null,null,null,null,null,null,null,null,null,null,null,null,null,null,null,null,null,null,null,null,null,null,null,null,null,null,null,null,null,null,null,null,null,null,null,null,null,null,null,null,null,null,null,null,null,null,null,null,null,null,null,null,null,null,null,null,null,null,null,null,null,null,null,null,null,null,null,null,null,null,null,null,null,null,null,null,null,null,null,null,null,null,null,null,null,null,null,null,null,null,null,null,null,null,null,null,null,null,null,null,null,null,null,null,null,null,null,null,null,null,null,null,null,null,null,null,null,null,null,null,null,null,null,null,null,null,null,null,null,null,null,null,null,null,null,null,null,null,null,null,null,null,null,null,null,null,null,null,null,null,null,null,null,null,null,null,null,null,null,null,null,null,null,null,null,null,null,null,null,null,null,null,null,null,null,null,null,null,null,null,null,null,null,null,null,null,null,null,null,null,null,null,null,null,null,null,null,null,null,null,null,null,null,null,null,null,null,null,null,null,null,null,null,null,null,null,null,null,null,null,null,null,null,null,null,null,null,null,null,null,null,null,null,null,null,null,null,null,null,null,null,null,null,null,null,null,null,null,null,null,null,null,null,null,null,null,null,null,null,null,null,null,null,null,null,null,null,null,null,null,null,null,null,null,null,null,null,null,null,null,null,null,null,null,null,null,null,null,null,null,null,null,null,null,null,null,null,null,null,null,null,null,null,null,null,null,null,null,null,null,null,null,null,null,null,null,null,null,null,null,null,null,null,null,null,null,null,null,null,null,null,null,null,null,null,null,null,null,null,null,null,null,null,null,null,null,null,null,null,null,null,null,null,null,null,null,null,null,null,null,null,null,null,null,null,null,null,null,null,null,null,null,null,null,null,null,null,null,null,null,null,null,null,null,null,null,null,null,null,null,null,null,null,null,null,null,null,null,null,null,null,null,null,null,null,null,null,null,null,null,null,null,null,null,null,null,null,null,null,null,null,null,null,null,null,null,null,null,null,null,null,null,null,null,null,null,null,null,null,null,null,null,null,null,null,null,null,null,null,null,null,null,null,null,null,null,null,null,null,null,null,null,null,null,null,null,null,null,null,null,null,null,null,null,null,null,null,null,null,null,null,null,null,null,null,null,null,null,null,null,null,null,null,null,null,null,null,null,null,null,null,null,null,null,null,null,null,null,null,null,null,null,null,null,null,null,null,null,null,null,null,null,null,null,null,null,null,null,null,null,null,null,null,null,null,null,null,null,null,null,null,null,null,null,null,null,null,null,null,null,null,null,null,null,null,null,null,null,null,null,null,null,null,null,null,null,null,null,null,null,null,null,null,null,null,null,null,null,null,null,null,null,null,null,null,null,null,null,null,null,null,null,null,null,null,null,null,null,null,null,null,null,null,null,null,null,null,null,null,null,null,null,null,null,null,null,null,null,null,null,null,null,null,null,null,null,null,null,null,null,null,null,null,null,null,null,null,null,null,null,null,null,null,null,null,null,null,null,null,null,null,null,null,null,null,null,null,null,null,null,null,null,null,null,null,null,null,null,null,null,null,null,null,null,null,null,null,null,null,null,null,null,null,null,null,null,null,null,null,null,null,null,null,null,null,null,null,null,null,null,null,null,null,null,null,null,null,null,null,null,null,null,null,null,null,null,null,null,null,null,null,null,null,null,null,null,null,null,null,null,null,null,null,null,null,null,null,null,null,null,null,null,null,null,null,null,null,null,null,null,null,null,null,null,null,null,null,null,null,null,null,null,null,null,null,null,null,null,null,null,null,null,null,null,null,null,null,null,null,null,null,null,null,null,null,null,null,null,null,null,null,null,null,null,null,null,null,null,null,null,null,null,null,null,null,null,null,null,null,null,null,null,null,null,null,null,null,null,null,null,null,null,null,null,null,null,null,null,null,null,null,null,null,null,null,null,null,null,null,null,null,null,null,null,null,null,null,null,null,null,null,null,null,null,null,null,null,null,null,null,null,null,null,null,null,null,null,null,null,null,null,null,null,null,null,null,null,null,null,null,null,null,null,null,null,null,null,null,null,null,null,null,null,null,null,null,null,null,null,null,null,null,null,null,null,null,null,null,null,null,null,null,null,null,null,null,null,null,null,null,null,null,null,null,null,null,null,null,null,null,null,null,null,null,null,null,null,null,null,null,null,null,null,null,null,null,null,null,null,null,null,null,null,null,null,null,null,null,null,null,null,null,null,null,null,null,null,null,null,null,null,null,null,null,null,null,null,null,null,null,null,null,null,null,null,null,null,null,null,null,null,null,null,null,null,null,null,null,null,null,null,null,null,null,null,null,null,null,null,null,null,null,null,null,null,null,null,null,null,null,null,null,null,null,null,null,null,null,null,null,null,null,null,null,null,null,null,null,null,null,null,null,null,null,null,null,null,null,null,null,null,null,null,null,null,null,null,null,null,null,null,null,null,null,null,null,null,null,null,null,null,null,null,null,null,null,null,null,null,null,null,null,null,null,null,null,null,null,null,null,null,null,null,null,null,null,null,null,null,null,null,null,null,null,null,null,null,null,null,null,null,null,null,null,null,null,null,null,null,null,null,null,null,null,null,null,null,null,null,null,null,null,null,null,null,null,null,null,null,null,null,null,null,null,null,null,null,null,null,null,null,null,null,null,null,null,null,null,null,null,null,null,null,null,null,null,null,null,null,null,null,null,null,null,null,null,null,null,null,null,null,null,null,null,null,null,null,null,null,null,null,null,null,null,null,null,null,null,null,null,null,null,null,null,null,null,null,null,null,null,null,null,null,null,null,null,null,null,null,null,null,null,null,null,null,null,null,null,null,null,null,null,null,null,null,null,null,null,null,null,null,null,null,null,null,null,null,null,null,null,null,null,null,null,null,null,null,null,null,null,null,null,null,null,null,null,null,null,null,null,null,null,null,null,null,null,null,null,null,null,null,null,null,null,null,null,null,null,null,null,null,null,null,null,null,null,null,null,null,null,null,null,null,null,null,null,null,null,null,null,null,null,null,null,null,null,null,null,null,null,null,null,null,null,null,null,null,null,null,null,null,null,null,null,null,null,null,null,null,null,null,null,null,null,null,null,null,null,null,null,null,null,null,null,null,null,null,null,null,null,null,null,null,null,null,null,null,null,null,null,null,null,null,null,null,null,null,null,null,null,null,null,null,null,null,null,null,null,null,null,null,null,null,null,null,null,null,null,null,null,null,null,null,null,null,null,null,null,null,null,null,null,null,null,null,null,null,null,null,null,null,null,null,null,null,null,null,null,null,null,null,null,null,null,null,null,null,null,null,null,null,null,null,null,null,null,null,null,null,null,null,null,null,null,null,null,null,null,null,null,null,null,null,null,null,null,null,null,null,null,null,null,null,null,null,null,null,null,null,null,null,null,null,null,null,null,null,null,null,null,null,null,null,null,null,null,null,null,null,null,null,null,null,null,null,null,null,null,null,null,null,null,null,null,null,null,null,null,null,null,null,null,null,null,null,null,null,null,null,null,null,null,null,null,null,null,null,null,null,null,null,null,null,null,null,null,null,null,null,null,null,null,null,null,null,null,null,null,null,null,null,null,null,null,null,null,null,null,null,null,null,null,null,null,null,null,null,null,null,null,null,null,null,null,null,null,null,null,null,null,null,null,null,null,null,null,null,null,null,null,null,null,null,null,null,null,null,null,null,null,null,null,null,null,null,null,null,null,null,null,null,null,null,null,null,null,null,null,null,null,null,null,null,null,null,null,null,null,null,null,null,null,null,null,null,null,null,null,null,null,null,null,null,null,null,null,null,null,null,null,null,null,null,null,null,null,null,null,null,null,null,null,null,null,null,null,null,null,null,null,null,null,null,null,null,null,null,null,null,null,null,null,null,null,null,null,null,null,null,null,null,null,null,null,null,null,null,null,null,null,null,null,null,null,null,null,null,null,null,null,null,null,null,null,null,null,null,null,null,null,null,null,null,null,null,null,null,null,null,null,null,null,null,null,null,null,null,null,null,null,null,null,null,null,null,null,null,null,null,null,null,null,null,null,null,null,null,null,null,null,null,null,null,null,null,null,null,null,null,null,null,null,null,null,null,null,null,null,null,null,null,null,null,null,null,null,null,null,null,null,null,null,null,null,null,null,null,null,null,null,null,null,null,null,null,null,null,null,null,null,null,null,null,null,null,null,null,null,null,null,null,null,null,null,null,null,null,null,null,null,null,null,null,null,null,null,null,null,null,null,null,null,null,null,null,null,null,null,null,null,null,null,null,null,null,null,null,null,null,null,null,null,null,null,null,null,null,null,null,null,null,null,null,null,null,null,null,null,null,null,null,null,null,null,null,null,null,null,null,null,null,null,null,null,null,null,null,null,null,null,null,null,null,null,null,null,null,null,null,null,null,null,null,null,null,null,null,null,null,null,null,null,null,null,null,null,null,null,null,null,null,null,null,null,null,null,null,null,null,null,null,null,null,null,null,null,null,null,null,null,null,null,null,null,null,null,null,null,null,null,null,null,null,null,null,null,null,null,null,null,null,null,null,null,null,null,null,null,null,null,null,null,null,null,null,null,null,null,null,null,null,null,null,null,null,null,null,null,null,null,null,null,null,null,null,null,null,null,null,null,null,null,null,null,null,null,null,null,null,null,null,null,null,null,null,null,null,null,null,null,null,null,null,null,null,null,null,null,null,null,null,null,null,null,null,null,null,null,null,null,null,null,null,null,null,null,null,null,null,null,null,null,null,null,null,null,null,null,null,null,null,null,null,null,null,null,null,null,null,null,null,null,null,null,null,null,null,null,null,null,null,null,null,null,null,null,null,null,null,null,null,null,null,null,null,null,null,null,null,null,null,null,null,null,null,null,null,null,null,null,null,null,null,null,null,null,null,null,null,null,null,null,null,null,null,null,null,null,null,null,null,null,null,null,null,null,null,null,null,null,null,null,null,null,null,null,null,null,null,null,null,null,null,null,null,null,null,null,null,null,null,null,null,null,null,null,null,null,null,null,null,null,null,null,null,null,null,null,null,null,null,null,null,null,null,null,null,null,null,null,null,null,null,null,null,null,null,null,null,null,null,null,null,null,null,null,null,null,null,null,null,null,null,null,null,null,null,null,null,null,null,null,null,null,null,null,null,null,null,null,null,null,null,null,null,null,null,null,null,null,null,null,null,null,null,null,null,null,null,null,null,null,null,null,null,null,null,null,null,null,null,null,null,null,null,null,null,null,null,null,null,null,null,null,null,null,null,null,null,null,null,null,null,null,null,null,null,null,null,null,null,null,null,null,null,null,null,null,null,null,null,null,null,null,null,null,null,null,null,null,null,null,null,null,null,null,null,null,null,null,null,null,null,null,null,null,null,null,null,null,null,null,null,null,null,null,null,null,null,null,null,null,null,null,null,null,null,null,null,null,null,null,null,null,null,null,null,null,null,null,null,null,null,null,null,null,null,null,null,null,null,null,null,null,null,null,null,null,null,null,null,null,null,null,null,null,null,null,null,null,null,null,null,null,null,null,null,null,null,null,null,null,null,null,null,null,null,null,null,null,null,null,null,null,null,null,null,null,null,null,null,null,null,null,null,null,null,null,null,null,null,null,null,null,null,null,null,null,null,null,null,null,null,null,null,null,null,null,null,null,null,null,null,null,null,null,null,null,null,null,null,null,null,null,null,null,null,null,null,null,null,null,null,null,null,null,null,null,null,null,null,null,null,null,null,null,null,null,null,null,null,null,null,null,null,null,null,null,null,null,null,null,null,null,null,null,null,null,null,null,null,null,null,null,null,null,null,null,null,null,null,null,null,null,null,null,null,null,null,null,null,null,null,null,null,null,null,null,null,null,null,null,null,null,null,null,null,null,null,null,null,null,null,null,null,null,null,null,null,null,null,null,null,null,null,null,null,null,null,null,null,null,null,null,null,null,null,null,null,null,null,null,null,null,null,null,null,null,null,null,null,null,null,null,null,null,null,null,null,null,null,null,null,null,null,null,null,null,null,null,null,null,null,null,null,null,null,null,null,null,null,null,null,null,null,null,null,null,null,null,null,null,null,null,null,null,null,null,null,null,null,null,null,null,null,null,null,null,null,null,null,null,null,null,null,null,null,null,null,null,null,null,null,null,null,null,null,null,null,null,null,null,null,null,null,null,null,null,null,null,null,null,null,null,null,null,null,null,null,null,null,null,null,null,null,null,null,null,null,null,null,null,null,null,null,null,null,null,null,null,null,null,null,null,null,null,null,null,null,null,null,null,null,null,null,null,null,null,null,null,null,null,null,null,null,null,null,null,null,null,null,null,null,null,null,null,null,null,null,null,null,null,null,null,null,null,null,null,null,null,null,null,null,null,null,null,null,null,null,null,null,null,null,null,null,null,null,null,null,null,null,null,null,null,null,null,null,null,null,null,null,null,null,null,null,null,null,null,null,null,null,null,null,null,null,null,null,null,null,null,null,null,null,null,null,null,null,null,null,null,null,null,null,null,null,null,null,null,null,null,null,null,null,null,null,null,null,null,null,null,null,null,null,null,null,null,null,null,null,null,null,null,null,null,null,null,null,null,null,null,null,null,null,null,null,null,null,null,null,null,null,null,null,null,null,null,null,null,null,null,null,null,null,null,null,null,null,null,null,null,null,null,null,null,null,null,null,null,null,null,null,null,null,null,null,null,null,null,null,null,null,null,null,null,null,null,null,null,null,null,null,null,null,null,null,null,null,null,null,null,null,null,null,null,null,null,null,null,null,null,null,null,null,null,null,null,null,null,null,null,null,null,null,null,null,null,null,null,null,null,null,null,null,null,null,null,null,null,null,null,null,null,null,null,null,null,null,null,null,null,null,null,null,null,null,null,null,null,null,null,null,null,null,null,null,null,null,null,null,null,null,null,null,null,null,null,null,null,null,null,null,null,null,null,null,null,null,null,null,null,null,null,null,null,null,null,null,null,null,null,null,null,null,null,null,null,null,null,null,null,null,null,null,null,null,null,null,null,null,null,null,null,null,null,null,null,null,null,null,null,null,null,null,null,null,null,null,null,null,null,null,null,null,null,null,null,null,null,null,null,null,null,null,null,null,null,null,null,null,null,null,null,null,null,null,null,null,null,null,null,null,null,null,null,null,null,null,null,null,null,null,null,null,null,null,null,null,null,null,null,null,null,null,null,null,null,null,null,null,null,null,null,null,null,null,null,null,null,null,null,null,null,null,null,null,null,null,null,null,null,null,null,null,null,null,null,null,null,null,null,null,null,null,null,null,null,null,null,null,null,null,null,null,null,null,null,null,null,null,null,null,null,null,null,null,null,null,null,null,null,null,null,null,null,null,null,null,null,null,null,null,null,null,null,null,null,null,null,null,null,null,null,null,null,null,null,null,null,null,null,null,null,null,null,null,null,null,null,null,null,null,null,null,null,null,null,null,null,null,null,null,null,null,null,null,null,null,null,null,null,null,null,null,null,null,null,null,null,null,null,null,null,null,null,null,null,null,null,null,null,null,null,null,null,null,null,null,null,null,null,null,null,null,null,null,null,null,null,null,null,null,null,null,null,null,null,null,null,null,null,null,null,null,null,null,null,null,null,null,null,null,null,null,null,null,null,null,null,null,null,null,null,null,null,null,null,null,null,null,null,null,null,null,null,null,null,null,null,null,null,null,null,null,null,null,null,null,null,null,null,null,null,null,null,null,null,null,null,null,null,null,null,null,null,null,null,null,null,null,null,null,null,null,null,null,null,null,null,null,null,null,null,null,null,null,null,null,null,null,null,null,null,null,null,null,null,null,null,null,null,null,null,null,null,null,null,null,null,null,null,null,null,null,null,null,null,null,null,null,null,null,null,null,null,null,null,null,null,null,null,null,null,null,null,null,null,null,null,null,null,null,null,null,null,null,null,null,null,null,null,null,null,null,null,null,null,null,null,null,null,null,null,null,null,null,null,null,null,null,null,null,null,null,null,null,null,null,null,null,null,null,null,null,null,null,null,null,null,null,null,null,null,null,null,null,null,null,null,null,null,null,null,null,null,null,null,null,null,null,null,null,null,null,null,null,null,null,null,null,null,null,null,null,null,null,null,null,null,null,null,null,null,null,null,null,null,null,null,null,null,null,null,null,null,null,null,null,null,null,null,null,null,null,null,null,null,null,null,null,null,null,null,null,null,null,null,null,null,null,null,null,null,null,null,null,null,null,null,null,null,null,null,null,null,null,null,null,null,null,null,null,null,null,null,null,null,null,null,null,null,null,null,null,null,null,null,null,null,null,null,null,null,null,null,null,null,null,null,null,null,null,null,null,null,null,null,null,null,null,null,null,null,null,null,null,null,null,null,null,null,null,null,null,null,null,null,null,null,null,null,null,null,null,null,null,null,null,null,null,null,null,null,null,null,null,null,null,null,null,null,null,null,null,null,null,null,null,null,null,null,null,null,null,null,null,null,null,null,null,null,null,null,null,null,null,null,null,null,null,null,null,null,null,null,null,null,null,null,null,null,null,null,null,null,null,null,null,null,null,null,null,null,null,null,null,null,null,null,null,null,null,null,null,null,null,null,null,null,null,null,null,null,null,null,null,null,null,null,null,null,null,null,null,null,null,null,null,null,null,null,null,null,null,null,null,null,null,null,null,null,null,null,null,null,null,null,null,null,null,null,null,null,null,null,null,null,null,null,null,null,null,null,null,null,null,null,null,null,null,null,null,null,null,null,null,null,null,null,null,null,null,null,null,null,null,null,null,null,null,null,null,null,null,null,null,null,null,null,null,null,null,null,null,null,null,null,null,null,null,null,null,null,null,null,null,null,null,null,null,null,null,null,null,null,null,null,null,null,null,null,null,null,null,null,null,null,null,null,null,null,null,null,null,null,null,null,null,null,null,null,null,null,null,null,null,null,null,null,null,null,null,null,null,null,null,null,null,null,null,null,null,null,null,null,null,null,null,null,null,null,null,null,null,null,null,null,null,null,null,null,null,null,null,null,null,null,null,null,null,null,null,null,null,null,null,null,null,null,null,null,null,null,null,null,null,null,null,null,null,null,null,null,null,null,null,null,null,null,null,null,null,null,null,null,null,null,null,null,null,null,null,null,null,null,null,null,null,null,null,null,null,null,null,null,null,null,null,null,null,null,null,null,null,null,null,null,null,null,null,null,null,null,null,null,null,null,null,null,null,null,null,null,null,null,null,null,null,null,null,null,null,null,null,null,null,null,null,null,null,null,null,null,null,null,null,null,null,null,null,null,null,null,null,null,null,null,null,null,null,null,null,null,null,null,null,null,null,null,null,null,null,null,null,null,null,null,null,null,null,null,null,null,null,null,null,null,null,null,null,null,null,null,null,null,null,null,null,null,null,null,null,null,null,null,null,null,null,null,null,null,null,null,null,null,null,null,null,null,null,null,null,null,null,null,null,null,null,null,null,null,null,null,null,null,null,null,null,null,null,null,null,null,null,null,null,null,null,null,null,null,null,null,null,null,null,null,null,null,null,null,null,null,null,null,null,null,null,null,null,null,null,null,null,null,null,null,null,null,null,null,null,null,null,null,null,null,null,null,null,null,null,null,null,null,null,null,null,null,null,null,null,null,null,null,null,null,null,null,null,null,null,null,null,null,null,null,null,null,null,null,null,null,null,null,null,null,null,null,null,null,null,null,null,null,null,null,null,null,null,null,null,null,null,null,null,null,null,null,null,null,null,null,null,null,null,null,null,null,null,null,null,null,null,null,null,null,null,null,null,null,null,null,null,null,null,null,null,null,null,null,null,null,null,null,null,null,null,null,null,null,null,null,null,null,null,null,null,null,null,null,null,null,null,null,null,null,null,null,null,null,null,null,null,null,null,null,null,null,null,null,null,null,null,null,null,null,null,null,null,null,null,null,null,null,null,null,null,null,null,null,null,null,null,null,null,null,null,null,null,null,null,null,null,null,null,null,null,null,null,null,null,null,null,null,null,null,null,null,null,null,null,null,null,null,null,null,null,null,null,null,null,null,null,null,null,null,null,null,null,null,null,null,null,null,null,null,null,null,null,null,null,null,null,null,null,null,null,null,null,null,null,null,null,null,null,null,null,null,null,null,null,null,null,null,null,null,null,null,null,null,null,null,null,null,null,null,null,null,null,null,null,null,null,null,null,null,null,null,null,null,null,null,null,null,null,null,null,null,null,null,null,null,null,null,null,null,null,null,null,null,null,null,null,null,null,null,null,null,null,null,null,null,null,null,null,null,null,null,null,null,null,null,null,null,null,null,null,null,null,null,null,null,null,null,null,null,null,null,null,null,null,null,null,null,null,null,null,null,null,null,null,null,null,null,null,null,null,null,null,null,null,null,null,null,null,null,null,null,null,null,null,null,null,null,null,null,null,null,null,null,null,null,null,null,null,null,null,null,null,null,null,null,null,null,null,null,null,null,null,null,null,null,null,null,null,null,null,null,null,null,null,null,null,null,null,null,null,null,null,null,null,null,null,null,null,null,null,null,null,null,null,null,null,null,null,null,null,null,null,null,null,null,null,null,null,null,null,null,null,null,null,null,null,null,null,null,null,null,null,null,null,null,null,null,null,null,null,null,null,null,null,null,null,null,null,null,null,null,null,null,null,null,null,null,null,null,null,null,null,null,null,null,null,null,null,null,null,null,null,null,null,null,null,null,null,null,null,null,null,null,null,null,null,null,null,null,null,null,null,null,null,null,null,null,null,null,null,null,null,null,null,null,null,null,null,null,null,null,null,null,null,null,null,null,null,null,null,null,null,null,null,null,null,null,null,null,null,null,null,null,null,null,null,null,null,null,null,null,null,null,null,null,null,null,null,null,null,null,null,null,null,null,null,null,null,null,null,null,null,null,null,null,null,null,null,null,null,null,null,null,null,null,null,null,null,null,null,null,null,null,null,null,null,null,null,null,null,null,null,null,null,null,null,null,null,null,null,null,null,null,null,null,null,null,null,null,null,null,null,null,null,null,null,null,null,null,null,null,null,null,null,null,null,null,null,null,null,null,null,null,null,null,null,null,null,null,null,null,null,null,null,null,null,null,null,null,null,null,null,null,null,null,null,null,null,null,null,null,null,null,null,null,null,null,null,null,null,null,null,null,null,null,null,null,null,null,null,null,null,null,null,null,null,null,null,null,null,null,null,null,null,null,null,null,null,null,null,null,null,null,null,null,null,null,null,null,null,null,null,null,null,null,null,null,null,null,null,null,null,null,null,null,null,null,null,null,null,null,null,null,null,null,null,null,null,null,null,null,null,null,null,null,null,null,null,null,null,null,null,null,null,null,null,null,null,null,null,null,null,null,null,null,null,null,null,null,null,null,null,null,null,null,null,null,null,null,null,null,null,null,null,null,null,null,null,null,null,null,null,null,null,null,null,null,null,null,null,null,null,null,null,null,null,null,null,null,null,null,null,null,null,null,null,null,null,null,null,null,null,null,null,null,null,null,null,null,null,null,null,null,null,null,null,null,null,null,null,null,null,null,null,null,null,null,null,null,null,null,null,null,null,null,null,null,null,null,null,null,null,null,null,null,null,null,null,null,null,null,null,null,null,null,null,null,null,null,null,null,null,null,null,null,null,null,null,null,null,null,null,null,null,null,null,null,null,null,null,null,null,null,null,null,null,null,null,null,null,null,null,null,null,null,null,null,null,null,null,null,null,null,null,null,null,null,null,null,null,null,null,null,null,null,null,null,null,null,null,null,null,null,null,null,null,null,null,null,null,null,null,null,null,null,null,null,null,null,null,null,null,null,null,null,null,null,null,null,null,null,null,null,null,null,null,null,null,null,null,null,null,null,null,null,null,null,null,null,null,null,null,null,null,null,null,null,null,null,null,null,null,null,null,null,null,null,null,null,null,null,null,null,null,null,null,null,null,null,null,null,null,null,null,null,null,null,null,null,null,null,null,null,null,null,null,null,null,null,null,null,null,null,null,null,null,null,null,null,null,null,null,null,null,null,null,null,null,null,null,null,null,null,null,null,null,null,null,null,null,null,null,null,null,null,null,null,null,null,null,null,null,null,null,null,null,null,null,null,null,null,null,null,null,null,null,null,null,null,null,null,null,null,null,null,null,null,null,null,null,null,null,null,null,null,null,null,null,null,null,null,null,null,null,null,null,null,null,null,null,null,null,null,null,null,null,null,null,null,null,null,null,null,null,null,null,null,null,null,null,null,null,null,null,null,null,null,null,null,null,null,null,null,null,null,null,null,null,null,null,null,null,null,null,null,null,null,null,null,null,null,null,null,null,null,null,null,null,null,null,null,null,null,null,null,null,null,null,null,null,null,null,null,null,null,null,null,null,null,null,null,null,null,null,null,null,null,null,null,null,null,null,null,null,null,null,null,null,null,null,null,null,null,null,null,null,null,null,null,null,null,null,null,null,null,null,null,null,null,null,null,null,null,null,null,null,null,null,null,null,null,null,null,null,null,null,null,null,null,null,null,null,null,null,null,null,null,null,null,null,null,null,null,null,null,null,null,null,null,null,null,null,null,null,null,null,null,null,null,null,null,null,null,null,null,null,null,null,null,null,null,null,null,null,null,null,null,null,null,null,null,null,null,null,null,null,null,null,null,null,null,null,null,null,null,null,null,null,null,null,null,null,null,null,null,null,null,null,null,null,null,null,null,null,null,null,null,null,null,null,null,null,null,null,null,null,null,null,null,null,null,null,null,null,null,null,null,null,null,null,null,null,null,null,null,null,null,null,null,null,null,null,null,null,null,null,null,null,null,null,null,null,null,null,null,null,null,null,null,null,null,null,null,null,null,null,null,null,null,null,null,null,null,null,null,null,null,null,null,null,null,null,null,null,null,null,null,null,null,null,null,null,null,null,null,null,null,null,null,null,null,null,null,null,null,null,null,null,null,null,null,null,null,null,null,null,null,null,null,null,null,null,null,null,null,null,null,null,null,null,null,null,null,null,null,null,null,null,null,null,null,null,null,null,null,null,null,null,null,null,null,null,null,null,null,null,null,null,null,null,null,null,null,null,null,null,null,null,null,null,null,null,null,null,null,null,null,null,null,null,null,null,null,null,null,null,null,null,null,null,null,null,null,null,null,null,null,null,null,null,null,null,null,null,null,null,null,null,null,null,null,null,null,null,null,null,null,null,null,null,null,null,null,null,null,null,null,null,null,null,null,null,null,null,null,null,null,null,null,null,null,null,null,null,null,null,null,null,null,null,null,null,null,null,null,null,null,null,null,null,null,null,null,null,null,null,null,null,null,null,null,null,null,null,null,null,null,null,null,null,null,null,null,null,null,null,null,null,null,null,null,null,null,null,null,null,null,null,null,null,null,null,null,null,null,null,null,null,null,null,null,null,null,null,null,null,null,null,null,null,null,null,null,null,null,null,null,null,null,null,null,null,null,null,null,null,null,null,null,null,null,null,null,null,null,null,null,null,null,null,null,null,null,null,null,null,null,null,null,null,null,null,null,null,null,null,null,null,null,null,null,null,null,null,null,null,null,null,null,null,null,null,null,null,null,null,null,null,null,null,null,null,null,null,null,null,null,null,null,null,null,null,null,null,null,null,null,null,null,null,null,null,null,null,null,null,null,null,null,null,null,null,null,null,null,null,null,null,null,null,null,null,null,null,null,null,null,null,null,null,null,null,null,null,null,null,null,null,null,null,null,null,null,null,null,null,null,null,null,null,null,null,null,null,null,null,null,null,null,null,null,null,null,null,null,null,null,null,null,null,null,null,null,null,null,null,null,null,null,null,null,null,null,null,null,null,null,null,null,null,null,null,null,null,null,null,null,null,null,null,null,null,null,null,null,null,null,null,null,null,null,null,null,null,null,null,null,null,null,null,null,null,null,null,null,null,null,null,null,null,null,null,null,null,null,null,null,null,null,null,null,null,null,null,null,null,null,null,null,null,null,null,null,null,null,null,null,null,null,null,null,null,null,null,null,null,null,null,null,null,null,null,null,null,null,null,null,null,null,null,null,null,null,null,null,null,null,null,null,null,null,null,null,null,null,null,null,null,null,null,null,null,null,null,null,null,null,null,null,null,null,null,null,null,null,null,null,null,null,null,null,null,null,null,null,null,null,null,null,null,null,null,null,null,null,null,null,null,null,null,null,null,null,null,null,null,null,null,null,null,null,null,null,null,null,null,null,null,null,null,null,null,null,null,null,null,null,null,null,null,null,null,null,null,null,null,null,null,null,null,null,null,null,null,null,null,null,null,null,null,null,null,null,null,null,null,null,null,null,null,null,null,null,null,null,null,null,null,null,null,null,null,null,null,null,null,null,null,null,null,null,null,null,null,null,null,null,null,null,null,null,null,null,null,null,null,null,null,null,null,null,null,null,null,null,null,null,null,null,null,null,null,null,null,null,null,null,null,null,null,null,null,null,null,null,null,null,null,null,null,null,null,null,null,null,null,null,null,null,null,null,null,null,null,null,null,null,null,null,null,null,null,null,null,null,null,null,null,null,null,null,null,null,null,null,null,null,null,null,null,null,null,null,null,null,null,null,null,null,null,null,null,null,null,null,null,null,null,null,null,null,null,null,null,null,null,null,null,null,null,null,null,null,null,null,null,null,null,null,null,null,null,null,null,null,null,null,null,null,null,null,null,null,null,null,null,null,null,null,null,null,null,null,null,null,null,null,null,null,null,null,null,null,null,null,null,null,null,null,null,null,null,null,null,null,null,null,null,null,null,null,null,null,null,null,null,null,null,null,null,null,null,null,null,null,null,null,null,null,null,null,null,null,null,null,null,null,null,null,null,null,null,null,null,null,null,null,null,null,null,null,null,null,null,null,null,null,null,null,null,null,null,null,null,null,null,null,null,null,null,null,null,null,null,null,null,null,null,null,null,null,null,null,null,null,null,null,null,null,null,null,null,null,null,null,null,null,null,null,null,null,null,null,null,null,null,null,null,null,null,null,null,null,null,null,null,null,null,null,null,null,null,null,null,null,null,null,null,null,null,null,null,null,null,null,null,null,null,null,null,null,null,null,null,null,null,null,null,null,null,null,null,null,null,null,null,null,null,null,null,null,null,null,null,null,null,null,null,null,null,null,null,null,null,null,null,null,null,null,null,null,null,null,null,null,null,null,null,null,null,null,null,null,null,null,null,null,null,null,null,null,null,null,null,null,null,null,null,null,null,null,null,null,null,null,null,null,null,null,null,null,null,null,null,null,null,null,null,null,null,null,null,null,null,null,null,null,null,null,null,null,null,null,null,null,null,null,null,null,null,null,null,null,null,null,null,null,null,null,null,null,null,null,null,null,null,null,null,null,null,null,null,null,null,null,null,null,null,null,null,null,null,null,null,null,null,null,null,null,null,null,null,null,null,null,null,null,null,null,null,null,null,null,null,null,null,null,null,null,null,null,null,null,null,null,null,null,null,null,null,null,null,null,null,null,null,null,null,null,null,null,null,null,null,null,null,null,null,null,null,null,null,null,null,null,null,null,null,null,null,null,null,null,null,null,null,null,null,null,null,null,null,null,null,null,null,null,null,null,null,null,null,null,null,null,null,null,null,null,null,null,null,null,null,null,null,null,null,null,null,null,null,null,null,null,null,null,null,null,null,null,null,null,null,null,null,null,null,null,null,null,null,null,null,null,null,null,null,null,null,null,null,null,null,null,null,null,null,null,null,null,null,null,null,null,null,null,null,null,null,null,null,null,null,null,null,null,null,null,null,null,null,null,null,null,null,null,null,null,null,null,null,null,null,null,null,null,null,null,null,null,null,null,null,null,null,null,null,null,null,null,null,null,null,null,null,null,null,null,null,null,null,null,null,null,null,null,null,null,null,null,null,null,null,null,null,null,null,null,null,null,null,null,null,null,null,null,null,null,null,null,null,null,null,null,null,null,null,null,null,null,null,null,null,null,null,null,null,null,null,null,null,null,null,null,null,null,null,null,null,null,null,null,null,null,null,null,null,null,null,null,null,null,null,null,null,null,null,null,null,null,null,null,null,null,null,null,null,null,null,null,null,null,null,null,null,null,null,null,null,null,null,null,null,null,null,null,null,null,null,null,null,null,null,null,null,null,null,null,null,null,null,null,null,null,null,null,null,null,null,null,null,null,null,null,null,null,null,null,null,null,null,null,null,null,null,null,null,null,null,null,null,null,null,null,null,null,null,null,null,null,null,null,null,null,null,null,null,null,null,null,null,null,null,null,null,null,null,null,null,null,null,null,null,null,null,null,null,null,null,null,null,null,null,null,null,null,null,null,null,null,null,null,null,null,null,null,null,null,null,null,null,null,null,null,null,null,null,null,null,null,null,null,null,null,null,null,null,null,null,null,null,null,null,null,null,null,null,null,null,null,null,null,null,null,null,null,null,null,null,null,null,null,null,null,null,null,null,null,null,null,null,null,null,null,null,null,null,null,null,null,null,null,null,null,null,null,null,null,null,null,null,null,null,null,null,null,null,null,null,null,null,null,null,null,null,null,null,null,null,null,null,null,null,null,null,null,null,null,null,null,null,null,null,null,null,null,null,null,null,null,null,null,null,null,null,null,null,null,null,null,null,null,null,null,null,null,null,null,null,null,null,null,null,null,null,null,null,null,null,null,null,null,null,null,null,null,null,null,null,null,null,null,null,null,null,null,null,null,null,null,null,null,null,null,null,null,null,null,null,null,null,null,null,null,null,null,null,null,null,null,null,null,null,null,null,null,null,null,null,null,null,null,null,null,null,null,null,null,null,null,null,null,null,null,null,null,null,null,null,null,null,null,null,null,null,null,null,null,null,null,null,null,null,null,null,null,null,null,null,null,null,null,null,null,null,null,null,null,null,null,null,null,null,null,null,null,null,null,null,null,null,null,null,null,null,null,null,null,null,null,null,null,null,null,null,null,null,null,null,null,null,null,null,null,null,null,null,null,null,null,null,null,null,null,null,null,null,null,null,null,null,null,null,null,null,null,null,null,null,null,null,null,null,null,null,null,null,null,null,null,null,null,null,null,null,null,null,null,null,null,null,null,null,null,null,null,null,null,null,null,null,null,null,null,null,null,null,null,null,null,null,null,null,null,null,null,null,null,null,null,null,null,null,null,null,null,null,null,null,null,null,null,null,null,null,null,null,null,null,null,null,null,null,null,null,null,null,null,null,null,null,null,null,null,null,null,null,null,null,null,null,null,null,null,null,null,null,null,null,null,null,null,null,null,null,null,null,null,null,null,null,null,null,null,null,null,null,null,null,null,null,null,null,null,null,null,null,null,null,null,null,null,null,null,null,null,null,null,null,null,null,null,null,null,null,null,null,null,null,null,null,null,null,null,null,null,null,null,null,null,null,null,null,null,null,null,null,null,null,null,null,null,null,null,null,null,null,null,null,null,null,null,null,null,null,null,null,null,null,null,null,null,null,null,null,null,null,null,null,null,null,null,null,null,null,null,null,null,null,null,null,null,null,null,null,null,null,null,null,null,null,null,null,null,null,null,null,null,null,null,null,null,null,null,null,null,null,null,null,null,null,null,null,null,null,null,null,null,null,null,null,null,null,null,null,null,null,null,null,null,null,null,null,null,null,null,null,null,null,null,null,null,null,null,null,null,null,null,null,null,null,null,null,null,null,null,null,null,null,null,null,null,null,null,null,null,null,null,null,null,null,null,null,null,null,null,null,null,null,null,null,null,null,null,null,null,null,null,null,null,null,null,null,null,null,null,null,null,null,null,null,null,null,null,null,null,null,null,null,null,null,null,null,null,null,null,null,null,null,null,null,null,null,null,null,null,null,null,null,null,null,null,null,null,null,null,null,null,null,null,null,null,null,null,null,null,null,null,null,null,null,null,null,null,null,null,null,null,null,null,null,null,null,null,null,null,null,null,null,null,null,null,null,null,null,null,null,null,null,null,null,null,null,null,null,null,null,null,null,null,null,null,null,null,null,null,null,null,null,null,null,null,null,null,null,null,null,null,null,null,null,null,null,null,null,null,null,null,null,null,null,null,null,null,null,null,null,null,null,null,null,null,null,null,null,null,null,null,null,null,null,null,null,null,null,null,null,null,null,null,null,null,null,null,null,null,null,null,null,null,null,null,null,null,null,null,null,null,null,null,null,null,null,null,null,null,null,null,null,null,null,null,null,null,null,null,null,null,null,null,null,null,null,null,null,null,null,null,null,null,null,null,null,null,null,null,null,null,null,null,null,null,null,null,null,null,null,null,null,null,null,null,null,null,null,null,null,null,null,null,null,null,null,null,null,null,null,null,null,null,null,null,null,null,null,null,null,null,null,null,null,null,null,null,null,null,null,null,null,null,null,null,null,null,null,null,null,null,null,null,null,null,null,null,null,null,null,null,null,null,null,null,null,null,null,null,null,null,null,null,null,null,null,null,null,null,null,null,null,null,null,null,null,null,null,null,null,null,null,null,null,null,null,null,null,null,null,null,null,null,null,null,null,null,null,null,null,null,null,null,null,null,null,null,null,null,null,null,null,null,null,null,null,null,null,null,null,null,null,null,null,null,null,null,null,null,null,null,null,null,null,null,null,null,null,null,null,null,null,null,null,null,null,null,null,null,null,null,null,null,null,null,null,null,null,null,null,null,null,null,null,null,null,null,null,null,null,null,null,null,null,null,null,null,null,null,null,null,null,null,null,null,null,null,null,null,null,null,null,null,null,null,null,null,null,null,null,null,null,null,null,null,null,null,null,null,null,null,null,null,null,null,null,null,null,null,null,null,null,null,null,null,null,null,null,null,null,null,null,null,null,null,null,null,null,null,null,null,null,null,null,null,null,null,null,null,null,null,null,null,null,null,null,null,null,null,null,null,null,null,null,null,null,null,null,null,null,null,null,null,null,null,null,null,null,null,null,null,null,null,null,null,null,null,null,null,null,null,null,null,null,null,null,null,null,null,null,null,null,null,null,null,null,null,null,null,null,null,null,null,null,null,null,null,null,null,null,null,null,null,null,null,null,null,null,null,null,null,null,null,null,null,null,null,null,null,null,null,null,null,null,null,null,null,null,null,null,null,null,null,null,null,null,null,null,null,null,null,null,null,null,null,null,null,null,null,null,null,null,null,null,null,null,null,null,null,null,null,null,null,null,null,null,null,null,null,null,null,null,null,null,null,null,null,null,null,null,null,null,null,null,null,null,null,null,null,null,null,null,null,null,null,null,null,null,null,null,null,null,null,null,null,null,null,null,null,null,null,null,null,null,null,null,null,null,null,null,null,null,null,null,null,null,null,null,null,null,null,null,null,null,null,null,null,null,null,null,null,null,null,null,null,null,null,null,null,null,null,null,null,null,null,null,null,null,null,null,null,null,null,null,null,null,null,null,null,null,null,null,null,null,null,null,null,null,null,null,null,null,null,null,null,null,null,null,null,null,null,null,null,null,null,null,null,null,null,null,null,null,null,null,null,null,null,null,null,null,null,null,null,null,null,null,null,null,null,null,null,null,null,null,null,null,null,null,null,null,null,null,null,null,null,null,null,null,null,null,null,null,null,null,null,null,null,null,null,null,null,null,null,null,null,null,null,null,null,null,null,null,null,null,null,null,null,null,null,null,null,null,null,null,null,null,null,null,null,null,null,null,null,null,null,null,null,null,null,null,null,null,null,null,null,null,null,null,null,null,null,null,null,null,null,null,null,null,null,null,null,null,null,null,null,null,null,null,null,null,null,null,null,null,null,null,null,null,null,null,null,null,null,null,null,null,null,null,null,null,null,null,null,null,null,null,null,null,null,null,null,null,null,null,null,null,null,null,null,null,null,null,null,null,null,null,null,null,null,null,null,null,null,null,null,null,null,null,null,null,null,null,null,null,null,null,null,null,null,null,null,null,null,null,null,null,null,null,null,null,null,null,null,null,null,null,null,null,null,null,null,null,null,null,null,null,null,null,null,null,null,null,null,null,null,null,null,null,null,null,null,null,null,null,null,null,null,null,null,null,null,null,null,null,null,null,null,null,null,null,null,null,null,null,null,null,null,null,null,null,null,null,null,null,null,null,null,null,null,null,null,null,null,null,null,null,null,null,null,null,null,null,null,null,null,null,null,null,null,null,null,null,null,null,null,null,null,null,null,null,null,null,null,null,null,null,null,null,null,null,null,null,null,null,null,null,null,null,null,null,null,null,null,null,null,null,null,null,null,null,null,null,null,null,null,null,null,null,null,null,null,null,null,null,null,null,null,null,null,null,null,null,null,null,null,null,null,null,null,null,null,null,null,null,null,null,null,null,null,null,null,null,null,null,null,null,null,null,null,null,null,null,null,null,null,null,null,null,null,null,null,null,null,null,null,null,null,null,null,null,null,null,null,null,null,null,null,null,null,null,null,null,null,null,null,null,null,null,null,null,null,null,null,null,null,null,null,null,null,null,null,null,null,null,null,null,null,null,null,null,null,null,null,null,null,null,null,null,null,null,null,null,null,null,null,null,null,null,null,null,null,null,null,null,null,null,null,null,null,null,null,null,null,null,null,null,null,null,null,null,null,null,null,null,null,null,null,null,null,null,null,null,null,null,null,null,null,null,null,null,null,null,null,null,null,null,null,null,null,null,null,null,null,null,null,null,null,null,null,null,null,null,null,null,null,null,null,null,null,null,null,null,null,null,null,null,null,null,null,null,null,null,null,null,null,null,null,null,null,null,null,null,null,null,null,null,null,null,null,null,null,null,null,null,null,null,null,null,null,null,null,null,null,null,null,null,null,null,null,null,null,null,null,null,null,null,null,null,null,null,null,null,null,null,null,null,null,null,null,null,null,null,null,null,null,null,null,null,null,null,null,null,null,null,null,null,null,null,null,null,null,null,null,null,null,null,null,null,null,null,null,null,null,null,null,null,null,null,null,null,null,null,null,null,null,null,null,null,null,null,null,null,null,null,null,null,null,null,null,null,null,null,null,null,null,null,null,null,null,null,null,null,null,null,null,null,null,null,null,null,null,null,null,null,null,null,null,null,null,null,null,null,null,null,null,null,null,null,null,null,null,null,null,null,null,null,null,null,null,null,null,null,null,null,null,null,null,null,null,null,null,null,null,null,null,null,null,null,null,null,null,null,null,null,null,null,null,null,null,null,null,null,null,null,null,null,null,null,null,null,null,null,null,null,null,null,null,null,null,null,null,null,null,null,null,null,null,null,null,null,null,null,null,null,null,null,null,null,null,null,null,null,null,null,null,null,null,null,null,null,null,null,null,null,null,null,null,null,null,null,null,null,null,null,null,null,null,null,null,null,null,null,null,null,null,null,null,null,null,null,null,null,null,null,null,null,null,null,null,null,null,null,null,null,null,null,null,null,null,null,null,null,null,null,null,null,null,null,null,null,null,null,null,null,null,null,null,null,null,null,null,null,null,null,null,null,null,null,null,null,null,null,null,null,null,null,null,null,null,null,null,null,null,null,null,null,null,null,null,null,null,null,null,null,null,null,null,null,null,null,null,null,null,null,null,null,null,null,null,null,null,null,null,null,null,null,null,null,null,null,null,null,null,null,null,null,null,null,null,null,null,null,null,null,null,null,null,null,null,null,null,null,null,null,null,null,null,null,null,null,null,null,null,null,null,null,null,null,null,null,null,null,null,null,null,null,null,null,null,null,null,null,null,null,null,null,null,null,null,null,null,null,null,null,null,null,null,null,null,null,null,null,null,null,null,null,null,null,null,null,null,null,null,null,null,null,null,null,null,null,null,null,null,null,null,null,null,null,null,null,null,null,null,null,null,null,null,null,null,null,null,null,null,null,null,null,null,null,null,null,null,null,null,null,null,null,null,null,null,null,null,null,null,null,null,null,null,null,null,null,null,null,null,null,null,null,null,null,null,null,null,null,null,null,null,null,null,null,null,null,null,null,null,null,null,null,null,null,null,null,null,null,null,null,null,null,null,null,null,null,null,null,null,null,null,null,null,null,null,null,null,null,null,null,null,null,null,null,null,null,null,null,null,null,null,null,null,null,null,null,null,null,null,null,null,null,null,null,null,null,null,null,null,null,null,null,null,null,null,null,null,null,null,null,null,null,null,null,null,null,null,null,null,null,null,null,null,null,null,null,null,null,null,null,null,null,null,null,null,null,null,null,null,null,null,null,null,null,null,null,null,null,null,null,null,null,null,null,null,null,null,null,null,null,null,null,null,null,null,null,null,null,null,null,null,null,null,null,null,null,null,null,null,null,null,null,null,null,null,null,null,null,null,null,null,null,null,null,null,null,null,null,null,null,null,null,null,null,null,null,null,null,null,null,null,null,null,null,null,null,null,null,null,null,null,null,null,null,null,null,null,null,null,null,null,null,null,null,null,null,null,null,null,null,null,null,null,null,null,null,null,null,null,null,null,null,null,null,null,null,null,null,null,null,null,null,null,null,null,null,null,null,null,null,null,null,null,null,null,null,null,null,null,null,null,null,null,null,null,null,null,null,null,null,null,null,null,null,null,null,null,null,null,null,null,null,null,null,null,null,null,null,null,null,null,null,null,null,null,null,null,null,null,null,null,null,null,null,null,null,null,null,null,null,null,null,null,null,null,null,null,null,null,null,null,null,null,null,null,null,null,null,null,null,null,null,null,null,null,null,null,null,null,null,null,null,null,null,null,null,null,null,null,null,null,null,null,null,null,null,null,null,null,null,null,null,null,null,null,null,null,null,null,null,null,null,null,null,null,null,null,null,null,null,null,null,null,null,null,null,null,null,null,null,null,null,null,null,null,null,null,null,null,null,null,null,null,null,null,null,null,null,null,null,null,null,null,null,null,null,null,null,null,null,null,null,null,null,null,null,null,null,null,null,null,null,null,null,null,null,null,null,null,null,null,null,null,null,null,null,null,null,null,null,null,null,null,null,null,null,null,null,null,null,null,null,null,null,null,null,null,null,null,null,null,null,null,null,null,null,null,null,null,null,null,null,null,null,null,null,null,null,null,null,null,null,null,null,null,null,null,null,null,null,null,null,null,null,null,null,null,null,null,null,null,null,null,null,null,null,null,null,null,null,null,null,null,null,null,null,null,null,null,null,null,null,null,null,null,null,null,null,null,null,null,null,null,null,null,null,null,null,null,null,null,null,null,null,null,null,null,null,null,null,null,null,null,null,null,null,null,null,null,null,null,null,null,null,null,null,null,null,null,null,null,null,null,null,null,null,null,null,null,null,null,null,null,null,null,null,null,null,null,null,null,null,null,null,null,null,null,null,null,null,null,null,null,null,null,null,null,null,null,null,null,null,null,null,null,null,null,null,null,null,null,null,null,null,null,null,null,null,null,null,null,null,null,null,null,null,null,null,null,null,null,null,null,null,null,null,null,null,null,null,null,null,null,null,null,null,null,null,null,null,null,null,null,null,null,null,null,null,null,null,null,null,null,null,null,null,null,null,null,null,null,null,null,null,null,null,null,null,null,null,null,null,null,null,null,null,null,null,null,null,null,null,null,null,null,null,null,null,null,null,null,null,null,null,null,null,null,null,null,null,null,null,null,null,null,null,null,null,null,null,null,null,null,null,null,null,null,null,null,null,null,null,null,null,null,null,null,null,null,null,null,null,null,null,null,null,null,null,null,null,null,null,null,null,null,null,null,null,null,null,null,null,null,null,null,null,null,null,null,null,null,null,null,null,null,null,null,null,null,null,null,null,null,null,null,null,null,null,null,null,null,null,null,null,null,null,null,null,null,null,null,null,null,null,null,null,null,null,null,null,null,null,null,null,null,null,null,null,null,null,null,null,null,null,null,null,null,null,null,null,null,null,null,null,null,null,null,null,null,null,null,null,null,null,null,null,null,null,null,null,null,null,null,null,null,null,null,null,null,null,null,null,null,null,null,null,null,null,null,null,null,null,null,null,null,null,null,null,null,null,null,null,null,null,null,null,null,null,null,null,null,null,null,null,null,null,null,null,null,null,null,null,null,null,null,null,null,null,null,null,null,null,null,null,null,null,null,null,null,null,null,null,null,null,null,null,null,null,null,null,null,null,null,null,null,null,null,null,null,null,null,null,null,null,null,null,null,null,null,null,null,null,null,null,null,null,null,null,null,null,null,null,null,null,null,null,null,null,null,null,null,null,null,null,null,null,null,null,null,null,null,null,null,null,null,null,null,null,null,null,null,null,null,null,null,null,null,null,null,null,null,null,null,null,null,null,null,null,null,null,null,null,null,null,null,null,null,null,null,null,null,null,null,null,null,null,null,null,null,null,null,null,null,null,null,null,null,null,null,null,null,null,null,null,null,null,null,null,null,null,null,null,null,null,null,null,null,null,null,null,null,null,null,null,null,null,null,null,null,null,null,null,null,null,null,null,null,null,null,null,null,null,null,null,null,null,null,null,null,null,null,null,null,null,null,null,null,null,null,null,null,null,null,null,null,null,null,null,null,null,null,null,null,null,null,null,null,null,null,null,null,null,null,null,null,null,null,null,null,null,null,null,null,null,null,null,null,null,null,null,null,null,null,null,null,null,null,null,null,null,null,null,null,null,null,null,null,null,null,null,null,null,null,null,null,null,null,null,null,null,null,null,null,null,null,null,null,null,null,null,null,null,null,null,null,null,null,null,null,null,null,null,null,null,null,null,null,null,null,null,null,null,null,null,null,null,null,null,null,null,null,null,null,null,null,null,null,null,null,null,null,null,null,null,null,null,null,null,null,null,null,null,null,null,null,null,null,null,null,null,null,null,null,null,null,null,null,null,null,null,null,null,null,null,null,null,null,null,null,null,null,null,null,null,null,null,null,null,null,null,null,null,null,null,null,null,null,null,null,null,null,null,null,null,null,null,null,null,null,null,null,null,null,null,null,null,null,null,null,null,null,null,null,null,null,null,null,null,null,null,null,null,null,null,null,null,null,null,null,null,null,null,null,null,null,null,null,null,null,null,null,null,null,null,null,null,null,null,null,null,null,null,null,null,null,null,null,null,null,null,null,null,null,null,null,null,null,null,null,null,null,null,null,null,null,null,null,null,null,null,null,null,null,null,null,null,null,null,null,null,null,null,null,null,null,null,null,null,null,null,null,null,null,null,null,null,null,null,null,null,null,null,null,null,null,null,null,null,null,null,null,null,null,null,null,null,null,null,null,null,null,null,null,null,null,null,null,null,null,null,null,null,null,null,null,null,null,null,null,null,null,null,null,null,null,null,null,null,null,null,null,null,null,null,null,null,null,null,null,null,null,null,null,null,null,null,null,null,null,null,null,null,null,null,null,null,null,null,null,null,null,null,null,null,null,null,null,null,null,null,null,null,null,null,null,null,null,null,null,null,null,null,null,null,null,null,null,null,null,null,null,null,null,null,null,null,null,null,null,null,null,null,null,null,null,null,null,null,null,null,null,null,null,null,null,null,null,null,null,null,null,null,null,null,null,null,null,null,null,null,null,null,null,null,null,null,null,null,null,null,null,null,null,null,null,null,null,null,null,null,null,null,null,null,null,null,null,null,null,null,null,null,null,null,null,null,null,null,null,null,null,null,null,null,null,null,null,null,null,null,null,null,null,null,null,null,null,null,null,null,null,null,null,null,null,null,null,null,null,null,null,null,null,null,null,null,null,null,null,null,null,null,null,null,null,null,null,null,null,null,null,null,null,null,null,null,null,null,null,null,null,null,null,null,null,null,null,null,null,null,null,null,null,null,null,null,null,null,null,null,null,null,null,null,null,null,null,null,null,null,null,null,null,null,null,null,null,null,null,null,null,null,null,null,null,null,null,null,null,null,null,null,null,null,null,null,null,null,null,null,null,null,null,null,null,null,null,null,null,null,null,null,null,null,null,null,null,null,null,null,null,null,null,null,null,null,null,null,null,null,null,null,null,null,null,null,null,null,null,null,null,null,null,null,null,null,null,null,null,null,null,null,null,null,null,null,null,null,null,null,null,null,null,null,null,null,null,null,null,null,null,null,null,null,null,null,null,null,null,null,null,null,null,null,null,null,null,null,null,null,null,null,null,null,null,null,null,null,null,null,null,null,null,null,null,null,null,null,null,null,null,null,null,null,null,null,null,null,null,null,null,null,null,null,null,null,null,null,null,null,null,null,null,null,null,null,null,null,null,null,null,null,null,null,null,null,null,null,null,null,null,null,null,null,null,null,null,null,null,null,null,null,null,null,null,null,null,null,null,null,null,null,null,null,null,null,null,null,null,null,null,null,null,null,null,null,null,null,null,null,null,null,null,null,null,null,null,null,null,null,null,null,null,null,null,null,null,null,null,null,null,null,null,null,null,null,null,null,null,null,null,null,null,null,null,null,null,null,null,null,null,null,null,null,null,null,null,null,null,null,null,null,null,null,null,null,null,null,null,null,null,null,null,null,null,null,null,null,null,null,null,null,null,null,null,null,null,null,null,null,null,null,null,null,null,null,null,null,null,null,null,null,null,null,null,null,null,null,null,null,null,null,null,null,null,null,null,null,null,null,null,null,null,null,null,null,null,null,null,null,null,null,null,null,null,null,null,null,null,null,null,null,null,null,null,null,null,null,null,null,null,null,null,null,null,null,null,null,null,null,null,null,null,null,null,null,null,null,null,null,null,null,null,null,null,null,null,null,null,null,null,null,null,null,null,null,null,null,null,null,null,null,null,null,null,null,null,null,null,null,null,null,null,null,null,null,null,null,null,null,null,null,null,null,null,null,null,null,null,null,null,null,null,null,null,null,null,null,null,null,null,null,null,null,null,null,null,null,null,null,null,null,null,null,null,null,null,null,null,null,null,null,null,null,null,null,null,null,null,null,null,null,null,null,null,null,null,null,null,null,null,null,null,null,null,null,null,null,null,null,null,null,null,null,null,null,null,null,null,null,null,null,null,null,null,null,null,null,null,null,null,null,null,null,null,null,null,null,null,null,null,null,null,null,null,null,null,null,null,null,null,null,null,null,null,null,null,null,null,null,null,null,null,null,null,null,null,null,null,null,null,null,null,null,null,null,null,null,null,null,null,null,null,null,null,null,null,null,null,null,null,null,null,null,null,null,null,null,null,null,null,null,null,null,null,null,null,null,null,null,null,null,null,null,null,null,null,null,null,null,null,null,null,null,null,null,null,null,null,null,null,null,null,null,null,null,null,null,null,null,null,null,null,null,null,null,null,null,null,null,null,null,null,null,null,null,null,null,null,null,null,null,null,null,null,null,null,null,null,null,null,null,null,null,null,null,null,null,null,null,null,null,null,null,null,null,null,null,null,null,null,null,null,null,null,null,null,null,null,null,null,null,null,null,null,null,null,null,null,null,null,null,null,null,null,null,null,null,null,null,null,null,null,null,null,null,null,null,null,null,null,null,null,null,null,null,null,null,null,null,null,null,null,null,null,null,null,null,null,null,null,null,null,null,null,null,null,null,null,null,null,null,null,null,null,null,null,null,null,null,null,null,null,null,null,null,null,null,null,null,null,null,null,null,null,null,null,null,null,null,null,null,null,null,null,null,null,null,null,null,null,null,null,null,null,null,null,null,null,null,null,null,null,null,null,null,null,null,null,null,null,null,null,null,null,null,null,null,null,null,null,null,null,null,null,null,null,null,null,null,null,null,null,null,null,null,null,null,null,null,null,null,null,null,null,null,null,null,null,null,null,null,null,null,null,null,null,null,null,null,null,null,null,null,null,null,null,null,null,null,null,null,null,null,null,null,null,null,null,null,null,null,null,null,null,null,null,null,null,null,null,null,null,null,null,null,null,null,null,null,null,null,null,null,null,null,null,null,null,null,null,null,null,null,null,null,null,null,null,null,null,null,null,null,null,null,null,null,null,null,null,null,null,null,null,null,null,null,null,null,null,null,null,null,null,null,null,null,null,null,null,null,null,null,null,null,null,null,null,null,null,null,null,null,null,null,null,null,null,null,null,null,null,null,null,null,null,null,null,null,null,null,null,null,null,null,null,null,null,null,null,null,null,null,null,null,null,null,null,null,null,null,null,null,null,null,null,null,null,null,null,null,null,null,null,null,null,null,null,null,null,null,null,null,null,null,null,null,null,null,null,null,null,null,null,null,null,null,null,null,null,null,null,null,null,null,null,null,null,null,null,null,null,null,null,null,null,null,null,null,null,null,null,null,null,null,null,null,null,null,null,null,null,null,null,null,null,null,null,null,null,null,null,null,null,null,null,null,null,null,null,null,null,null,null,null,null,null,null,null,null,null,null,null,null,null,null,null,null,null,null,null,null,null,null,null,null,null,null,null,null,null,null,null,null,null,null,null,null,null,null,null,null,null,null,null,null,null,null,null,null,null,null,null,null,null,null,null,null,null,null,null,null,null,null,null,null,null,null,null,null,null,null,null,null,null,null,null,null,null,null,null,null,null,null,null,null,null,null,null,null,null,null,null,null,null,null,null,null,null,null,null,null,null,null,null,null,null,null,null,null,null,null,null,null,null,null,null,null,null,null,null,null,null,null,null,null,null,null,null,null,null,null,null,null,null,null,null,null,null,null,null,null,null,null,null,null,null,null,null,null,null,null,null,null,null,null,null,null,null,null,null,null,null,null,null,null,null,null,null,null,null,null,null,null,null,null,null,null,null,null,null,null,null,null,null,null,null,null,null,null,null,null,null,null,null,null,null,null,null,null,null,null,null,null,null,null,null,null,null,null,null,null,null,null,null,null,null,null,null,null,null,null,null,null,null,null,null,null,null,null,null,null,null,null,null,null,null,null,null,null,null,null,null,null,null,null,null,null,null,null,null,null,null,null,null,null,null,null,null,null,null,null,null,null,null,null,null,null,null,null,null,null,null,null,null,null,null,null,null,null,null,null,null,null,null,null,null,null,null,null,null,null,null,null,null,null,null,null,null,null,null,null,null,null,null,null,null,null,null,null,null,null,null,null,null,null,null,null,null,null,null,null,null,null,null,null,null,null,null,null,null,null,null,null,null,null,null,null,null,null,null,null,null,null,null,null,null,null,null,null,null,null,null,null,null,null,null,null,null,null,null,null,null,null,null,null,null,null,null,null,null,null,null,null,null,null,null,null,null,null,null,null,null,null,null,null,null,null,null,null,null,null,null,null,null,null,null,null,null,null,null,null,null,null,null,null,null,null,null,null,null,null,null,null,null,null,null,null,null,null,null,null,null,null,null,null,null,null,null,null,null,null,null,null,null,null,null,null,null,null,null,null,null,null,null,null,null,null,null,null,null,null,null,null,null,null,null,null,null,null,null,null,null,null,null,null,null,null,null,null,null,null,null,null,null,null,null,null,null,null,null,null,null,null,null,null,null,null,null,null,null,null,null,null,null,null,null,null,null,null,null,null,null,null,null,null,null,null,null,null,null,null,null,null,null,null,null,null,null,null,null,null,null,null,null,null,null,null,null,null,null,null,null,null,null,null,null,null,null,null,null,null,null,null,null,null,null,null,null,null,null,null,null,null,null,null,null,null,null,null,null,null,null,null,null,null,null,null,null,null,null,null,null,null,null,null,null,null,null,null,null,null,null,null,null,null,null,null,null,null,null,null,null,null,null,null,null,null,null,null,null,null,null,null,null,null,null,null,null,null,null,null,null,null,null,null,null,null,null,null,null,null,null,null,null,null,null,null,null,null,null,null,null,null,null,null,null,null,null,null,null,null,null,null,null,null,null,null,null,null,null,null,null,null,null,null,null,null,null,null,null,null,null,null,null,null,null,null,null,null,null,null,null,null,null,null,null,null,null,null,null,null,null,null,null,null,null,null,null,null,null,null,null,null,null,null,null,null,null,null,null,null,null,null,null,null,null,null,null,null,null,null,null,null,null,null,null,null,null,null,null,null,null,null,null,null,null,null,null,null,null,null,null,null,null,null,null,null,null,null,null,null,null,null,null,null,null,null,null,null,null,null,null,null,null,null,null,null,null,null,null,null,null,null,null,null,null,null,null,null,null,null,null,null,null,null,null,null,null,null,null,null,null,null,null,null,null,null,null,null,null,null,null,null,null,null,null,null,null,null,null,null,null,null,null,null,null,null,null,null,null,null,null,null,null,null,null,null,null,null,null,null,null,null,null,null,null,null,null,null,null,null,null,null,null,null,null,null,null,null,null,null,null,null,null,null,null,null,null,null,null,null,null,null,null,null,null,null,null,null,null,null,null,null,null,null,null,null,null,null,null,null,null,null,null,null,null,null,null,null,null,null,null,null,null,null,null,null,null,null,null,null,null,null,null,null,null,null,null,null,null,null,null,null,null,null,null,null,null,null,null,null,null,null,null,null,null,null,null,null,null,null,null,null,null,null,null,null,null,null,null,null,null,null,null,null,null,null,null,null,null,null,null,null,null,null,null,null,null,null,null,null,null,null,null,null,null,null,null,null,null,null,null,null,null,null,null,null,null,null,null,null,null,null,null,null,null,null,null,null,null,null,null,null,null,null,null,null,null,null,null,null,null,null,null,null,null,null,null,null,null,null,null,null,null,null,null,null,null,null,null,null,null,null,null,null,null,null,null,null,null,null,null,null,null,null,null,null,null,null,null,null,null,null,null,null,null,null,null,null,null,null,null,null,null,null,null,null,null,null,null,null,null,null,null,null,null,null,null,null,null,null,null,null,null,null,null,null,null,null,null,null,null,null,null,null,null,null,null,null,null,null,null,null,null,null,null,null,null,null,null,null,null,null,null,null,null,null,null,null,null,null,null,null,null,null,null,null,null,null,null,null,null,null,null,null,null,null,null,null,null,null,null,null,null,null,null,null,null,null,null,null,null,null,null,null,null,null,null,null,null,null,null,null,null,null,null,null,null,null,null,null,null,null,null,null,null,null,null,null,null,null,null,null,null,null,null,null,null,null,null,null,null,null,null,null,null,null,null,null,null,null,null,null,null,null,null,null,null,null,null,null,null,null,null,null,null,null,null,null,null,null,null,null,null,null,null,null,null,null,null,null,null,null,null,null,null,null,null,null,null,null,null,null,null,null,null,null,null,null,null,null,null,null,null,null,null,null,null,null,null,null,null,null,null,null,null,null,null,null,null,null,null,null,null,null,null,null,null,null,null,null,null,null,null,null,null,null,null,null,null,null,null,null,null,null,null,null,null,null,null,null,null,null,null,null,null,null,null,null,null,null,null,null,null,null,null,null,null,null,null,null,null,null,null,null,null,null,null,null,null,null,null,null,null,null,null,null,null,null,null,null,null,null,null,null,null,null,null,null,null,null,null,null,null,null,null,null,null,null,null,null,null,null,null,null,null,null,null,null,null,null,null,null,null,null,null,null,null,null,null,null,null,null,null,null,null,null,null,null,null,null,null,null,null,null,null,null,null,null,null,null,null,null,null,null,null,null,null,null,null,null,null,null,null,null,null,null,null,null,null,null,null,null,null,null,null,null,null,null,null,null,null,null,null,null,null,null,null,null,null,null,null,null,null,null,null,null,null,null,null,null,null,null,null,null,null,null,null,null,null,null,null,null,null,null,null,null,null,null,null,null,null,null,null,null,null,null,null,null,null,null,null,null,null,null,null,null,null,null,null,null,null,null,null,null,null,null,null,null,null,null,null,null,null,null,null,null,null,null,null,null,null,null,null,null,null,null,null,null,null,null,null,null,null,null,null,null,null,null,null,null,null,null,null,null,null,null,null,null,null,null,null,null,null,null,null,null,null,null,null,null,null,null,null,null,null,null,null,null,null,null,null,null,null,null,null,null,null,null,null,null,null,null,null,null,null,null,null,null,null,null,null,null,null,null,null,null,null,null,null,null,null,null,null,null,null,null,null,null,null,null,null,null,null,null,null,null,null,null,null,null,null,null,null,null,null,null,null,null,null,null,null,null,null,null,null,null,null,null,null,null,null,null,null,null,null,null,null,null,null,null,null,null,null,null,null,null,null,null,null,null,null,null,null,null,null,null,null,null,null,null,null,null,null,null,null,null,null,null,null,null,null,null,null,null,null,null,null,null,null,null,null,null,null,null,null,null,null,null,null,null,null,null,null,null,null,null,null,null,null,null,null,null,null,null,null,null,null,null,null,null,null,null,null,null,null,null,null,null,null,null,null,null,null,null,null,null,null,null,null,null,null,null,null,null,null,null,null,null,null,null,null,null,null,null,null,null,null,null,null,null,null,null,null,null,null,null,null,null,null,null,null,null,null,null,null,null,null,null,null,null,null,null,null,null,null,null,null,null,null,null,null,null,null,null,null,null,null,null,null,null,null,null,null,null,null,null,null,null,null,null,null,null,null,null,null,null,null,null,null,null,null,null,null,null,null,null,null,null,null,null,null,null,null,null,null,null,null,null,null,null,null,null,null,null,null,null,null,null,null,null,null,null,null,null,null,null,null,null,null,null,null,null,null,null,null,null,null,null,null,null,null,null,null,null,null,null,null,null,null,null,null,null,null,null,null,null,null,null,null,null,null,null,null,null,null,null,null,null,null,null,null,null,null,null,null,null,null,null,null,null,null,null,null,null,null,null,null,null,null,null,null,null,null,null,null,null,null,3,0]
[null,null,null,null,null,null,null,null,null,null,null,null,null,null,null,null,null,null,null,null,null,null,null,null,null,null,null,null,null,null,null,null,null,null,null,null,null,null,null,null,null,null,null,null,null,null,null,null,null,null,null,null,null,null,null,null,null,null,null,null,null,null,null,null,null,null,null,null,null,null,null,null,null,null,null,null,null,null,null,null,null,null,null,null,null,null,null,null,null,null,null,null,null,null,null,null,null,null,null,null,null,null,null,null,null,null,null,null,null,null,null,null,null,null,null,null,null,null,null,null,null,null,null,null,null,null,null,null,null,null,null,null,null,null,null,null,null,null,null,null,null,null,null,null,null,null,null,null,null,null,null,null,null,null,null,null,null,null,null,null,null,null,null,null,null,null,null,null,null,null,null,null,null,null,null,null,null,null,null,null,null,null,null,null,null,null,null,null,null,null,null,null,null,null,null,null,null,null,null,null,null,null,null,null,null,null,null,null,null,null,null,null,null,null,null,null,null,null,null,null,null,null,null,null,null,null,null,null,null,null,null,null,null,null,null,null,null,null,null,null,null,null,null,null,null,null,null,null,null,null,null,null,null,null,null,null,null,null,null,null,null,null,null,null,null,null,null,null,null,null,null,null,null,null,null,null,null,null,null,null,null,null,null,null,null,null,null,null,null,null,null,null,null,null,null,null,null,null,null,null,null,null,null,null,null,null,null,null,null,null,null,null,null,null,null,null,null,null,null,null,null,null,null,null,null,null,null,null,null,null,null,null,null,null,null,null,null,null,null,null,null,null,null,null,null,null,null,null,null,null,null,null,null,null,null,null,null,null,null,null,null,null,null,null,null,null,null,null,null,null,null,null,null,null,null,null,null,null,null,null,null,null,null,null,null,null,null,null,null,null,null,null,null,null,null,null,null,null,null,null,null,null,null,null,null,null,null,null,null,null,null,null,null,null,null,null,null,null,null,null,null,null,null,null,null,null,null,null,null,null,null,null,null,null,null,null,null,null,null,null,null,null,null,null,null,null,null,null,null,null,null,null,null,null,null,null,null,null,null,null,null,null,null,null,null,null,null,null,null,null,null,null,null,null,null,null,null,null,null,null,null,null,null,null,null,null,null,null,null,null,null,null,null,null,null,null,null,null,null,null,null,null,null,null,null,null,null,null,null,null,null,null,null,null,null,null,null,null,null,null,null,null,null,null,null,null,null,null,null,null,null,null,null,null,null,null,null,null,null,null,null,null,null,null,null,null,null,null,null,null,null,null,null,null,null,null,null,null,null,null,null,null,null,null,null,null,null,null,null,null,null,null,null,null,null,null,null,null,null,null,null,null,null,null,null,null,null,null,null,null,null,null,null,null,null,null,null,null,null,null,null,null,null,null,null,null,null,null,null,null,null,null,null,null,null,null,null,null,null,null,null,null,null,null,null,null,null,null,null,null,null,null,null,null,null,null,null,null,null,null,null,null,null,null,null,null,null,null,null,null,null,null,null,null,null,null,null,null,null,null,null,null,null,null,null,null,null,null,null,null,null,null,null,null,null,null,null,null,null,null,null,null,null,null,null,null,null,null,null,null,null,null,null,null,null,null,null,null,null,null,null,null,null,null,null,null,null,null,null,null,null,null,null,null,null,null,null,null,null,null,null,null,null,null,null,null,null,null,null,null,null,null,null,null,null,null,null,null,null,null,null,null,null,null,null,null,null,null,null,null,null,null,null,null,null,null,null,null,null,null,null,null,null,null,null,null,null,null,null,null,null,null,null,null,null,null,null,null,null,null,null,null,null,null,null,null,null,null,null,null,null,null,null,null,null,null,null,null,null,null,null,null,null,null,null,null,null,null,null,null,null,null,null,null,null,null,null,null,null,null,null,null,null,null,null,null,null,null,null,null,null,null,null,null,null,null,null,null,null,null,null,null,null,null,null,null,null,null,null,null,null,null,null,null,null,null,null,null,null,null,null,null,null,null,null,null,null,null,null,null,null,null,null,null,null,null,null,null,null,null,null,null,null,null,null,null,null,null,null,null,null,null,null,null,null,null,null,null,null,null,null,null,null,null,null,null,null,null,null,null,null,null,null,null,null,null,null,null,null,null,null,null,null,null,null,null,null,null,null,null,null,null,null,null,null,null,null,null,null,null,null,null,null,null,null,null,null,null,null,null,null,null,null,null,null,null,null,null,null,null,null,null,null,null,null,null,null,null,null,null,null,null,null,null,null,null,null,null,null,null,null,null,null,null,null,null,null,null,null,null,null,null,null,null,null,null,null,null,null,null,null,null,null,null,null,null,null,null,null,null,null,null,null,null,null,null,null,null,null,null,null,null,null,null,null,null,null,null,null,null,null,null,null,null,null,null,null,null,null,null,null,null,null,null,null,null,null,null,null,null,null,null,null,null,null,null,null,null,null,null,null,null,null,null,null,null,null,null,null,null,null,null,null,null,null,null,null,null,null,null,null,null,null,null,null,null,null,null,null,null,null,null,null,null,null,null,null,null,null,null,null,null,null,null,null,null,null,null,null,null,null,null,null,null,null,null,null,null,null,null,null,null,null,null,null,null,null,null,null,null,null,null,null,null,null,null,null,null,null,null,null,null,null,null,null,null,null,null,null,null,null,null,null,null,null,null,null,null,null,null,null,null,null,null,null,null,null,null,null,null,null,null,null,null,null,null,null,null,null,null,null,null,null,null,null,null,null,null,null,null,null,null,null,null,null,null,null,null,null,null,null,null,null,null,null,null,null,null,null,null,null,null,null,null,null,null,null,null,null,null,null,null,null,null,null,null,null,null,null,null,null,null,null,null,null,null,null,null,null,null,null,null,null,null,null,null,null,null,null,null,null,null,null,null,null,null,null,null,null,null,null,null,null,null,null,null,null,null,null,null,null,null,null,null,null,null,null,null,null,null,null,null,null,null,null,null,null,null,null,null,null,null,null,null,null,null,null,null,null,null,null,null,null,null,null,null,null,null,null,null,null,null,null,null,null,null,null,null,null,null,null,null,null,null,null,null,null,null,null,null,null,null,null,null,null,null,null,null,null,null,null,null,null,null,null,null,null,null,null,null,null,null,null,null,null,null,null,null,null,null,null,null,null,null,null,null,null,null,null,null,null,null,null,null,null,null,null,null,null,null,null,null,null,null,null,null,null,null,null,null,null,null,null,null,null,null,null,null,null,null,null,null,null,null,null,null,null,null,null,null,null,null,null,null,null,null,null,null,null,null,null,null,null,null,null,null,null,null,null,null,null,null,null,null,null,null,null,null,null,null,null,null,null,null,null,null,null,null,null,null,null,null,null,null,null,null,null,null,null,null,null,null,null,null,null,null,null,null,null,null,null,null,null,null,null,null,null,null,null,null,null,null,null,null,null,null,null,null,null,null,null,null,null,null,null,null,null,null,null,null,null,null,null,null,null,null,null,null,null,null,null,null,null,null,null,null,null,null,null,null,null,null,null,null,null,null,null,null,null,null,null,null,null,null,null,null,null,null,null,null,null,null,null,null,null,null,null,null,null,null,null,null,null,null,null,null,null,null,null,null,null,null,null,null,null,null,null,null,null,null,null,null,null,null,null,null,null,null,null,null,null,null,null,null,null,null,null,null,null,null,null,null,null,null,null,null,null,null,null,null,null,null,null,null,null,null,null,null,null,null,null,null,null,null,null,null,null,null,null,null,null,null,null,null,null,null,null,null,null,null,null,null,null,null,null,null,null,null,null,null,null,null,null,null,null,null,null,null,null,null,null,null,null,null,null,null,null,null,null,null,null,null,null,null,null,null,null,null,null,null,null,null,null,null,null,null,null,null,null,null,null,null,null,null,null,null,null,null,null,null,null,null,null,null,null,null,null,null,null,null,null,null,null,null,null,null,null,null,null,null,null,null,null,null,null,null,null,null,null,null,null,null,null,null,null,null,null,null,null,null,null,null,null,null,null,null,null,null,null,null,null,null,null,null,null,null,null,null,null,null,null,null,null,null,null,null,null,null,null,null,null,null,null,null,null,null,null,null,null,null,null,null,null,null,null,null,null,null,null,null,null,null,null,null,null,null,null,null,null,null,null,null,null,null,null,null,null,null,null,null,null,null,null,null,null,null,null,null,null,null,null,null,null,null,null,null,null,null,null,null,null,null,null,null,null,null,null,null,null,null,null,null,null,null,null,null,null,null,null,null,null,null,null,null,null,null,null,null,null,null,null,null,null,null,null,null,null,null,null,null,null,null,null,null,null,null,null,null,null,null,null,null,null,null,null,null,null,null,null,null,null,null,null,null,null,null,null,null,null,null,null,null,null,null,null,null,null,null,null,null,null,null,null,null,null,null,null,null,null,null,null,null,null,null,null,null,null,null,null,null,null,null,null,null,null,null,null,null,null,null,null,null,null,null,null,null,null,null,null,null,null,null,null,null,null,null,null,null,null,null,null,null,null,null,null,null,null,null,null,null,null,null,null,null,null,null,null,null,null,null,null,null,null,null,null,null,null,null,null,null,null,null,null,null,null,null,null,null,null,null,null,null,null,null,null,null,null,null,null,null,null,null,null,null,null,null,null,null,null,null,null,null,null,null,null,null,null,null,null,null,null,null,null,null,null,null,null,null,null,null,null,null,null,null,null,null,null,null,null,null,null,null,null,null,null,null,null,null,null,null,null,null,null,null,null,null,null,null,null,null,null,null,null,null,null,null,null,null,null,null,null,null,null,null,null,null,null,null,null,null,null,null,null,null,null,null,null,null,null,null,null,null,null,null,null,null,null,null,null,null,null,null,null,null,null,null,null,null,null,null,null,null,null,null,null,null,null,null,null,null,null,null,null,null,null,null,null,null,null,null,null,null,null,null,null,null,null,null,null,null,null,null,null,null,null,null,null,null,null,null,null,null,null,null,null,null,null,null,null,null,null,null,null,null,null,null,null,null,null,null,null,null,null,null,null,null,null,null,null,null,null,null,null,null,null,null,null,null,null,null,null,null,null,null,null,null,null,null,null,null,null,null,null,null,null,null,null,null,null,null,null,null,null,null,null,null,null,null,null,null,null,null,null,null,null,null,null,null,null,null,null,null,null,null,null,null,null,null,null,null,null,null,null,null,null,null,null,null,null,null,null,null,null,null,null,null,null,null,null,null,null,null,null,null,null,null,null,null,null,null,null,null,null,null,null,null,null,null,null,null,null,null,null,null,null,null,null,null,null,null,null,null,null,null,null,null,null,null,null,null,null,null,null,null,null,null,null,null,null,null,null,null,null,null,null,null,null,null,null,null,null,null,null,null,null,null,null,null,null,null,null,null,null,null,null,null,null,null,null,null,null,null,null,null,null,null,null,null,null,null,null,null,null,null,null,null,null,null,null,null,null,null,null,null,null,null,null,null,null,null,null,null,null,null,null,null,null,null,null,null,null,null,null,null,null,null,null,null,null,null,null,null,null,null,null,null,null,null,null,null,null,null,null,null,null,null,null,null,null,null,null,null,null,null,null,null,null,null,null,null,null,null,null,null,null,null,null,null,null,null,null,null,null,null,null,null,null,null,null,null,null,null,null,null,null,null,null,null,null,null,null,null,null,null,null,null,null,null,null,null,null,null,null,null,null,null,null,null,null,null,null,null,null,null,null,null,null,null,null,null,null,null,null,null,null,null,null,null,null,null,null,null,null,null,null,null,null,null,null,null,null,null,null,null,null,null,null,null,null,null,null,null,null,null,null,null,null,null,null,null,null,null,null,null,null,null,null,null,null,null,null,null,null,null,null,null,null,null,null,null,null,null,null,null,null,null,null,null,null,null,null,null,null,null,null,null,null,null,null,null,null,null,null,null,null,null,null,null,null,null,null,null,null,null,null,null,null,null,null,null,null,null,null,null,null,null,null,null,null,null,null,null,null,null,null,null,null,null,null,null,null,null,null,null,null,null,null,null,null,null,null,null,null,null,null,null,null,null,null,null,null,null,null,null,null,null,null,null,null,null,null,null,null,null,null,null,null,null,null,null,null,null,null,null,null,null,null,null,null,null,null,null,null,null,null,null,null,null,null,null,null,null,null,null,null,null,null,null,null,null,null,null,null,null,null,null,null,null,null,null,null,null,null,null,null,null,null,null,null,null,null,null,null,null,null,null,null,null,null,null,null,null,null,null,null,null,null,null,null,null,null,null,null,null,null,null,null,null,null,null,null,null,null,null,null,null,null,null,null,null,null,null,null,null,null,null,null,null,null,null,null,null,null,null,null,null,null,null,null,null,null,null,null,null,null,null,null,null,null,null,null,null,null,null,null,null,null,null,null,null,null,null,null,null,null,null,null,null,null,null,null,null,null,null,null,null,null,null,null,null,null,null,null,null,null,null,null,null,null,null,null,null,null,null,null,null,null,null,null,null,null,null,null,null,null,null,null,null,null,null,null,null,null,null,null,null,null,null,null,null,null,null,null,null,null,null,null,null,null,null,null,null,null,null,null,null,null,null,null,null,null,null,null,null,null,null,null,null,null,null,null,null,null,null,null,null,null,null,null,null,null,null,null,null,null,null,null,null,null,null,null,null,null,null,null,null,null,null,null,null,null,null,null,null,null,null,null,null,null,null,null,null,null,null,null,null,null,null,null,null,null,null,null,null,null,null,null,null,null,null,null,null,null,null,null,null,null,null,null,null,null,null,null,null,null,null,null,null,null,null,null,null,null,null,null,null,null,null,null,null,null,null,null,null,null,null,null,null,null,null,null,null,null,null,null,null,null,null,null,null,null,null,null,null,null,null,null,null,null,null,null,null,null,null,null,null,null,null,null,null,null,null,null,null,null,null,null,null,null,null,null,null,null,null,null,null,null,null,null,null,null,null,null,null,null,null,null,null,null,null,null,null,null,null,null,null,null,null,null,null,null,null,null,null,null,null,null,null,null,null,null,null,null,null,null,null,null,null,null,null,null,null,null,null,null,null,null,null,null,null,null,null,null,null,null,null,null,null,null,null,null,null,null,null,null,null,null,null,null,null,null,null,null,null,null,null,null,null,null,null,null,null,null,null,null,null,null,null,null,null,null,null,null,null,null,null,null,null,null,null,null,null,null,null,null,null,null,null,null,null,null,null,null,null,null,null,null,null,null,null,null,null,null,null,null,null,null,null,null,null,null,null,null,null,null,null,null,null,null,null,null,null,null,null,null,null,null,null,null,null,null,null,null,null,null,null,null,null,null,null,null,null,null,null,null,null,null,null,null,null,null,null,null,null,null,null,null,null,null,null,null,null,null,null,null,null,null,null,null,null,null,null,null,null,null,null,null,null,null,null,null,null,null,null,null,null,null,null,null,null,null,null,null,null,null,null,null,null,null,null,null,null,null,null,null,null,null,null,null,null,null,null,null,null,null,null,null,null,null,null,null,null,null,null,null,null,null,null,null,null,null,null,null,null,null,null,null,null,null,null,null,null,null,null,null,null,null,null,null,null,null,null,null,null,null,null,null,null,null,null,null,null,null,null,null,null,null,null,null,null,null,null,null,null,null,null,null,null,null,null,null,null,null,null,null,null,null,null,null,null,null,null,null,null,null,null,null,null,null,null,null,null,null,null,null,null,null,null,null,null,null,null,null,null,null,null,null,null,null,null,null,null,null,null,null,null,null,null,null,null,null,null,null,null,null,null,null,null,null,null,null,null,null,null,null,null,null,null,null,null,null,null,null,null,null,null,null,null,null,null,null,null,null,null,null,null,null,null,null,null,null,null,null,null,null,null,null,null,null,null,null,null,null,null,null,null,null,null,null,null,null,null,null,null,null,null,null,null,null,null,null,null,null,null,null,null,null,null,null,null,null,null,null,null,null,null,null,null,null,null,null,null,null,null,null,null,null,null,null,null,null,null,null,null,null,null,null,null,null,null,null,null,null,null,null,null,null,null,null,null,null,null,null,null,null,null,null,null,null,null,null,null,null,null,null,null,null,null,null,null,null,null,null,null,null,null,null,null,null,null,null,null,null,null,null,null,null,null,null,null,null,null,null,null,null,null,null,null,null,null,null,null,null,null,null,null,null,null,null,null,null,null,null,null,null,null,null,null,null,null,null,null,null,null,null,null,null,null,null,null,null,null,null,null,null,null,null,null,null,null,null,null,null,null,null,null,null,null,null,null,null,null,null,null,null,null,null,null,null,null,null,null,null,null,null,null,null,null,null,null,null,null,null,null,null,null,null,null,null,null,null,null,null,null,null,null,null,null,null,null,null,null,null,null,null,null,null,null,null,null,null,null,null,null,null,null,null,null,null,null,null,null,null,null,null,null,null,null,null,null,null,null,null,null,null,null,null,null,null,null,null,null,null,null,null,null,null,null,null,null,null,null,null,null,null,null,null,null,null,null,null,null,null,null,null,null,null,null,null,null,null,null,null,null,null,null,null,null,null,null,null,null,null,null,null,null,null,null,null,null,null,null,null,null,null,null,null,null,null,null,null,null,null,null,null,null,null,null,null,null,null,null,null,null,null,null,null,null,null,null,null,null,null,null,null,null,null,null,null,null,null,null,null,null,null,null,null,null,null,null,null,null,null,null,null,null,null,null,null,null,null,null,null,null,null,null,null,null,null,null,null,null,null,null,null,null,null,null,null,null,null,null,null,null,null,null,null,null,null,null,null,null,null,null,null,null,null,null,null,null,null,null,null,null,null,null,null,null,null,null,null,null,null,null,null,null,null,null,null,null,null,null,null,null,null,null,null,null,null,null,null,null,null,null,null,null,null,null,null,null,null,null,null,null,null,null,null,null,null,null,null,null,null,null,null,null,null,null,null,null,null,null,null,null,null,null,null,null,null,null,null,null,null,null,null,null,null,null,null,null,null,null,null,null,null,null,null,null,null,null,null,null,null,null,null,null,null,null,null,null,null,null,null,null,null,null,null,null,null,null,null,null,null,null,null,null,null,null,null,null,null,null,null,null,null,null,null,null,null,null,null,null,null,null,null,null,null,null,null,null,null,null,null,null,null,null,null,null,null,null,null,null,null,null,null,null,null,null,null,null,null,null,null,null,null,null,null,null,null,null,null,null,null,null,null,null,null,null,null,null,null,null,null,null,null,null,null,null,null,null,null,null,null,null,null,null,null,null,null,null,null,null,null,null,null,null,null,null,null,null,null,null,null,null,null,null,null,null,null,null,null,null,null,null,null,null,null,null,null,null,null,null,null,null,null,null,null,null,null,null,null,null,null,null,null,null,null,null,null,null,null,null,null,null,null,null,null,null,null,null,null,null,null,null,null,null,null,null,null,null,null,null,null,null,null,null,null,null,null,null,null,null,null,null,null,null,null,null,null,null,null,null,null,null,null,null,null,null,null,null,null,null,null,null,null,null,null,null,null,null,null,null,null,null,null,null,null,null,null,null,null,null,null,null,null,null,null,null,null,null,null,null,null,null,null,null,null,null,null,null,null,null,null,null,null,null,null,null,null,null,null,null,null,null,null,null,null,null,null,null,null,null,null,null,null,null,null,null,null,null,null,null,null,null,null,null,null,null,null,null,null,null,null,null,null,null,null,null,null,null,null,null,null,null,null,null,null,null,null,null,null,null,null,null,null,null,null,null,null,null,null,null,null,null,null,null,null,null,null,null,null,null,null,null,null,null,null,null,null,null,null,null,null,null,null,null,null,null,null,null,null,null,null,null,null,null,null,null,null,null,null,null,null,null,null,null,null,null,null,null,null,null,null,null,null,null,null,null,null,null,null,null,null,null,null,null,null,null,null,null,null,null,null,null,null,null,null,null,null,null,null,null,null,null,null,null,null,null,null,null,null,null,null,null,null,null,null,null,null,null,null,null,null,null,null,null,null,null,null,null,null,null,null,null,null,null,null,null,null,null,null,null,null,null,null,null,null,null,null,null,null,null,null,null,null,null,null,null,null,null,null,null,null,null,null,null,null,null,null,null,null,null,null,null,null,null,null,null,null,null,null,null,null,null,null,null,null,null,null,null,null,null,null,null,null,null,null,null,null,null,null,null,null,null,null,null,null,null,null,null,null,null,null,null,null,null,null,null,null,null,null,null,null,null,null,null,null,null,null,null,null,null,null,null,null,null,null,null,null,null,null,null,null,null,null,null,null,null,null,null,null,null,null,null,null,null,null,null,null,null,null,null,null,null,null,null,null,null,null,null,null,null,null,null,null,null,null,null,null,null,null,null,null,null,null,null,null,null,null,null,null,null,null,null,null,null,null,null,null,null,null,null,null,null,null,null,null,null,null,null,null,null,null,null,null,null,null,null,null,null,null,null,null,null,null,null,null,null,null,null,null,null,null,null,null,null,null,null,null,null,null,null,null,null,null,null,null,null,null,null,null,null,null,null,null,null,null,null,null,null,null,null,null,null,null,null,null,null,null,null,null,null,null,null,null,null,null,null,null,null,null,null,null,null,null,null,null,null,null,null,null,null,null,null,null,null,null,null,null,null,null,null,null,null,null,null,null,null,null,null,null,null,null,null,null,null,null,null,null,null,null,null,null,null,null,null,null,null,null,null,null,null,null,null,null,null,null,null,null,null,null,null,null,null,null,null,null,null,null,null,null,null,null,null,null,null,null,null,null,null,null,null,null,null,null,null,null,null,null,null,null,null,null,null,null,null,null,null,null,null,null,null,null,null,null,null,null,null,null,null,null,null,null,null,null,null,null,null,null,null,null,null,null,null,null,null,null,null,null,null,null,null,null,null,null,null,null,null,null,null,null,null,null,null,null,null,null,null,null,null,null,null,null,null,null,null,null,null,null,null,null,null,null,null,null,null,null,null,null,null,null,null,null,null,null,null,null,null,null,null,null,null,null,null,null,null,null,null,null,null,null,null,null,null,null,null,null,null,null,null,null,null,null,null,null,null,null,null,null,null,null,null,null,null,null,null,null,null,null,null,null,null,null,null,null,null,null,null,null,null,null,null,null,null,null,null,null,null,null,null,null,null,null,null,null,null,null,null,null,null,null,null,null,null,null,null,null,null,null,null,null,null,null,null,null,null,null,null,null,null,null,null,null,null,null,null,null,null,null,null,null,null,null,null,null,null,null,null,null,null,null,null,null,null,null,null,null,null,null,null,null,null,null,null,null,null,null,null,null,null,null,null,null,null,null,null,null,null,null,null,null,null,null,null,null,null,null,null,null,null,null,null,null,null,null,null,null,null,null,null,null,null,null,null,null,null,null,null,null,null,null,null,null,null,null,null,null,null,null,null,null,null,null,null,null,null,null,null,null,null,null,null,null,null,null,null,null,null,null,null,null,null,null,null,null,null,null,null,null,null,null,null,null,null,null,null,null,null,null,null,null,null,null,null,null,null,null,null,null,null,null,null,null,null,null,null,null,null,null,null,null,null,null,null,null,null,null,null,null,null,null,null,null,null,null,null,null,null,null,null,null,null,null,null,null,null,null,null,null,null,null,null,null,null,null,null,null,null,null,null,null,null,null,null,null,null,null,null,null,null,null,null,null,null,null,null,null,null,null,null,null,null,null,null,null,null,null,null,null,null,null,null,null,null,null,null,null,null,null,null,null,null,null,null,null,null,null,null,null,null,null,null,null,null,null,null,null,null,null,null,null,null,null,null,null,null,null,null,null,null,null,null,null,null,null,null,null,null,null,null,null,null,null,null,null,null,null,null,null,null,null,null,null,null,null,null,null,null,null,null,null,null,null,null,null,null,null,null,null,null,null,null,null,null,null,null,null,null,null,null,null,null,null,null,null,null,null,null,null,null,null,null,null,null,null,null,null,null,null,null,null,null,null,null,null,null,null,null,null,null,null,null,null,null,null,null,null,null,null,null,null,null,null,null,null,null,null,null,null,null,null,null,null,null,null,null,null,null,null,null,null,null,null,null,null,null,null,null,null,null,null,null,null,null,null,null,null,null,null,null,null,null,null,null,null,null,null,null,null,null,null,null,null,null,null,null,null,null,null,null,null,null,null,null,null,null,null,null,null,null,null,null,null,null,null,null,null,null,null,null,null,null,null,null,null,null,null,null,null,null,null,null,null,null,null,null,null,null,null,null,null,null,null,null,null,null,null,null,null,null,null,null,null,null,null,null,null,null,null,null,null,null,null,null,null,null,null,null,null,null,null,null,null,null,null,null,null,null,null,null,null,null,null,null,null,null,null,null,null,null,null,null,null,null,null,null,null,null,null,null,null,null,null,null,null,null,null,null,null,null,null,null,null,null,null,null,null,null,null,null,null,null,null,null,null,null,null,null,null,null,null,null,null,null,null,null,null,null,null,null,null,null,null,null,null,null,null,null,null,null,null,null,null,null,null,null,null,null,null,null,null,null,null,null,null,null,null,null,null,null,null,null,null,null,null,null,null,null,null,null,null,null,null,null,null,null,null,null,null,null,null,null,null,null,null,null,null,null,null,null,null,null,null,null,null,null,null,null,null,null,null,null,null,null,null,null,null,null,null,null,null,null,null,null,null,null,null,null,null,null,null,null,null,null,null,null,null,null,null,null,null,null,null,null,null,null,null,null,null,null,null,null,null,null,null,null,null,null,null,null,null,null,null,null,null,null,null,null,null,null,null,null,null,null,null,null,null,null,null,null,null,null,null,null,null,null,null,null,null,null,null,null,null,null,null,null,null,null,null,null,null,null,null,null,null,null,null,null,null,null,null,null,null,null,null,null,null,null,null,null,null,null,null,null,null,null,null,null,null,null,null,null,null,null,null,null,null,null,null,null,null,null,null,null,null,null,null,null,null,null,null,null,null,null,null,null,null,null,null,null,null,null,null,null,null,null,null,null,null,null,null,null,null,null,null,null,null,null,null,null,null,null,null,null,null,null,null,null,null,null,null,null,null,null,null,null,null,null,null,null,null,null,null,null,null,null,null,null,null,null,null,null,null,null,null,null,null,null,null,null,null,null,null,null,null,null,null,null,null,null,null,null,null,null,null,null,null,null,null,null,null,null,null,null,null,null,null,null,null,null,null,null,null,null,null,null,null,null,null,null,null,null,null,null,null,null,null,null,null,null,null,null,null,null,null,null,null,null,null,null,null,null,null,null,null,null,null,null,null,null,null,null,null,null,null,null,null,null,null,null,null,null,null,null,null,null,null,null,null,null,null,null,null,null,null,null,null,null,null,null,null,null,null,null,null,null,null,null,null,null,null,null,null,null,null,null,null,null,null,null,null,null,null,null,null,null,null,null,null,null,null,null,null,null,null,null,null,null,null,null,null,null,null,null,null,null,null,null,null,null,null,null,null,null,null,null,null,null,null,null,null,null,null,null,null,null,null,null,null,null,null,null,null,null,null,null,null,null,null,null,null,null,null,null,null,null,null,null,null,null,null,null,null,null,null,null,null,null,null,null,null,null,null,null,null,null,null,null,null,null,null,null,null,null,null,null,null,null,null,null,null,null,null,null,null,null,null,null,null,null,null,null,null,null,null,null,null,null,null,null,null,null,null,null,null,null,null,null,null,null,null,null,null,null,null,null,null,null,null,null,null,null,null,null,null,null,null,null,null,null,null,null,null,null,null,null,null,null,null,null,null,null,null,null,null,null,null,null,null,null,null,null,null,null,null,null,null,null,null,null,null,null,null,null,null,null,null,null,null,null,null,null,null,null,null,null,null,null,null,null,null,null,null,null,null,null,null,null,null,null,null,null,null,null,null,null,null,null,null,null,null,null,null,null,null,null,null,null,null,null,null,null,null,null,null,null,null,null,null,null,null,null,null,null,null,null,null,null,null,null,null,null,null,null,null,null,null,null,null,null,null,null,null,null,null,null,null,null,null,null,null,null,null,null,null,null,null,null,null,null,null,null,null,null,null,null,null,null,null,null,null,null,null,null,null,null,null,null,null,null,null,null,null,null,null,null,null,null,null,null,null,null,null,null,null,null,null,null,null,null,null,null,null,null,null,null,null,null,null,null,null,null,null,null,null,null,null,null,null,null,null,null,null,null,null,null,null,null,null,null,null,null,null,null,null,null,null,null,null,null,null,null,null,null,null,null,null,null,null,null,null,null,null,null,null,null,null,null,null,null,null,null,null,null,null,null,null,null,null,null,null,null,null,null,null,null,null,null,null,null,null,null,null,null,null,null,null,null,null,null,null,null,null,null,null,null,null,null,null,null,null,null,null,null,null,null,null,null,null,null,null,null,null,null,null,null,null,null,null,null,null,null,null,null,null,null,null,null,null,null,null,null,null,null,null,null,null,null,null,null,null,null,null,null,null,null,null,null,null,null,null,null,null,null,null,null,null,null,null,null,null,null,null,null,null,null,null,null,null,null,null,null,null,null,null,null,null,null,null,null,null,null,null,null,null,null,null,null,null,null,null,null,null,null,null,null,null,null,null,null,null,null,null,null,null,null,null,null,null,null,null,null,null,null,null,null,null,null,null,null,null,null,null,null,null,null,null,null,null,null,null,null,null,null,null,null,null,null,null,null,null,null,null,null,null,null,null,null,null,null,null,null,null,null,null,null,null,null,null,null,null,null,null,null,null,null,null,null,null,null,null,null,null,null,null,null,null,null,null,null,null,null,null,null,null,null,null,null,null,null,null,null,null,null,null,null,null,null,null,null,null,null,null,null,null,null,null,null,null,null,null,null,null,null,null,null,null,null,null,null,null,null,null,null,null,null,null,null,null,null,null,null,null,null,null,null,null,null,null,null,null,null,null,null,null,null,null,null,null,null,null,null,null,null,null,null,null,null,null,null,null,null,null,null,null,null,null,null,null,null,null,null,null,null,null,null,null,null,null,null,null,null,null,null,null,null,null,null,null,null,null,null,null,null,null,null,null,null,null,null,null,null,null,null,null,null,null,null,null,null,null,null,null,null,null,null,null,null,null,null,null,null,null,null,null,null,null,null,null,null,null,null,null,null,null,null,null,null,null,null,null,null,null,null,null,null,null,null,null,null,null,null,null,null,null,null,null,null,null,null,null,null,null,null,null,null,null,null,null,null,null,null,null,null,null,null,null,null,null,null,null,null,null,null,null,null,null,null,null,null,null,null,null,null,null,null,null,null,null,null,null,null,null,null,null,null,null,null,null,null,null,null,null,null,null,null,null,null,null,null,null,null,null,null,null,null,null,null,null,null,null,null,null,null,null,null,null,null,null,null,null,null,null,null,null,null,null,null,null,null,null,null,null,null,null,null,null,null,null,null,null,null,null,null,null,null,null,null,null,null,null,null,null,null,null,null,null,null,null,null,null,null,null,null,null,null,null,null,null,null,null,null,null,null,null,null,null,null,null,null,null,null,null,null,null,null,null,null,null,null,null,null,null,null,null,null,null,null,null,null,null,null,null,null,null,null,null,null,null,null,null,null,null,null,null,null,null,null,null,null,null,null,null,null,null,null,null,null,null,null,null,null,null,null,null,null,null,null,null,null,null,null,null,null,null,null,null,null,null,null,null,null,null,null,null,null,null,null,null,null,null,null,null,null,null,null,null,null,null,null,null,null,null,null,null,null,null,null,null,null,null,null,null,null,null,null,null,null,null,null,null,null,null,null,null,null,null,null,null,null,null,null,null,null,null,null,null,null,null,null,null,null,null,null,null,null,null,null,null,null,null,null,null,null,null,null,null,null,null,null,null,null,null,null,null,null,null,null,null,null,null,null,null,null,null,null,null,null,null,null,null,null,null,null,null,null,null,null,null,null,null,null,null,null,null,null,null,null,null,null,null,null,null,null,null,null,null,null,null,null,null,null,null,null,null,null,null,null,null,null,null,null,null,null,null,null,null,null,null,null,null,null,null,null,null,null,null,null,null,null,null,null,null,null,null,null,null,null,null,null,null,null,null,null,null,null,null,null,null,null,null,null,null,null,null,null,null,null,null,null,null,null,null,null,null,null,null,null,null,null,null,null,null,null,null,null,null,null,null,null,null,null,null,null,null,null,null,null,null,null,null,null,null,null,null,null,null,null,null,null,null,null,null,null,null,null,null,null,null,null,null,null,null,null,null,null,null,null,null,null,null,null,null,null,null,null,null,null,null,null,null,null,null,null,null,null,null,null,null,null,null,null,null,null,null,null,null,null,null,null,null,null,null,null,null,null,null,null,null,null,null,null,null,null,null,null,null,null,null,null,null,null,null,null,null,null,null,null,null,null,null,null,null,null,null,null,null,null,null,null,null,null,null,null,null,null,null,null,null,null,null,null,null,null,null,null,null,null,null,null,null,null,null,null,null,null,null,null,null,null,null,null,null,null,null,null,null,null,null,null,null,null,null,null,null,null,null,null,null,null,null,null,null,null,null,null,null,null,null,null,null,null,null,null,null,null,null,null,null,null,null,null,null,null,null,null,null,null,null,null,null,null,null,null,null,null,null,null,null,null,null,null,null,null,null,null,null,null,null,null,null,null,null,null,null,null,null,null,null,null,null,null,null,null,null,null,null,null,null,null,null,null,null,null,null,null,null,null,null,null,null,null,null,null,null,null,null,null,null,null,null,null,null,null,null,null,null,null,null,null,null,null,null,null,null,null,null,null,null,null,null,null,null,null,null,null,null,null,null,null,null,null,null,null,null,null,null,null,null,null,null,null,null,null,null,null,null,null,null,null,null,null,null,null,null,null,null,null,null,null,null,null,null,null,null,null,null,null,null,null,null,null,null,null,null,null,null,null,null,null,null,null,null,null,null,null,null,null,null,null,null,null,null,null,null,null,null,null,null,null,null,null,null,null,null,null,null,null,null,null,null,null,null,null,null,null,null,null,null,null,null,null,null,null,null,null,null,null,null,null,null,null,null,null,null,null,null,null,null,null,null,null,null,null,null,null,null,null,null,null,null,null,null,null,null,null,null,null,null,null,null,null,null,null,null,null,null,null,null,null,null,null,null,null,null,null,null,null,null,null,null,null,null,null,null,null,null,null,null,null,null,null,null,null,null,null,null,null,null,null,null,null,null,null,null,null,null,null,null,null,null,null,null,null,null,null,null,null,null,null,null,null,null,null,null,null,null,null,null,null,null,null,null,null,null,null,null,null,null,null,null,null,null,null,null,null,null,null,null,null,null,null,null,null,null,null,null,null,null,null,null,null,null,null,null,null,null,null,null,null,null,null,null,null,null,null,null,null,null,null,null,null,null,null,null,null,null,null,null,null,null,null,null,null,null,null,null,null,null,null,null,null,null,null,null,null,null,null,null,null,null,null,null,null,null,null,null,null,null,null,null,null,null,null,null,null,null,null,null,null,null,null,null,null,null,null,null,null,null,null,null,null,null,null,null,null,null,null,null,null,null,null,null,null,null,null,null,null,null,null,null,null,null,null,null,null,null,null,null,null,null,null,null,null,null,null,null,null,null,null,null,null,null,null,null,null,null,null,null,null,null,null,null,null,null,null,null,null,null,null,null,null,null,null,null,null,null,null,null,null,null,null,null,null,null,null,null,null,null,null,null,null,null,null,null,null,null,null,null,null,null,null,null,null,null,null,null,null,null,null,null,null,null,null,null,null,null,null,null,null,null,null,null,null,null,null,null,null,null,null,null,null,null,null,null,null,null,null,null,null,null,null,null,null,null,null,null,null,null,null,null,null,null,null,null,null,null,null,null,null,null,null,null,null,null,null,null,null,null,null,null,null,null,null,null,null,null,null,null,null,null,null,null,null,null,null,null,null,null,null,null,null,null,null,null,null,null,null,null,null,null,null,null,null,null,null,null,null,null,null,null,null,null,null,null,null,null,null,null,null,null,null,null,null,null,null,null,null,null,null,null,null,null,null,null,null,null,null,null,null,null,null,null,null,null,null,null,null,null,null,null,null,null,null,null,null,null,null,null,null,null,null,null,null,null,null,null,null,null,null,null,null,null,null,null,null,null,null,null,null,null,null,null,null,null,null,null,null,null,null,null,null,null,null,null,null,null,null,null,null,null,null,null,null,null,null,null,null,null,null,null,null,null,null,null,null,null,null,null,null,null,null,null,null,null,null,null,null,null,null,null,null,null,null,null,null,null,null,null,null,null,null,null,null,null,null,null,null,null,null,null,null,null,null,null,null,null,null,null,null,null,null,null,null,null,null,null,null,null,null,null,null,null,null,null,null,null,null,null,null,null,null,null,null,null,null,null,null,null,null,null,null,null,null,null,null,null,null,null,null,null,null,null,null,null,null,null,null,null,null,null,null,null,null,null,null,null,null,null,null,null,null,null,null,null,null,null,null,null,null,null,null,null,null,null,null,null,null,null,null,null,null,null,null,null,null,null,null,null,null,null,null,null,null,null,null,null,null,null,null,null,null,null,null,null,null,null,null,null,null,null,null,null,null,null,null,null,null,null,null,null,null,null,null,null,null,null,null,null,null,null,null,null,null,null,null,null,null,null,null,null,null,null,null,null,null,null,null,null,null,null,null,null,null,null,null,null,null,null,null,null,null,null,null,null,null,null,null,null,null,null,null,null,null,null,null,null,null,null,null,null,null,null,null,null,null,null,null,null,null,null,null,null,null,null,null,null,null,null,null,null,null,null,null,null,null,null,null,null,null,null,null,null,null,null,null,null,null,null,null,null,null,null,null,null,null,null,null,null,null,null,null,null,null,null,null,null,null,null,null,null,null,null,null,null,null,null,null,null,null,null,null,null,null,null,null,null,null,null,null,null,null,null,null,null,null,null,null,null,null,null,null,null,null,null,null,null,null,null,null,null,null,null,null,null,null,null,null,null,null,null,null,null,null,null,null,null,null,null,null,null,null,null,null,null,null,null,null,null,null,null,null,null,null,null,null,null,null,null,null,null,null,null,null,null,null,null,null,null,null,null,null,null,null,null,null,null,null,null,null,null,null,null,null,null,null,null,null,null,null,null,null,null,null,null,null,null,null,null,null,null,null,null,null,null,null,null,null,null,null,null,null,null,null,null,null,null,null,null,null,null,null,null,null,null,null,null,null,null,null,null,null,null,null,null,null,null,null,null,null,null,null,null,null,null,null,null,null,null,null,null,null,null,null,null,null,null,null,null,null,null,null,null,null,null,null,null,null,null,null,null,null,null,null,null,null,null,null,null,null,null,null,null,null,null,null,null,null,null,null,null,null,null,null,null,null,null,null,null,null,null,null,null,null,null,null,null,null,null,null,null,null,null,null,null,null,null,null,null,null,null,null,null,null,null,null,null,null,null,null,null,null,null,null,null,null,null,null,null,null,null,null,null,null,null,null,null,null,null,null,null,null,null,null,null,null,null,null,null,null,null,null,null,null,null,null,null,null,null,null,null,null,null,null,null,null,null,null,null,null,null,null,null,null,null,null,null,null,null,null,null,null,null,null,null,null,null,null,null,null,null,null,null,null,null,null,null,null,null,null,null,null,null,null,null,null,null,null,null,null,null,null,null,null,null,null,null,null,null,null,null,null,null,null,null,null,null,null,null,null,null,null,null,null,null,null,null,null,null,null,null,null,null,null,null,null,null,null,null,null,null,null,null,null,null,null,null,null,null,null,null,null,null,null,null,null,null,null,null,null,null,null,null,null,null,null,null,null,null,null,null,null,null,null,null,null,null,null,null,null,null,null,null,null,null,null,null,null,null,null,null,null,null,null,null,null,null,null,null,null,null,null,null,null,null,null,null,null,null,null,null,null,null,null,null,null,null,null,null,null,null,null,null,null,null,null,null,null,null,null,null,null,null,null,null,null,null,null,null,null,null,null,null,null,null,null,null,null,null,null,null,null,null,null,null,null,null,null,null,null,null,null,null,null,null,null,null,null,null,null,null,null,null,null,null,null,null,null,null,null,null,null,null,null,null,null,null,null,null,null,null,null,null,null,null,null,null,null,null,null,null,null,null,null,null,null,null,null,null,null,null,null,null,null,null,null,null,null,null,null,null,null,null,null,null,null,null,null,null,null,null,null,null,null,null,null,null,null,null,null,null,null,null,null,null,null,null,null,null,null,null,null,null,null,null,null,null,null,null,null,null,null,null,null,null,null,null,null,null,null,null,null,null,null,null,null,null,null,null,null,null,null,null,null,null,null,null,null,null,null,null,null,null,null,null,null,null,null,null,null,null,null,null,null,null,null,null,null,null,null,null,null,null,null,null,null,null,null,null,null,null,null,null,null,null,null,null,null,null,null,null,null,null,null,null,null,null,null,null,null,null,null,null,null,null,null,null,null,null,null,null,null,null,null,null,null,null,null,null,null,null,null,null,null,null,null,null,null,null,null,null,null,null,null,null,null,null,null,null,null,null,null,null,null,null,null,null,null,null,null,null,null,null,null,null,null,null,null,null,null,null,null,null,null,null,null,null,null,null,null,null,null,null,null,null,null,null,null,null,null,null,null,null,null,null,null,null,null,null,null,null,null,null,null,null,null,null,null,null,null,null,null,null,null,null,null,null,null,null,null,null,null,null,null,null,null,null,null,null,null,null,null,null,null,null,null,null,null,null,null,null,null,null,null,null,null,null,null,null,null,null,null,null,null,null,null,null,null,null,null,null,null,null,null,null,null,null,null,null,null,null,null,null,null,null,null,null,null,null,null,null,null,null,null,null,null,null,null,null,null,null,null,null,null,null,null,null,null,null,null,null,null,null,null,null,null,null,null,null,null,null,null,null,null,null,null,null,null,null,null,null,null,null,null,null,null,null,null,null,null,null,null,null,null,null,null,null,null,null,null,null,null,null,null,null,null,null,null,null,null,null,null,null,null,null,null,null,null,null,null,null,null,null,null,null,null,null,null,null,null,null,null,null,null,null,null,null,null,null,null,null,null,null,null,null,null,null,null,null,null,null,null,null,null,null,null,null,null,null,null,null,null,null,null,null,null,null,null,null,null,null,null,null,null,null,null,null,null,null,null,null,null,null,null,null,null,null,null,null,null,null,null,null,null,null,null,null,null,null,null,null,null,null,null,null,null,null,null,null,null,null,null,null,null,null,null,null,null,null,null,null,null,null,null,null,null,null,null,null,null,null,null,null,null,null,null,null,null,null,null,null,null,null,null,null,null,null,null,null,null,null,null,null,null,null,null,null,null,null,null,null,null,null,null,null,null,null,null,null,null,null,null,null,null,null,null,null,null,null,null,null,null,null,null,null,null,null,null,null,null,null,null,null,null,null,null,null,null,null,null,null,null,null,null,null,null,null,null,null,null,null,null,null,null,null,null,null,null,null,null,null,null,null,null,null,null,null,null,null,null,null,null,null,null,null,null,null,null,null,null,null,null,null,null,null,null,null,null,null,null,null,null,null,null,null,null,null,null,null,null,null,null,null,null,null,null,null,null,null,null,null,null,null,null,null,null,null,null,null,null,null,null,null,null,null,null,null,null,null,null,null,null,null,null,null,null,null,null,null,null,null,null,null,null,null,null,null,null,null,null,null,null,null,null,null,null,null,null,null,null,null,null,null,null,null,null,null,null,null,null,null,null,null,null,null,null,null,null,null,null,null,null,null,null,null,null,null,null,null,null,null,null,null,null,null,null,null,null,null,null,null,null,null,null,null,null,null,null,null,null,null,null,null,null,null,null,null,null,null,null,null,null,null,null,null,null,null,null,null,null,null,null,null,null,null,null,null,null,null,null,null,null,null,null,null,null,null,null,null,null,null,null,null,null,null,null,null,null,null,null,null,null,null,null,null,null,null,null,null,null,null,null,null,null,null,null,null,null,null,null,null,null,null,null,null,null,null,null,null,null,null,null,null,null,null,null,null,null,null,null,null,null,null,null,null,null,null,null,null,null,null,null,null,null,null,null,null,null,null,null,null,null,null,null,null,null,null,null,null,null,null,null,null,null,null,null,null,null,null,null,null,null,null,null,null,null,null,null,null,null,null,null,null,null,null,null,null,null,null,null,null,null,null,null,null,null,null,null,null,null,null,null,null,null,null,null,null,null,null,null,null,null,null,null,null,null,null,null,null,null,null,null,null,null,null,null,null,null,null,null,null,null,null,null,null,null,null,null,null,null,null,null,null,null,null,null,null,null,null,null,null,null,null,null,null,null,null,null,null,null,null,null,null,null,null,null,null,null,null,null,null,null,null,null,null,null,null,null,null,null,null,null,null,null,null,null,null,null,null,null,null,null,null,null,null,null,null,null,null,null,null,null,null,null,null,null,null,null,null,null,null,null,null,null,null,null,null,null,null,null,null,null,null,null,null,null,null,null,null,null,null,null,null,null,null,null,null,null,null,null,null,null,null,null,null,null,null,null,null,null,null,null,null,null,null,null,null,null,null,null,null,null,null,null,null,null,null,null,null,null,null,null,null,null,null,null,null,null,null,null,null,null,null,null,null,null,null,null,null,null,null,null,null,null,null,null,null,null,null,null,null,null,null,null,null,null,null,null,null,null,null,null,null,null,null,null,null,null,null,null,null,null,null,null,null,null,null,null,null,null,null,null,null,null,null,null,null,null,null,null,null,null,null,null,null,null,null,null,null,null,null,null,null,null,null,null,null,null,null,null,null,null,null,null,null,null,null,null,null,null,null,null,null,null,null,null,null,null,null,null,null,null,null,null,null,null,null,null,null,null,null,null,null,null,null,null,null,null,null,null,null,null,null,null,null,null,null,null,null,null,null,null,null,null,null,null,null,null,null,null,null,null,null,null,null,null,null,null,null,null,null,null,null,null,null,null,null,null,null,null,null,null,null,null,null,null,null,null,null,null,null,null,null,null,null,null,null,null,null,null,null,null,null,null,null,null,null,null,null,null,null,null,null,null,null,null,null,null,null,null,null,null,null,null,null,null,null,null,null,null,null,null,null,null,null,null,null,null,null,null,null,null,null,null,null,null,null,null,null,null,null,null,null,null,null,null,null,null,null,null,null,null,null,null,null,null,null,null,null,null,null,null,null,null,null,null,null,null,null,null,null,null,null,null,null,null,null,null,null,null,null,null,null,null,null,null,null,null,null,null,null,null,null,null,null,null,null,null,null,null,null,null,null,null,null,null,null,null,null,null,null,null,null,null,null,null,null,null,null,null,null,null,null,null,null,null,null,null,null,null,null,null,null,null,null,null,null,null,null,null,null,null,null,null,null,null,null,null,null,null,null,null,null,null,null,null,null,null,null,null,null,null,null,null,null,null,null,null,null,null,null,null,null,null,null,null,null,null,null,null,null,null,null,null,null,null,null,null,null,null,null,null,null,null,null,null,null,null,null,null,null,null,null,null,null,null,null,null,null,null,null,null,null,null,null,null,null,null,null,null,null,null,null,null,null,null,null,null,null,null,null,null,null,null,null,null,null,null,null,null,null,null,null,null,null,null,null,null,null,null,null,null,null,null,null,null,null,null,null,null,null,null,null,null,null,null,null,null,null,null,null,null,null,null,null,null,null,null,null,null,null,null,null,null,null,null,null,null,null,null,null,null,null,null,null,null,null,null,null,null,null,null,null,null,null,null,null,null,null,null,null,null,null,null,null,null,null,null,null,null,null,null,null,null,null,null,null,null,null,null,null,null,null,null,null,null,null,null,null,null,null,null,null,null,null,null,null,null,null,null,null,null,null,null,null,null,null,null,null,null,null,null,null,null,null,null,null,null,null,null,null,null,null,null,null,null,null,null,null,null,null,null,null,null,null,null,null,null,null,null,null,null,null,null,null,null,null,null,null,null,null,null,null,null,null,null,null,null,null,null,null,null,null,null,null,null,null,null,null,null,null,null,null,null,null,null,null,null,null,null,null,null,null,null,null,null,null,null,null,null,null,null,null,null,null,null,null,null,null,null,null,null,null,null,null,null,null,null,null,null,null,null,null,null,null,null,null,null,null,null,null,null,null,null,null,null,null,null,null,null,null,null,null,null,null,null,null,null,null,null,null,null,null,null,null,null,null,null,null,null,null,null,null,null,null,null,null,null,null,null,null,null,null,null,null,null,null,null,null,null,null,null,null,null,null,null,null,null,null,null,null,null,null,null,null,null,null,null,null,null,null,null,null,null,null,null,null,null,null,null,null,null,null,null,null,null,null,null,null,null,null,null,null,null,null,null,null,null,null,null,null,null,null,null,null,null,null,null,null,null,null,null,null,null,null,null,null,null,null,null,null,null,null,null,null,null,null,null,null,null,null,null,null,null,null,null,null,null,null,null,null,null,null,null,null,null,null,null,null,null,null,null,null,null,null,null,null,null,null,null,null,null,null,null,null,null,null,null,null,null,null,null,null,null,null,null,null,null,null,null,null,null,null,null,null,null,null,null,null,null,null,null,null,null,null,null,null,null,null,null,null,null,null,null,null,null,null,null,null,null,null,null,null,null,null,null,null,null,null,null,null,null,null,null,null,null,null,null,null,null,null,null,null,null,null,null,null,null,null,null,null,null,null,null,null,null,null,null,null,null,null,null,null,null,null,null,null,null,null,null,null,null,null,null,null,null,null,null,null,null,null,null,null,null,null,null,null,null,null,null,null,null,null,null,null,null,null,null,null,null,null,null,null,null,null,null,null,null,null,null,null,null,null,null,null,null,null,null,null,null,null,null,null,null,null,null,null,null,null,null,null,null,null,null,null,null,null,null,null,null,null,null,null,null,null,null,null,null,null,null,null,null,null,null,null,null,null,null,null,null,null,null,null,null,null,null,null,null,null,null,null,null,null,null,null,null,null,null,null,null,null,null,null,null,null,null,null,null,null,null,null,null,null,null,null,null,null,null,null,null,null,null,null,null,null,null,null,null,null,null,null,null,null,null,null,null,null,null,null,null,null,null,null,null,null,null,null,null,null,null,null,null,null,null,null,null,null,null,null,null,null,null,null,null,null,null,null,null,null,null,null,null,null,null,null,null,null,null,null,null,null,null,null,null,null,null,null,null,null,null,null,null,null,null,null,null,null,null,null,null,null,null,null,null,null,null,null,null,null,null,null,null,null,null,null,null,null,null,null,null,null,null,null,null,null,null,null,null,null,null,null,null,null,null,null,null,null,null,null,null,null,null,null,null,null,null,null,null,null,null,null,null,null,null,null,null,null,null,null,null,null,null,null,null,null,null,null,null,null,null,null,null,null,null,null,null,null,null,null,null,null,null,null,null,null,null,null,null,null,null,null,null,null,null,null,null,null,null,null,null,null,null,null,null,null,null,null,null,null,null,null,null,null,null,null,null,null,null,null,null,null,null,null,null,null,null,null,null,null,null,null,null,null,null,null,null,null,null,null,null,null,null,null,null,null,null,null,null,null,null,null,null,null,null,null,null,null,null,null,null,null,null,null,null,null,null,null,null,null,null,null,null,null,null,null,null,null,null,null,null,null,null,null,null,null,null,null,null,null,null,null,null,null,null,null,null,null,null,null,null,null,null,null,null,null,null,null,null,null,null,null,null,null,null,null,null,null,null,null,null,null,null,null,null,null,null,null,null,null,null,null,null,null,null,null,null,null,null,null,null,null,null,null,null,null,null,null,null,null,null,null,null,null,null,null,null,null,null,null,null,null,null,null,null,null,null,null,null,null,null,null,null,null,null,null,null,null,null,null,null,null,null,null,null,null,null,null,null,null,null,null,null,null,null,null,null,null,null,null,null,null,null,null,null,null,null,null,null,null,null,null,null,null,null,null,null,null,null,null,null,null,null,null,null,null,null,null,null,null,null,null,null,null,null,null,null,null,null,null,null,null,null,null,null,null,null,null,null,null,null,null,null,null,null,null,null,null,null,null,null,null,null,null,null,null,null,null,null,null,null,null,null,null,null,null,null,null,null,null,null,null,null,null,null,null,null,null,null,null,null,null,null,null,null,null,null,null,null,null,null,null,null,null,null,null,null,null,null,null,null,null,null,null,null,null,null,null,null,null,null,null,null,null,null,null,null,null,null,null,null,null,null,null,null,null,null,null,null,null,null,null,null,null,null,null,null,null,null,null,null,null,null,null,null,null,null,null,null,null,null,null,null,null,null,null,null,null,null,null,null,null,null,null,null,null,null,null,null,null,null,null,null,null,null,null,null,null,null,null,null,null,null,null,null,null,null,null,null,null,null,null,null,null,null,null,null,null,null,null,null,null,null,null,null,null,null,null,null,null,null,null,null,null,null,null,null,null,null,null,null,null,null,null,null,null,null,null,null,null,null,null,null,null,null,null,null,null,null,null,null,null,null,null,null,null,null,null,null,null,null,null,null,null,null,null,null,null,null,null,null,null,null,null,null,null,null,null,null,null,null,null,null,null,null,null,null,null,null,null,null,null,null,null,null,null,null,null,null,null,null,null,null,null,null,null,null,null,null,null,null,null,null,null,null,null,null,null,null,null,null,null,null,null,null,null,null,null,null,null,null,null,null,null,null,null,null,null,null,null,null,null,null,null,null,null,null,null,null,null,null,null,null,null,null,null,null,null,null,null,null,null,null,null,null,null,null,null,null,null,null,null,null,null,null,null,null,null,null,null,null,null,null,null,null,null,null,null,null,null,null,null,null,null,null,null,null,null,null,null,null,null,null,null,null,null,null,null,null,null,null,null,null,null,null,null,null,null,null,null,null,null,null,null,null,null,null,null,null,null,null,null,null,null,null,null,null,null,null,null,null,null,null,null,null,null,null,null,null,null,null,null,null,null,null,null,null,null,null,null,null,null,null,null,null,null,null,null,null,null,null,null,null,null,null,null,null,null,null,null,null,null,null,null,null,null,null,null,null,null,null,null,null,null,null,null,null,null,null,null,null,null,null,null,null,null,null,null,null,null,null,null,null,null,null,null,null,null,null,null,null,null,null,null,null,null,null,null,null,null,null,null,null,null,null,null,null,null,null,null,null,null,null,null,null,null,null,null,null,null,null,null,null,null,null,null,null,null,null,null,null,null,null,null,null,null,null,null,null,null,null,null,null,null,null,null,null,null,null,null,null,null,null,null,null,null,null,null,null,null,null,null,null,null,null,null,null,null,null,null,null,null,null,null,null,null,null,null,null,null,null,null,null,null,null,null,null,null,null,null,null,null,null,null,null,null,null,null,null,null,null,null,null,null,null,null,null,null,null,null,null,null,null,null,null,null,null,null,null,null,null,null,null,null,null,null,null,null,null,null,null,null,null,null,null,null,null,null,null,null,null,null,null,null,null,null,null,null,null,null,null,null,null,null,null,null,null,null,null,null,null,null,null,null,null,null,null,null,null,null,null,null,null,null,null,null,null,null,null,null,null,null,null,null,null,null,null,null,null,null,null,null,null,null,null,null,null,null,null,null,null,null,null,null,null,null,null,null,null,null,null,null,null,null,null,null,null,null,null,null,null,null,null,null,null,null,null,null,null,null,null,null,null,null,null,null,null,null,null,null,null,null,null,null,null,null,null,null,null,null,null,null,null,null,null,null,null,null,null,null,null,null,null,null,null,null,null,null,null,null,null,null,null,null,null,null,null,null,null,null,null,null,null,null,null,null,null,null,null,null,null,null,null,null,null,null,null,null,null,null,null,null,null,null,null,null,null,null,null,null,null,null,null,null,null,null,null,null,null,null,null,null,null,null,null,null,null,null,null,null,null,null,null,null,null,null,null,null,null,null,null,null,null,null,null,null,null,null,null,null,null,null,null,null,null,null,null,null,null,null,null,null,null,null,null,null,null,null,null,null,null,null,null,null,null,null,null,null,null,null,null,null,null,null,null,null,null,null,null,null,null,null,null,null,null,null,null,null,null,null,null,null,null,null,null,null,null,null,null,null,null,null,null,null,null,null,null,null,null,null,null,null,null,null,null,null,null,null,null,null,null,null,null,null,null,null,null,null,null,null,null,null,null,null,null,null,null,null,null,null,null,null,null,null,null,null,null,null,null,null,null,null,null,null,null,null,null,null,null,null,null,null,null,null,null,null,null,null,null,null,null,null,null,null,null,null,null,null,null,null,null,null,null,null,null,null,null,null,null,null,null,null,null,null,null,null,null,null,null,null,null,null,null,null,null,null,null,null,null,null,null,null,null,null,null,null,null,null,null,null,null,null,null,null,null,null,null,null,null,null,null,null,null,null,null,null,null,null,null,null,null,null,null,null,null,null,null,null,null,null,null,null,null,null,null,null,null,null,null,null,null,null,null,null,null,null,null,null,null,null,null,null,null,null,null,null,null,null,null,null,null,null,null,null,null,null,null,null,null,null,null,null,null,null,null,null,null,null,null,null,null,null,null,null,null,null,null,null,null,null,null,null,null,null,null,null,null,null,null,null,null,null,null,null,null,null,null,null,null,null,null,null,null,null,null,null,null,null,null,null,null,null,null,null,null,null,null,null,null,null,null,null,null,null,null,null,null,null,null,null,null,null,null,null,null,null,null,null,null,null,null,null,null,null,null,null,null,null,null,null,null,null,null,null,null,null,null,null,null,null,null,null,null,null,null,null,null,null,null,null,null,null,null,null,null,null,null,null,null,null,null,null,null,null,null,null,null,null,null,null,null,null,null,null,null,null,null,null,null,null,null,null,null,null,null,null,null,null,null,null,null,null,null,null,null,null,null,null,null,null,null,null,null,null,null,null,null,null,null,null,null,null,null,null,null,null,null,null,null,null,null,null,null,null,null,null,null,null,null,null,null,null,null,null,null,null,null,null,null,null,null,null,null,null,null,null,null,null,null,null,null,null,null,null,null,null,null,null,null,null,null,null,null,null,null,null,null,null,null,null,null,null,null,null,null,null,null,null,null,null,null,null,null,null,null,null,null,null,null,null,null,null,null,null,null,null,null,null,null,null,null,null,null,null,null,null,null,null,null,null,null,null,null,null,null,null,null,null,null,null,null,null,null,null,null,null,null,null,null,null,null,null,null,null,null,null,null,null,null,null,null,null,null,null,null,null,null,null,null,null,null,null,null,null,null,null,null,null,null,null,null,null,null,null,null,null,null,null,null,null,null,null,null,null,null,null,null,null,null,null,null,null,null,null,null,null,null,null,null,null,null,null,null,null,null,null,null,null,null,null,null,null,null,null,null,null,null,null,null,null,null,null,null,null,null,null,null,null,null,null,null,null,null,null,null,null,null,null,null,null,null,null,null,null,null,null,null,null,null,null,null,null,null,null,null,null,null,null,null,null,null,null,null,null,null,null,null,null,null,null,null,null,null,null,null,null,null,null,null,null,null,null,null,null,null,null,null,null,null,null,null,null,null,null,null,null,null,null,null,null,null,null,null,null,null,null,null,null,null,null,null,null,null,null,null,null,null,null,null,null,null,null,null,null,null,null,null,null,null,null,null,null,null,null,null,null,null,null,null,null,null,null,null,null,null,null,null,null,null,null,null,null,null,null,null,null,null,null,null,null,null,null,null,null,null,null,null,null,null,null,null,null,null,null,null,null,null,null,null,null,null,null,null,null,null,null,null,null,null,null,null,null,null,null,null,null,null,null,null,null,null,null,null,null,null,null,null,null,null,null,null,null,null,null,null,null,null,null,null,null,null,null,null,null,null,null,null,null,null,null,null,null,null,null,null,null,null,null,null,null,null,null,null,null,null,null,null,null,null,null,null,null,null,null,null,null,null,null,null,null,null,null,null,null,null,null,null,null,null,null,null,null,null,null,null,null,null,null,null,null,null,null,null,null,null,null,null,null,null,null,null,null,null,null,null,null,null,null,null,null,null,null,null,null,null,null,null,null,null,null,null,null,null,null,null,null,null,null,null,null,null,null,null,null,null,null,null,null,null,null,null,null,null,null,null,null,null,null,null,null,null,null,null,null,null,null,null,null,null,null,null,null,null,null,null,null,null,null,null,null,null,null,null,null,null,null,null,null,null,null,null,null,null,null,null,null,null,null,null,null,null,null,null,null,null,null,null,null,null,null,null,null,null,null,null,null,null,null,null,null,null,null,null,null,null,null,null,null,null,null,null,null,null,null,null,null,null,null,null,null,null,null,null,null,null,null,null,null,null,null,null,null,null,null,null,null,null,null,null,null,null,null,null,null,null,null,null,null,null,null,null,null,null,null,null,null,null,null,null,null,null,null,null,null,null,null,null,null,null,null,null,null,null,null,null,null,null,null,null,null,null,null,null,null,null,null,null,null,null,null,null,null,null,null,null,null,null,null,null,null,null,null,null,null,null,null,null,null,null,null,null,null,null,null,null,null,null,null,null,null,null,null,null,null,null,null,null,null,null,null,null,null,null,null,null,null,null,null,null,null,null,null,null,null,null,null,null,null,null,null,null,null,null,null,null,null,null,null,null,null,null,null,null,null,null,null,null,null,null,null,null,null,null,null,null,null,null,null,null,null,null,null,null,null,null,null,null,null,null,null,null,null,null,null,null,null,null,null,null,null,null,null,null,null,null,null,null,null,null,null,null,null,null,null,null,null,null,null,null,null,null,null,null,null,null,null,null,null,null,null,null,null,null,null,null,null,null,null,null,null,null,null,null,null,null,null,null,null,null,null,null,null,null,null,null,null,null,null,null,null,null,null,null,null,null,null,null,null,null,null,null,null,null,null,null,null,null,null,null,null,null,null,null,null,null,null,null,null,null,null,null,null,null,null,null,null,null,null,null,null,null,null,null,null,null,null,null,null,null,null,null,null,null,null,null,null,null,null,null,null,null,null,null,null,null,null,null,null,null,null,null,null,null,null,null,null,null,null,null,null,null,null,null,null,null,null,null,null,null,null,null,null,null,null,null,null,null,null,null,null,null,null,null,null,null,null,null,null,null,null,null,null,null,null,null,null,null,null,null,null,null,null,null,null,null,null,null,null,null,null,null,null,null,null,null,null,null,null,null,null,null,null,null,null,null,null,null,null,null,null,null,null,null,null,null,null,null,null,null,null,null,null,null,null,null,null,null,null,null,null,null,null,null,null,null,null,null,null,null,null,null,null,null,null,null,null,null,null,null,null,null,null,null,null,null,null,null,null,null,null,null,null,null,null,null,null,null,null,null,null,null,null,null,null,null,null,null,null,null,null,null,null,null,null,null,null,null,null,null,null,null,null,null,null,null,null,null,null,null,null,null,null,null,null,null,null,null,null,null,null,null,null,null,null,null,null,null,null,null,null,null,null,null,null,null,null,null,null,null,null,null,null,null,null,null,null,null,null,null,null,null,null,null,null,null,null,null,null,null,null,null,null,null,null,null,null,null,null,null,null,null,null,null,null,null,null,null,null,null,null,null,null,null,null,null,null,null,null,null,null,null,null,null,null,null,null,null,null,null,null,null,null,null,null,null,null,null,null,null,null,null,null,null,null,null,null,null,null,null,null,null,null,null,null,null,null,null,null,null,null,null,null,null,null,null,null,null,null,null,null,null,null,null,null,null,null,null,null,null,null,null,null,null,null,null,null,null,null,null,null,null,null,null,null,null,null,null,null,null,null,null,null,null,null,null,null,null,null,null,null,null,null,null,null,null,null,null,null,null,null,null,null,null,null,null,null,null,null,null,null,null,null,null,null,null,null,null,null,null,null,null,null,null,null,null,null,null,null,null,null,null,null,null,null,null,null,null,null,null,null,null,null,null,null,null,null,null,null,null,null,null,null,null,null,null,null,null,null,null,null,null,null,null,null,null,null,null,null,null,null,null,null,null,null,null,null,null,null,null,null,null,null,null,null,null,null,null,null,null,null,null,null,null,null,null,null,null,null,null,null,null,null,null,null,null,null,null,null,null,null,null,null,null,null,null,null,null,null,null,null,null,null,null,null,null,null,null,null,null,null,null,null,null,null,null,null,null,null,null,null,null,null,null,null,null,null,null,null,null,null,null,null,null,null,null,null,null,null,null,null,null,null,null,null,null,null,null,null,null,null,null,null,null,null,null,null,null,null,null,null,null,null,null,null,null,null,null,null,null,null,null,null,null,null,null,null,null,null,null,null,null,null,null,null,null,null,null,null,null,null,null,null,null,null,null,null,null,null,null,null,null,null,null,null,null,null,null,null,null,null,null,null,null,null,null,null,null,null,null,null,null,null,null,null,null,null,null,null,null,null,null,null,null,null,null,null,null,null,null,null,null,null,null,null,null,null,null,null,null,null,null,null,null,null,null,null,null,null,null,null,null,null,null,null,null,null,null,null,null,null,null,null,null,null,null,null,null,null,null,null,null,null,null,null,null,null,null,null,null,null,null,null,null,null,null,null,null,null,null,null,null,null,null,null,null,null,null,null,null,null,null,null,null,null,null,null,null,null,null,null,null,null,null,null,null,null,null,null,null,null,null,null,null,null,null,null,null,null,null,null,null,null,null,null,null,null,null,null,null,null,null,null,null,null,null,null,null,null,null,null,null,null,null,null,null,null,null,null,null,null,null,null,null,null,null,null,null,null,null,null,null,null,null,null,null,null,null,null,null,null,null,null,null,null,null,null,null,null,null,null,null,null,null,null,null,null,null,null,null,null,null,null,null,null,null,null,null,null,null,null,null,null,null,null,null,null,null,null,null,null,null,null,null,null,null,null,null,null,null,null,null,null,null,null,null,null,null,null,null,null,null,null,null,null,null,null,null,null,null,null,null,null,null,null,null,null,null,null,null,null,null,null,null,null,null,null,null,null,null,null,null,null,null,null,null,null,null,null,null,null,null,null,null,null,null,null,null,null,null,null,null,null,null,null,null,null,null,null,null,null,null,null,null,null,null,null,null,null,null,null,null,null,null,null,null,null,null,null,null,null,null,null,null,null,null,null,null,null,null,null,null,null,null,null,null,null,null,null,null,null,null,null,null,null,null,null,null,null,null,null,null,null,null,null,null,null,null,null,null,null,null,null,null,null,null,null,null,null,null,null,null,null,null,null,null,null,null,null,null,null,null,null,null,null,null,null,null,null,null,null,null,null,null,null,null,null,null,null,null,null,null,null,null,null,null,null,null,null,null,null,null,null,null,null,null,null,null,null,null,null,null,null,null,null,null,null,null,null,null,null,null,null,null,null,null,null,null,null,null,null,null,null,null,null,null,null,null,null,null,null,null,null,null,null,null,null,null,null,null,null,null,null,null,null,null,null,null,null,null,null,null,null,null,null,null,null,null,null,null,null,null,null,null,null,null,null,null,null,null,null,null,null,null,null,null,null,null,null,null,null,null,null,null,null,null,null,null,null,null,null,null,null,null,null,null,null,null,null,null,null,null,null,null,null,null,null,null,null,null,null,null,null,null,null,null,null,null,null,null,null,null,null,null,null,null,null,null,null,null,null,null,null,null,null,null,null,null,null,null,null,null,null,null,null,null,null,null,null,null,null,null,null,null,null,null,null,null,null,null,null,null,null,null,null,null,null,null,null,null,null,null,null,null,null,null,null,null,null,null,null,null,null,null,null,null,null,null,null,null,null,null,null,null,null,null,null,null,null,null,null,null,null,null,null,null,null,null,null,null,null,null,null,null,null,null,null,null,null,null,null,null,null,null,null,null,null,null,null,null,null,null,null,null,null,null,null,null,null,null,null,null,null,null,null,null,null,null,null,null,null,null,null,null,null,null,null,null,null,null,null,null,null,null,null,null,null,null,null,null,null,null,null,null,null,null,null,null,null,null,null,null,null,null,null,null,null,null,null,null,null,null,null,null,null,null,null,null,null,null,null,null,null,null,null,null,null,null,null,null,null,null,null,null,null,null,null,null,null,null,null,null,null,null,null,null,null,null,null,null,null,null,null,null,null,null,null,null,null,null,null,null,null,null,null,null,null,null,null,null,null,null,null,null,null,null,null,null,null,null,null,null,null,null,null,null,null,null,null,null,null,null,null,null,null,null,null,null,null,null,null,null,null,null,null,null,null,null,null,null,null,null,null,null,null,null,null,null,null,null,null,null,null,null,null,null,null,null,null,null,null,null,null,null,null,null,null,null,null,null,null,null,null,null,null,null,null,null,null,null,null,null,null,null,null,null,null,null,null,null,null,null,null,null,null,null,null,null,null,null,null,null,null,null,null,null,null,null,null,null,null,null,null,null,null,null,null,null,null,null,null,null,null,null,null,null,null,null,null,null,null,null,null,null,null,null,null,null,null,null,null,null,null,null,null,null,null,null,null,null,null,null,null,null,null,null,null,null,null,null,null,null,null,null,null,null,null,null,null,null,null,null,null,null,null,null,null,null,null,null,null,null,null,null,null,null,null,null,null,null,null,null,null,null,null,null,null,null,null,null,null,null,null,null,null,null,null,null,null,null,null,null,null,null,null,null,null,null,null,null,null,null,null,null,null,null,null,null,null,null,null,null,null,null,null,null,null,null,null,null,null,"EXT",0]
[null,null,null,null,null,null,null,null,null,null,null,null,null,null,null,null,null,null,null,null,null,null,null,null,null,null,null,null,null,null,null,null,null,null,null,null,null,null,null,null,null,null,null,null,null,null,null,null,null,null,null,null,null,null,null,null,null,null,null,null,null,null,null,null,null,null,null,null,null,null,null,null,null,null,null,null,null,null,null,null,null,null,null,null,null,null,null,null,null,null,null,null,null,null,null,null,null,null,null,null,null,null,null,null,null,null,null,null,null,null,null,null,null,null,null,null,null,null,null,null,null,null,null,null,null,null,null,null,null,null,null,null,null,null,null,null,null,null,null,null,null,null,null,null,null,null,null,null,null,null,null,null,null,null,null,null,null,null,null,null,null,null,null,null,null,null,null,null,null,null,null,null,null,null,null,null,null,null,null,null,null,null,null,null,null,null,null,null,null,null,null,null,null,null,null,null,null,null,null,null,null,null,null,null,null,null,null,null,null,null,null,null,null,null,null,null,null,null,null,null,null,null,null,null,null,null,null,null,null,null,null,null,null,null,null,null,null,null,null,null,null,null,null,null,null,null,null,null,null,null,null,null,null,null,null,null,null,null,null,null,null,null,null,null,null,null,null,null,null,null,null,null,null,null,null,null,null,null,null,null,null,null,null,null,null,null,null,null,null,null,null,null,null,null,null,null,null,null,null,null,null,null,null,null,null,null,null,null,null,null,null,null,null,null,null,null,null,null,null,null,null,null,null,null,null,null,null,null,null,null,null,null,null,null,null,null,null,null,null,null,null,null,null,null,null,null,null,null,null,null,null,null,null,null,null,null,null,null,null,null,null,null,null,null,null,null,null,null,null,null,null,null,null,null,null,null,null,null,null,null,null,null,null,null,null,null,null,null,null,null,null,null,null,null,null,null,null,null,null,null,null,null,null,null,null,null,null,null,null,null,null,null,null,null,null,null,null,null,null,null,null,null,null,null,null,null,null,null,null,null,null,null,null,null,null,null,null,null,null,null,null,null,null,null,null,null,null,null,null,null,null,null,null,null,null,null,null,null,null,null,null,null,null,null,null,null,null,null,null,null,null,null,null,null,null,null,null,null,null,null,null,null,null,null,null,null,null,null,null,null,null,null,null,null,null,null,null,null,null,null,null,null,null,null,null,null,null,null,null,null,null,null,null,null,null,null,null,null,null,null,null,null,null,null,null,null,null,null,null,null,null,null,null,null,null,null,null,null,null,null,null,null,null,null,null,null,null,null,null,null,null,null,null,null,null,null,null,null,null,null,null,null,null,null,null,null,null,null,null,null,null,null,null,null,null,null,null,null,null,null,null,null,null,null,null,null,null,null,null,null,null,null,null,null,null,null,null,null,null,null,null,null,null,null,null,null,null,null,null,null,null,null,null,null,null,null,null,null,null,null,null,null,null,null,null,null,null,null,null,null,null,null,null,null,null,null,null,null,null,null,null,null,null,null,null,null,null,null,null,null,null,null,null,null,null,null,null,null,null,null,null,null,null,null,null,null,null,null,null,null,null,null,null,null,null,null,null,null,null,null,null,null,null,null,null,null,null,null,null,null,null,null,null,null,null,null,null,null,null,null,null,null,null,null,null,null,null,null,null,null,null,null,null,null,null,null,null,null,null,null,null,null,null,null,null,null,null,null,null,null,null,null,null,null,null,null,null,null,null,null,null,null,null,null,null,null,null,null,null,null,null,null,null,null,null,null,null,null,null,null,null,null,null,null,null,null,null,null,null,null,null,null,null,null,null,null,null,null,null,null,null,null,null,null,null,null,null,null,null,null,null,null,null,null,null,null,null,null,null,null,null,null,null,null,null,null,null,null,null,null,null,null,null,null,null,null,null,null,null,null,null,null,null,null,null,null,null,null,null,null,null,null,null,null,null,null,null,null,null,null,null,null,null,null,null,null,null,null,null,null,null,null,null,null,null,null,null,null,null,null,null,null,null,null,null,null,null,null,null,null,null,null,null,null,null,null,null,null,null,null,null,null,null,null,null,null,null,null,null,null,null,null,null,null,null,null,null,null,null,null,null,null,null,null,null,null,null,null,null,null,null,null,null,null,null,null,null,null,null,null,null,null,null,null,null,null,null,null,null,null,null,null,null,null,null,null,null,null,null,null,null,null,null,null,null,null,null,null,null,null,null,null,null,null,null,null,null,null,null,null,null,null,null,null,null,null,null,null,null,null,null,null,null,null,null,null,null,null,null,null,null,null,null,null,null,null,null,null,null,null,null,null,null,null,null,null,null,null,null,null,null,null,null,null,null,null,null,null,null,null,null,null,null,null,null,null,null,null,null,null,null,null,null,null,null,null,null,null,null,null,null,null,null,null,null,null,null,null,null,null,null,null,null,null,null,null,null,null,null,null,null,null,null,null,null,null,null,null,null,null,null,null,null,null,null,null,null,null,null,null,null,null,null,null,null,null,null,null,null,null,null,null,null,null,null,null,null,null,null,null,null,null,null,null,null,null,null,null,null,null,null,null,null,null,null,null,null,null,null,null,null,null,null,null,null,null,null,null,null,null,null,null,null,null,null,null,null,null,null,null,null,null,null,null,null,null,null,null,null,null,null,null,null,null,null,null,null,null,null,null,null,null,null,null,null,null,null,null,null,null,null,null,null,null,null,null,null,null,null,null,null,null,null,null,null,null,null,null,null,null,null,null,null,null,null,null,null,null,null,null,null,null,null,null,null,null,null,null,null,null,null,null,null,null,null,null,null,null,null,null,null,null,null,null,null,null,null,null,null,null,null,null,null,null,null,null,null,null,null,null,null,null,null,null,null,null,null,null,null,null,null,null,null,null,null,null,null,null,null,null,null,null,null,null,null,null,null,null,null,null,null,null,null,null,null,null,null,null,null,null,null,null,null,null,null,null,null,null,null,null,null,null,null,null,null,null,null,null,null,null,null,null,null,null,null,null,null,null,null,null,null,null,null,null,null,null,null,null,null,null,null,null,null,null,null,null,null,null,null,null,null,null,null,null,null,null,null,null,null,null,null,null,null,null,null,null,null,null,null,null,null,null,null,null,null,null,null,null,null,null,null,null,null,null,null,null,null,null,null,null,null,null,null,null,null,null,null,null,null,null,null,null,null,null,null,null,null,null,null,null,null,null,null,null,null,null,null,null,null,null,null,null,null,null,null,null,null,null,null,null,null,null,null,null,null,null,null,null,null,null,null,null,null,null,null,null,null,null,null,null,null,null,null,null,null,null,null,null,null,null,null,null,null,null,null,null,null,null,null,null,null,null,null,null,null,null,null,null,null,null,null,null,null,null,null,null,null,null,null,null,null,null,null,null,null,null,null,null,null,null,null,null,null,null,null,null,null,null,null,null,null,null,null,null,null,null,null,null,null,null,null,null,null,null,null,null,null,null,null,null,null,null,null,null,null,null,null,null,null,null,null,null,null,null,null,null,null,null,null,null,null,null,null,null,null,null,null,null,null,null,null,null,null,null,null,null,null,null,null,null,null,null,null,null,null,null,null,null,null,null,null,null,null,null,null,null,null,null,null,null,null,null,null,null,null,null,null,null,null,null,null,null,null,null,null,null,null,null,null,null,null,null,null,null,null,null,null,null,null,null,null,null,null,null,null,null,null,null,null,null,null,null,null,null,null,null,null,null,null,null,null,null,null,null,null,null,null,null,null,null,null,null,null,null,null,null,null,null,null,null,null,null,null,null,null,null,null,null,null,null,null,null,null,null,null,null,null,null,null,null,null,null,null,null,null,null,null,null,null,null,null,null,null,null,null,null,null,null,null,null,null,null,null,null,null,null,null,null,null,null,null,null,null,null,null,null,null,null,null,null,null,null,null,null,null,null,null,null,null,null,null,null,null,null,null,null,null,null,null,null,null,null,null,null,null,null,null,null,null,null,null,null,null,null,null,null,null,null,null,null,null,null,null,null,null,null,null,null,null,null,null,null,null,null,null,null,null,null,null,null,null,null,null,null,null,null,null,null,null,null,null,null,null,null,null,null,null,null,null,null,null,null,null,null,null,null,null,null,null,null,null,null,null,null,null,null,null,null,null,null,null,null,null,null,null,null,null,null,null,null,null,null,null,null,null,null,null,null,null,null,null,null,null,null,null,null,null,null,null,null,null,null,null,null,null,null,null,null,null,null,null,null,null,null,null,null,null,null,null,null,null,null,null,null,null,null,null,null,null,null,null,null,null,null,null,null,null,null,null,null,null,null,null,null,null,null,null,null,null,null,null,null,null,null,null,null,null,null,null,null,null,null,null,null,null,null,null,null,null,null,null,null,null,null,null,null,null,null,null,null,null,null,null,null,null,null,null,null,null,null,null,null,null,null,null,null,null,null,null,null,null,null,null,null,null,null,null,null,null,null,null,null,null,null,null,null,null,null,null,null,null,null,null,null,null,null,null,null,null,null,null,null,null,null,null,null,null,null,null,null,null,null,null,null,null,null,null,null,null,null,null,null,null,null,null,null,null,null,null,null,null,null,null,null,null,null,null,null,null,null,null,null,null,null,null,null,null,null,null,null,null,null,null,null,null,null,null,null,null,null,null,null,null,null,null,null,null,null,null,null,null,null,null,null,null,null,null,null,null,null,null,null,null,null,null,null,null,null,null,null,null,null,null,null,null,null,null,null,null,null,null,null,null,null,null,null,null,null,null,null,null,null,null,null,null,null,null,null,null,null,null,null,null,null,null,null,null,null,null,null,null,null,null,null,null,null,null,null,null,null,null,null,null,null,null,null,null,null,null,null,null,null,null,null,null,null,null,null,null,null,null,null,null,null,null,null,null,null,null,null,null,null,null,null,null,null,null,null,null,null,null,null,null,null,null,null,null,null,null,null,null,null,null,null,null,null,null,null,null,null,null,null,null,null,null,null,null,null,null,null,null,null,null,null,null,null,null,null,null,null,null,null,null,null,null,null,null,null,null,null,null,null,null,null,null,null,null,null,null,null,null,null,null,null,null,null,null,null,null,null,null,null,null,null,null,null,null,null,null,null,null,null,null,null,null,null,null,null,null,null,null,null,null,null,null,null,null,null,null,null,null,null,null,null,null,null,null,null,null,null,null,null,null,null,null,null,null,null,null,null,null,null,null,null,null,null,null,null,null,null,null,null,null,null,null,null,null,null,null,null,null,null,null,null,null,null,null,null,null,null,null,null,null,null,null,null,null,null,null,null,null,null,null,null,null,null,null,null,null,null,null,null,null,null,null,null,null,null,null,null,null,null,null,null,null,null,null,null,null,null,null,null,null,null,null,null,null,null,null,null,null,null,null,null,null,null,null,null,null,null,null,null,null,null,null,null,null,null,null,null,null,null,null,null,null,null,null,null,null,null,null,null,null,null,null,null,null,null,null,null,null,null,null,null,null,null,null,null,null,null,null,null,null,null,null,null,null,null,null,null,null,null,null,null,null,null,null,null,null,null,null,null,null,null,null,null,null,null,null,null,null,null,null,null,null,null,null,null,null,null,null,null,null,null,null,null,null,null,null,null,null,null,null,null,null,null,null,null,null,null,null,null,null,null,null,null,null,null,null,null,null,null,null,null,null,null,null,null,null,null,null,null,null,null,null,null,null,null,null,null,null,null,null,null,null,null,null,null,null,null,null,null,null,null,null,null,null,null,null,null,null,null,null,null,null,null,null,null,null,null,null,null,null,null,null,null,null,null,null,null,null,null,null,null,null,null,null,null,null,null,null,null,null,null,null,null,null,null,null,null,null,null,null,null,null,null,null,null,null,null,null,null,null,null,null,null,null,null,null,null,null,null,null,null,null,null,null,null,null,null,null,null,null,null,null,null,null,null,null,null,null,null,null,null,null,null,null,null,null,null,null,null,null,null,null,null,null,null,null,null,null,null,null,null,null,null,null,null,null,null,null,null,null,null,null,null,null,null,null,null,null,null,null,null,null,null,null,null,null,null,null,null,null,null,null,null,null,null,null,null,null,null,null,null,null,null,null,null,null,null,null,null,null,null,null,null,null,null,null,null,null,null,null,null,null,null,null,null,null,null,null,null,null,null,null,null,null,null,null,null,null,null,null,null,null,null,null,null,null,null,null,null,null,null,null,null,null,null,null,null,null,null,null,null,null,null,null,null,null,null,null,null,null,null,null,null,null,null,null,null,null,null,null,null,null,null,null,null,null,null,null,null,null,null,null,null,null,null,null,null,null,null,null,null,null,null,null,null,null,null,null,null,null,null,null,null,null,null,null,null,null,null,null,null,null,null,null,null,null,null,null,null,null,null,null,null,null,null,null,null,null,null,null,null,null,null,null,null,null,null,null,null,null,null,null,null,null,null,null,null,null,null,null,null,null,null,null,null,null,null,null,null,null,null,null,null,null,null,null,null,null,null,null,null,null,null,null,null,null,null,null,null,null,null,null,null,null,null,null,null,null,null,null,null,null,null,null,null,null,null,null,null,null,null,null,null,null,null,null,null,null,null,null,null,null,null,null,null,null,null,null,null,null,null,null,null,null,null,null,null,null,null,null,null,null,null,null,null,null,null,null,null,null,null,null,null,null,null,null,null,null,null,null,null,null,null,null,null,null,null,null,null,null,null,null,null,null,null,null,null,null,null,null,null,null,null,null,null,null,null,null,null,null,null,null,null,null,null,null,null,null,null,null,null,null,null,null,null,null,null,null,null,null,null,null,null,null,null,null,null,null,null,null,null,null,null,null,null,null,null,null,null,null,null,null,null,null,null,null,null,null,null,null,null,null,null,null,null,null,null,null,null,null,null,null,null,null,null,null,null,null,null,null,null,null,null,null,null,null,null,null,null,null,null,null,null,null,null,null,null,null,null,null,null,null,null,null,null,null,null,null,null,null,null,null,null,null,null,null,null,null,null,null,null,null,null,null,null,null,null,null,null,null,null,null,null,null,null,null,null,null,null,null,null,null,null,null,null,null,null,null,null,null,null,null,null,null,null,null,null,null,null,null,null,null,null,null,null,null,null,null,null,null,null,null,null,null,null,null,null,null,null,null,null,null,null,null,null,null,null,null,null,null,null,null,null,null,null,null,null,null,null,null,null,null,null,null,null,null,null,null,null,null,null,null,null,null,null,null,null,null,null,null,null,null,null,null,null,null,null,null,null,null,null,null,null,null,null,null,null,null,null,null,null,null,null,null,null,null,null,null,null,null,null,null,null,null,null,null,null,null,null,null,null,null,null,null,null,null,null,null,null,null,null,null,null,null,null,null,null,null,null,null,null,null,null,null,null,null,null,null,null,null,null,null,null,null,null,null,null,null,null,null,null,null,null,null,null,null,null,null,null,null,null,null,null,null,null,null,null,null,null,null,null,null,null,null,null,null,null,null,null,null,null,null,null,null,null,null,null,null,null,null,null,null,null,null,null,null,null,null,null,null,null,null,null,null,null,null,null,null,null,null,null,null,null,null,null,null,null,null,null,null,null,null,null,null,null,null,null,null,null,null,null,null,null,null,null,null,null,null,null,null,null,null,null,null,null,null,null,null,null,null,null,null,null,null,null,null,null,null,null,null,null,null,null,null,null,null,null,null,null,null,null,null,null,null,null,null,null,null,null,null,null,null,null,null,null,null,null,null,null,null,null,null,null,null,null,null,null,null,null,null,null,null,null,null,null,null,null,null,null,null,null,null,null,null,null,null,null,null,null,null,null,null,null,null,null,null,null,null,null,null,null,null,null,null,null,null,null,null,null,null,null,null,null,null,null,null,null,null,null,null,null,null,null,null,null,null,null,null,null,null,null,null,null,null,null,null,null,null,null,null,null,null,null,null,null,null,null,null,null,null,null,null,null,null,null,null,null,null,null,null,null,null,null,null,null,null,null,null,null,null,null,null,null,null,null,null,null,null,null,null,null,null,null,null,null,null,null,null,null,null,null,null,null,null,null,null,null,null,null,null,null,null,null,null,null,null,null,null,null,null,null,null,null,null,null,null,null,null,null,null,null,null,null,null,null,null,null,null,null,null,null,null,null,null,null,null,null,null,null,null,null,null,null,null,null,null,null,null,null,null,null,null,null,null,null,null,null,null,null,null,null,null,null,null,null,null,null,null,null,null,null,null,null,null,null,null,null,null,null,null,null,null,null,null,null,null,null,null,null,null,null,null,null,null,null,null,null,null,null,null,null,null,null,null,null,null,null,null,null,null,null,null,null,null,null,null,null,null,null,null,null,null,null,null,null,null,null,null,null,null,null,null,null,null,null,null,null,null,null,null,null,null,null,null,null,null,null,null,null,null,null,null,null,null,null,null,null,null,null,null,null,null,null,null,null,null,null,null,null,null,null,null,null,null,null,null,null,null,null,null,null,null,null,null,null,null,null,null,null,null,null,null,null,null,null,null,null,null,null,null,null,null,null,null,null,null,null,null,null,null,null,null,null,null,null,null,null,null,null,null,null,null,null,null,null,null,null,null,null,null,null,null,null,null,null,null,null,null,null,null,null,null,null,null,null,null,null,null,null,null,null,null,null,null,null,null,null,null,null,null,null,null,null,null,null,null,null,null,null,null,null,null,null,null,null,null,null,null,null,null,null,null,null,null,null,null,null,null,null,null,null,null,null,null,null,null,null,null,null,null,null,null,null,null,null,null,null,null,null,null,null,null,null,null,null,null,null,null,null,null,null,null,null,null,null,null,null,null,null,null,null,null,null,null,null,null,null,null,null,null,null,null,null,null,null,null,null,null,null,null,null,null,null,null,null,null,null,null,null,null,null,null,null,null,null,null,null,null,null,null,null,null,null,null,null,null,null,null,null,null,null,null,null,null,null,null,null,null,null,null,null,null,null,null,null,null,null,null,null,null,null,null,null,null,null,null,null,null,null,null,null,null,null,null,null,null,null,null,null,null,null,null,null,null,null,null,null,null,null,null,null,null,null,null,null,null,null,null,null,null,null,null,null,null,null,null,null,null,null,null,null,null,null,null,null,null,null,null,null,null,null,null,null,null,null,null,null,null,null,null,null,null,null,null,null,null,null,null,null,null,null,null,null,null,null,null,null,null,null,null,null,null,null,null,null,null,null,null,null,null,null,null,null,null,null,null,null,null,null,null,null,null,null,null,null,null,null,null,null,null,null,null,null,null,null,null,null,null,null,null,null,null,null,null,null,null,null,null,null,null,null,null,null,null,null,null,null,null,null,null,null,null,null,null,null,null,null,null,null,null,null,null,null,null,null,null,null,null,null,null,null,null,null,null,null,null,null,null,null,null,null,null,null,null,null,null,null,null,null,null,null,null,null,null,null,null,null,null,null,null,null,null,null,null,null,null,null,null,null,null,null,null,null,null,null,null,null,null,null,null,null,null,null,null,null,null,null,null,null,null,null,null,null,null,null,null,null,null,null,null,null,null,null,null,null,null,null,null,null,null,null,null,null,null,null,null,null,null,null,null,null,null,null,null,null,null,null,null,null,null,null,null,null,null,null,null,null,null,null,null,null,null,null,null,null,null,null,null,null,null,null,null,null,null,null,null,null,null,null,null,null,null,null,null,null,null,null,null,null,null,null,null,null,null,null,null,null,null,null,null,null,null,null,null,null,null,null,null,null,null,null,null,null,null,null,null,null,null,null,null,null,null,null,null,null,null,null,null,null,null,null,null,null,null,null,null,null,null,null,null,null,null,null,null,null,null,null,null,null,null,null,null,null,null,null,null,null,null,null,null,null,null,null,null,null,null,null,null,null,null,null,null,null,null,null,null,null,null,null,null,null,null,null,null,null,null,null,null,null,null,null,null,null,null,null,null,null,null,null,null,null,null,null,null,null,null,null,null,null,null,null,null,null,null,null,null,null,null,null,null,null,null,null,null,null,null,null,null,null,null,null,null,null,null,null,null,null,null,null,null,null,null,null,null,null,null,null,null,null,null,null,null,null,null,null,null,null,null,null,null,null,null,null,null,null,null,null,null,null,null,null,null,null,null,null,null,null,null,null,null,null,null,null,null,null,null,null,null,null,null,null,null,null,null,null,null,null,null,null,null,null,null,null,null,null,null,null,null,null,null,null,null,null,null,null,null,null,null,null,null,null,null,null,null,null,null,null,null,null,null,null,null,null,null,null,null,null,null,null,null,null,null,null,null,null,null,null,null,null,null,null,null,null,null,null,null,null,null,null,null,null,null,null,null,null,null,null,null,null,null,null,null,null,null,null,null,null,null,null,null,null,null,null,null,null,null,null,null,null,null,null,null,null,null,null,null,null,null,null,null,null,null,null,null,null,null,null,null,null,null,null,null,null,null,null,null,null,null,null,null,null,null,null,null,null,null,null,null,null,null,null,null,null,null,null,null,null,null,null,null,null,null,null,null,null,null,null,null,null,null,null,null,null,null,null,null,null,null,null,null,null,null,null,null,null,null,null,null,null,null,null,null,null,null,null,null,null,null,null,null,null,null,null,null,null,null,null,null,null,null,null,null,null,null,null,null,null,null,null,null,null,null,null,null,null,null,null,null,null,null,null,null,null,null,null,null,null,null,null,null,null,null,null,null,null,null,null,null,null,null,null,null,null,null,null,null,null,null,null,null,null,null,null,null,null,null,null,null,null,null,null,null,null,null,null,null,null,null,null,null,null,null,null,null,null,null,null,null,null,null,null,null,null,null,null,null,null,null,null,null,null,null,null,null,null,null,null,null,null,null,null,null,null,null,null,null,null,null,null,null,null,null,null,null,null,null,null,null,null,null,null,null,null,null,null,null,null,null,null,null,null,null,null,null,null,null,null,null,null,null,null,null,null,null,null,null,null,null,null,null,null,null,null,null,null,null,null,null,null,null,null,null,null,null,null,null,null,null,null,null,null,null,null,null,null,null,null,null,null,null,null,null,null,null,null,null,null,null,null,null,null,null,null,null,null,null,null,null,null,null,null,null,null,null,null,null,null,null,null,null,null,null,null,null,null,null,null,null,null,null,null,null,null,null,null,null,null,null,null,null,null,null,null,null,null,null,null,null,null,null,null,null,null,null,null,null,null,null,null,null,null,null,null,null,null,null,null,null,null,null,null,null,null,null,null,null,null,null,null,null,null,null,null,null,null,null,null,null,null,null,null,null,null,null,null,null,null,null,null,null,null,null,null,null,null,null,null,null,null,null,null,null,null,null,null,null,null,null,null,null,null,null,null,null,null,null,null,null,null,null,null,null,null,null,null,null,null,null,null,null,null,null,null,null,null,null,null,null,null,null,null,null,null,null,null,null,null,null,null,null,null,null,null,null,null,null,null,null,null,null,null,null,null,null,null,null,null,null,null,null,null,null,null,null,null,null,null,null,null,null,null,null,null,null,null,null,null,null,null,null,null,null,null,null,null,null,null,null,null,null,null,null,null,null,null,null,null,null,null,null,null,null,null,null,null,null,null,null,null,null,null,null,null,null,null,null,null,null,null,null,null,null,null,null,null,null,null,null,null,null,null,null,null,null,null,null,null,null,null,null,null,null,null,null,null,null,null,null,null,null,null,null,null,null,null,null,null,null,null,null,null,null,null,null,null,null,null,null,null,null,null,null,null,null,null,null,null,null,null,null,null,null,null,null,null,null,null,null,null,null,null,null,null,null,null,null,null,null,null,null,null,null,null,null,null,null,null,null,null,null,null,null,null,null,null,null,null,null,null,null,null,null,null,null,null,null,null,null,null,null,null,null,null,null,null,null,null,null,null,null,null,null,null,null,null,null,null,null,null,null,null,null,null,null,null,null,null,null,null,null,null,null,null,null,null,null,null,null,null,null,null,null,null,null,null,null,null,null,null,null,null,null,null,null,null,null,null,null,null,null,null,null,null,null,null,null,null,null,null,null,null,null,null,null,null,null,null,null,null,null,null,null,null,null,null,null,null,null,null,null,null,null,null,null,null,null,null,null,null,null,null,null,null,null,null,null,null,null,null,null,null,null,null,null,null,null,null,null,null,null,null,null,null,null,null,null,null,null,null,null,null,null,null,null,null,null,null,null,null,null,null,null,null,null,null,null,null,null,null,null,null,null,null,null,null,null,null,null,null,null,null,null,null,null,null,null,null,null,null,null,null,null,null,null,null,null,null,null,null,null,null,null,null,null,null,null,null,null,null,null,null,null,null,null,null,null,null,null,null,null,null,null,null,null,null,null,null,null,null,null,null,null,null,null,null,null,null,null,null,null,null,null,null,null,null,null,null,null,null,null,null,null,null,null,null,null,null,null,null,null,null,null,null,null,null,null,null,null,null,null,null,null,null,null,null,null,null,null,null,null,null,null,null,null,null,null,null,null,null,null,null,null,null,null,null,null,null,null,null,null,null,null,null,null,null,null,null,null,null,null,null,null,null,null,null,null,null,null,null,null,null,null,null,null,null,null,null,null,null,null,null,null,null,null,null,null,null,null,null,null,null,null,null,null,null,null,null,null,null,null,null,null,null,null,null,null,null,null,null,null,null,null,null,null,null,null,null,null,null,null,null,null,null,null,null,null,null,null,null,null,null,null,null,null,null,null,null,null,null,null,null,null,null,null,null,null,null,null,null,null,null,null,null,null,null,null,null,null,null,null,null,null,null,null,null,null,null,null,null,null,null,null,null,null,null,null,null,null,null,null,null,null,null,null,null,null,null,null,null,null,null,null,null,null,null,null,null,null,null,null,null,null,null,null,null,null,null,null,null,null,null,null,null,null,null,null,null,null,null,null,null,null,null,null,null,null,null,null,null,null,null,null,null,null,null,null,null,null,null,null,null,null,null,null,null,null,null,null,null,null,null,null,null,null,null,null,null,null,null,null,null,null,null,null,null,null,null,null,null,null,null,null,null,null,null,null,null,null,null,null,null,null,null,null,null,null,null,null,null,null,null,null,null,null,null,null,null,null,null,null,null,null,null,null,null,null,null,null,null,null,null,null,null,null,null,null,null,null,null,null,null,null,null,null,null,null,null,null,null,null,null,null,null,null,null,null,null,null,null,null,null,null,null,null,null,null,null,null,null,null,null,null,null,null,null,null,null,null,null,null,null,null,null,null,null,null,null,null,null,null,null,null,null,null,null,null,null,null,null,null,null,null,null,null,null,null,null,null,null,null,null,null,null,null,null,null,null,null,null,null,null,null,null,null,null,null,null,null,null,null,null,null,null,null,null,null,null,null,null,null,null,null,null,null,null,null,null,null,null,null,null,null,null,null,null,null,null,null,null,null,null,null,null,null,null,null,null,null,null,null,null,null,null,null,null,null,null,null,null,null,null,null,null,null,null,null,null,null,null,null,null,null,null,null,null,null,null,null,null,null,null,null,null,null,null,null,null,null,null,null,null,null,null,null,null,null,null,null,null,null,null,null,null,null,null,null,null,null,null,null,null,null,null,null,null,null,null,null,null,null,null,null,null,null,null,null,null,null,null,null,null,null,null,null,null,null,null,null,null,null,null,null,null,null,null,null,null,null,null,null,null,null,null,null,null,null,null,null,null,null,null,null,null,null,null,null,null,null,null,null,null,null,null,null,null,null,null,null,null,null,null,null,null,null,null,null,null,null,null,null,null,null,null,null,null,null,null,null,null,null,null,null,null,null,null,null,null,null,null,null,null,null,null,null,null,null,null,null,null,null,null,null,null,null,null,null,null,null,null,null,null,null,null,null,null,null,null,null,null,null,null,null,null,null,null,null,null,null,null,null,null,null,null,null,null,null,null,null,null,null,null,null,null,null,null,null,null,null,null,null,null,null,null,null,null,null,null,null,null,null,null,null,null,null,null,null,null,null,null,null,null,null,null,null,null,null,null,null,null,null,null,null,null,null,null,null,null,null,null,null,null,null,null,null,null,null,null,null,null,null,null,null,null,null,null,null,null,null,null,null,null,null,null,null,null,null,null,null,null,null,null,null,null,null,null,null,null,null,null,null,null,null,null,null,null,null,null,null,null,null,null,null,null,null,null,null,null,null,null,null,null,null,null,null,null,null,null,null,null,null,null,null,null,null,null,null,null,null,null,null,null,null,null,null,null,null,null,null,null,null,null,null,null,null,null,null,null,null,null,null,null,null,null,null,null,null,null,null,null,null,null,null,null,null,null,null,null,null,null,null,null,null,null,null,null,null,null,null,null,null,null,null,null,null,null,null,null,null,null,null,null,null,null,null,null,null,null,null,null,null,null,null,null,null,null,null,null,null,null,null,null,null,null,null,null,null,null,null,null,null,null,null,null,null,null,null,null,null,null,null,null,null,null,null,null,null,null,null,null,null,null,null,null,null,null,null,null,null,null,null,null,null,null,null,null,null,null,null,null,null,null,null,null,null,null,null,null,null,null,null,null,null,null,null,null,null,null,null,null,null,null,null,null,null,null,null,null,null,null,null,null,null,null,null,null,null,null,null,null,null,null,null,null,null,null,null,null,null,null,null,null,null,null,null,null,null,null,null,null,null,null,null,null,null,null,null,null,null,null,null,null,null,null,null,null,null,null,null,null,null,null,null,null,null,null,null,null,null,null,null,null,null,null,null,null,null,null,null,null,null,null,null,null,null,null,null,null,null,null,null,null,null,null,null,null,null,null,null,null,null,null,null,null,null,null,null,null,null,null,null,null,null,null,null,null,null,null,null,null,null,null,null,null,null,null,null,null,null,null,null,null,null,null,null,null,null,null,null,null,null,null,null,null,null,null,null,null,null,null,null,null,null,null,null,null,null,null,null,null,null,null,null,null,null,null,null,null,null,null,null,null,null,null,null,null,null,null,null,null,null,null,null,null,null,null,null,null,null,null,null,null,null,null,null,null,null,null,null,null,null,null,null,null,null,null,null,null,null,null,null,null,null,null,null,null,null,null,null,null,null,null,null,null,null,null,null,null,null,null,null,null,null,null,null,null,null,null,null,null,null,null,null,null,null,null,null,null,null,null,null,null,null,null,null,null,null,null,null,null,null,null,null,null,null,null,null,null,null,null,null,null,null,null,null,null,null,null,null,null,null,null,null,null,null,null,null,null,null,null,null,null,null,null,null,null,null,null,null,null,null,null,null,null,null,null,null,null,null,null,null,null,null,null,null,null,null,null,null,null,null,null,null,null,null,null,null,null,null,null,null,null,null,null,null,null,null,null,null,null,null,null,null,null,null,null,null,null,null,null,null,null,null,null,null,null,null,null,null,null,null,null,null,null,null,null,null,null,null,null,null,null,null,null,null,null,null,null,null,null,null,null,null,null,null,null,null,null,null,null,null,null,null,null,null,null,null,null,null,null,null,null,null,null,null,null,null,null,null,null,null,null,null,null,null,null,null,null,null,null,null,null,null,null,null,null,null,null,null,null,null,null,null,null,null,null,null,null,null,null,null,null,null,null,null,null,null,null,null,null,null,null,null,null,null,null,null,null,null,null,null,null,null,null,null,null,null,null,null,null,null,null,null,null,null,null,null,null,null,null,null,null,null,null,null,null,null,null,null,null,null,null,null,null,null,null,null,null,null,null,null,null,null,null,null,null,null,null,null,null,null,null,null,null,null,null,null,null,null,null,null,null,null,null,null,null,null,null,null,null,null,null,null,null,null,null,null,null,null,null,null,null,null,null,null,null,null,null,null,null,null,null,null,null,null,null,null,null,null,null,null,null,null,null,null,null,null,null,null,null,null,null,null,null,null,null,null,null,null,null,null,null,null,null,null,null,null,null,null,null,null,null,null,null,null,null,null,null,null,null,null,null,null,null,null,null,null,null,null,null,null,null,null,null,null,null,null,null,null,null,null,null,null,null,null,null,null,null,null,null,null,null,null,null,null,null,null,null,null,null,null,null,null,null,null,null,null,null,null,null,null,null,null,null,null,null,null,null,null,null,null,null,null,null,null,null,null,null,null,null,null,null,null,null,null,null,null,null,null,null,null,null,null,null,null,null,null,null,null,null,null,null,null,null,null,null,null,null,null,null,null,null,null,null,null,null,null,null,null,null,null,null,null,null,null,null,null,null,null,null,null,null,null,null,null,null,null,null,null,null,null,null,null,null,null,null,null,null,null,null,null,null,null,null,null,null,null,null,null,null,null,null,null,null,null,null,null,null,null,null,null,null,null,null,null,null,null,null,null,null,null,null,null,null,null,null,null,null,null,null,null,null,null,null,null,null,null,null,null,null,null,null,null,null,null,null,null,null,null,null,null,null,null,null,null,null,null,null,null,null,null,null,null,null,null,null,null,null,null,null,null,null,null,null,null,null,null,null,null,null,null,null,null,null,null,null,null,null,null,null,null,null,null,null,null,null,null,null,null,null,null,null,null,null,null,null,null,null,null,null,null,null,null,null,null,null,null,null,null,null,null,null,null,null,null,null,null,null,null,null,null,null,null,null,null,null,null,null,null,null,null,null,null,null,null,null,null,null,null,null,null,null,null,null,null,null,null,null,null,null,null,null,null,null,null,null,null,null,null,null,null,null,null,null,null,null,null,null,null,null,null,null,null,null,null,null,null,null,null,null,null,null,null,null,null,null,null,null,null,null,null,null,null,null,null,null,null,null,null,null,null,null,null,null,null,null,null,null,null,null,null,null,null,null,null,null,null,null,null,null,null,null,null,null,null,null,null,null,null,null,null,null,null,null,null,null,null,null,null,null,null,null,null,null,null,null,null,null,null,null,null,null,null,null,null,null,null,null,null,null,null,null,null,null,null,null,null,null,null,null,null,null,null,null,null,null,null,null,null,null,null,null,null,null,null,null,null,null,null,null,null,null,null,null,null,null,null,null,null,null,null,null,null,null,null,null,null,null,null,null,null,null,null,null,null,null,null,null,null,null,null,null,null,null,null,null,null,null,null,null,null,null,null,null,null,null,null,null,null,null,null,null,null,null,null,null,null,null,null,null,null,null,null,null,null,null,null,null,null,null,null,null,null,null,null,null,null,null,null,null,null,null,null,null,null,null,null,null,null,null,null,null,null,null,null,null,null,null,null,null,null,null,null,null,null,null,null,null,null,null,null,null,null,null,null,null,null,null,null,null,null,null,null,null,null,null,null,null,null,null,null,null,null,null,null,null,null,null,null,null,null,null,null,null,null,null,null,null,null,null,null,null,null,null,null,null,null,null,null,null,null,null,null,null,null,null,null,null,null,null,null,null,null,null,null,null,null,null,null,null,null,null,null,null,null,null,null,null,null,null,null,null,null,null,null,null,null,null,null,null,null,null,null,null,null,null,null,null,null,null,null,null,null,null,null,null,null,null,null,null,null,null,null,null,null,null,null,null,null,null,null,null,null,null,null,null,null,null,null,null,null,null,null,null,null,null,null,null,null,null,null,null,null,null,null,null,null,null,null,null,null,null,null,null,null,null,null,null,null,null,null,null,null,null,null,null,null,null,null,null,null,null,null,null,null,null,null,null,null,null,null,null,null,null,null,null,null,null,null,null,null,null,null,null,null,null,null,null,null,null,null,null,null,null,null,null,null,null,null,null,null,null,null,null,null,null,null,null,null,null,null,null,null,null,null,null,null,null,null,null,null,null,null,null,null,null,null,null,null,null,null,null,null,null,null,null,null,null,null,null,null,null,null,null,null,null,null,null,null,null,null,null,null,null,null,null,null,null,null,null,null,null,null,null,null,null,null,null,null,null,null,null,null,null,null,null,null,null,null,null,null,null,null,null,null,null,null,null,null,null,null,null,null,null,null,null,null,null,null,null,null,null,null,null,null,null,null,null,null,null,null,null,null,null,null,null,null,null,null,null,null,null,null,null,null,null,null,null,null,null,null,null,null,null,null,null,null,null,null,null,null,null,null,null,null,null,null,null,null,null,null,null,null,null,null,null,null,null,null,null,null,null,null,null,null,null,null,null,null,null,null,null,null,null,null,null,null,null,null,null,null,null,null,null,null,null,null,null,null,null,null,null,null,null,null,null,null,null,null,null,null,null,null,null,null,null,null,null,null,null,null,null,null,null,null,null,null,null,null,null,null,null,null,null,null,null,null,null,null,null,null,null,null,null,null,null,null,null,null,null,null,null,null,null,null,null,null,null,null,null,null,null,null,null,null,null,null,null,null,null,null,null,null,null,null,null,null,null,null,null,null,null,null,null,null,null,null,null,null,null,null,null,null,null,null,null,null,null,null,null,null,null,null,null,null,null,null,null,null,null,null,null,null,null,null,null,null,null,null,null,null,null,null,null,null,null,null,null,null,null,null,null,null,null,null,null,null,null,null,null,null,null,null,null,null,null,null,null,null,null,null,null,null,null,null,null,null,null,null,null,null,null,null,null,null,null,null,null,null,null,null,null,null,null,null,null,null,null,null,null,null,null,null,null,null,null,null,null,null,null,null,null,null,null,null,null,null,null,null,null,null,null,null,null,null,null,null,null,null,null,null,null,null,null,null,null,null,null,null,null,null,null,null,null,null,null,null,null,null,null,null,null,null,null,null,null,null,null,null,null,null,null,null,null,null,null,null,null,null,null,null,null,null,null,null,null,null,null,null,null,null,null,null,null,null,null,null,null,null,null,null,null,null,null,null,null,null,null,null,null,null,null,null,null,null,null,null,null,null,null,null,null,null,null,null,null,null,null,null,null,null,null,null,null,null,null,null,null,null,null,null,null,null,null,null,null,null,null,null,null,null,null,null,null,null,null,null,null,null,null,null,null,null,null,null,null,null,null,null,null,null,null,null,null,null,null,null,null,null,null,null,null,null,null,null,null,null,null,null,null,null,null,null,null,null,null,null,null,null,null,null,null,null,null,null,null,null,null,null,null,null,null,null,null,null,null,null,null,null,null,null,null,null,null,null,null,null,null,null,null,null,null,null,null,null,null,null,null,null,null,null,null,null,null,null,null,null,null,null,null,null,null,null,null,null,null,null,null,null,null,null,null,null,null,null,null,null,null,null,null,null,null,null,null,null,null,null,null,null,null,null,null,null,null,null,null,null,null,null,null,null,null,null,null,null,null,null,null,null,null,null,null,null,null,null,null,null,null,null,null,null,null,null,null,null,null,null,null,null,null,null,null,null,null,null,null,null,null,null,null,null,null,null,null,null,null,null,null,null,null,null,null,null,null,null,null,null,null,null,null,null,null,null,null,null,null,null,null,null,null,null,null,null,null,null,null,null,null,null,null,null,null,null,null,null,null,null,null,null,null,null,null,null,null,null,null,null,null,null,null,null,null,null,null,null,null,null,null,null,null,null,null,null,null,null,null,null,null,null,null,null,null,null,null,null,null,null,null,null,null,null,null,null,null,null,null,null,null,null,null,null,null,null,null,null,null,null,null,null,null,null,null,null,null,null,null,null,null,null,null,null,null,null,null,null,null,null,null,null,null,null,null,null,null,null,null,null,null,null,null,null,null,null,null,null,null,null,null,null,null,null,null,null,null,null,null,null,null,null,null,null,null,null,null,null,null,null,null,null,null,null,null,null,null,null,null,null,null,null,null,null,null,null,null,null,null,null,null,null,null,null,null,null,null,null,null,null,null,null,null,null,null,null,null,null,null,null,null,null,null,null,null,null,null,null,null,null,null,null,null,null,null,null,null,null,null,null,null,null,null,null,null,null,null,null,null,null,null,null,null,null,null,null,null,null,null,null,null,null,null,null,null,null,null,null,null,null,null,null,null,null,null,null,null,null,null,null,null,null,null,null,null,null,null,null,null,null,null,null,null,null,null,null,null,null,null,null,null,null,null,null,null,null,null,null,null,null,null,null,null,null,null,null,null,null,null,null,null,null,null,null,null,null,null,null,null,null,null,null,null,null,null,null,null,null,null,null,null,null,null,null,null,null,null,null,null,null,null,null,null,null,null,null,null,null,null,null,null,null,null,null,null,null,null,null,null,null,null,null,null,null,null,null,null,null,null,null,null,null,null,null,null,null,null,null,null,null,null,null,null,null,null,null,null,null,null,null,null,null,null,null,null,null,null,null,null,null,null,null,null,null,null,null,null,null,null,null,null,null,null,null,null,null,null,null,null,null,null,null,null,null,null,null,null,null,null,null,null,null,null,null,null,null,null,null,null,null,null,null,null,null,null,null,null,null,null,null,null,null,null,null,null,null,null,null,null,null,null,null,null,null,null,null,null,null,null,null,null,null,null,null,null,null,null,null,null,null,null,null,null,null,null,null,null,null,null,null,null,null,null,null,null,null,null,null,null,null,null,null,null,null,null,null,null,null,null,null,null,null,null,null,null,null,null,null,null,null,null,null,null,null,null,null,null,null,null,null,null,null,null,null,null,null,null,null,null,null,null,null,null,null,null,null,null,null,null,null,null,null,null,null,null,null,null,null,null,null,null,null,null,null,null,null,null,null,null,null,null,null,null,null,null,null,null,null,null,null,null,null,null,null,null,null,null,null,null,null,null,null,null,null,null,null,null,null,null,null,null,null,null,null,null,null,null,null,null,null,null,null,null,null,null,null,null,null,null,null,null,null,null,null,null,null,null,null,null,null,null,null,null,null,null,null,null,null,null,null,null,null,null,null,null,null,null,null,null,null,null,null,null,null,null,null,null,null,null,null,null,null,null,null,null,null,null,null,null,null,null,null,null,null,null,null,null,null,null,null,null,null,null,null,null,null,null,null,null,null,null,null,null,null,null,null,null,null,null,null,null,null,null,null,null,null,null,null,null,null,null,null,null,null,null,null,null,null,null,null,null,null,null,null,null,null,null,null,null,null,null,null,null,null,null,null,null,null,null,null,null,null,null,null,null,null,null,null,null,null,null,null,null,null,null,null,null,null,null,null,null,null,null,null,null,null,null,null,null,null,null,null,null,null,null,null,null,null,null,null,null,null,null,null,null,null,null,null,null,null,null,null,null,null,null,null,null,null,null,null,null,null,null,null,null,null,null,null,null,null,null,null,null,null,null,null,null,null,null,null,null,null,null,null,null,null,null,null,null,null,null,null,null,null,null,null,null,null,null,null,null,null,null,null,null,null,null,null,null,null,null,null,null,null,null,null,null,null,null,null,null,null,null,null,null,null,null,null,null,null,null,null,null,null,null,null,null,null,null,null,null,null,null,null,null,null,null,null,null,null,null,null,null,null,null,null,null,null,null,null,null,null,null,null,null,null,null,null,null,null,null,null,null,null,null,null,null,null,null,null,null,null,null,null,null,null,null,null,null,null,null,null,null,null,null,null,null,null,null,null,null,null,null,null,null,null,null,null,null,null,null,null,null,null,null,null,null,null,null,null,null,null,null,null,null,null,null,null,null,null,null,null,null,null,null,null,null,null,null,null,null,null,null,null,null,null,null,null,null,null,null,null,null,null,null,null,null,null,null,null,null,null,null,null,null,null,null,null,null,null,null,null,null,null,null,null,null,null,null,null,null,null,null,null,null,null,null,null,null,null,null,null,null,null,null,null,null,null,null,null,null,null,null,null,null,null,null,null,null,null,null,null,null,null,null,null,null,null,null,null,null,null,null,null,null,null,null,null,null,null,null,null,null,null,null,null,null,null,null,null,null,null,null,null,null,null,null,null,null,null,null,null,null,null,null,null,null,null,null,null,null,null,null,null,null,null,null,null,null,null,null,null,null,null,null,null,null,null,null,null,null,null,null,null,null,null,null,null,null,null,null,null,null,null,null,null,null,null,null,null,null,null,null,null,null,null,null,null,null,null,null,null,null,null,null,null,null,null,null,null,null,null,null,null,null,null,null,null,null,null,null,null,null,null,null,null,null,null,null,null,null,null,null,null,null,null,null,null,null,null,null,null,null,null,null,null,null,null,null,null,null,null,null,null,null,null,null,null,null,null,null,null,null,null,null,null,null,null,null,null,null,null,null,null,null,null,null,null,null,null,null,null,null,null,null,null,null,null,null,null,null,null,null,null,null,null,null,null,null,null,null,null,null,null,null,null,null,null,null,null,null,null,null,null,null,null,null,null,null,null,null,null,null,null,null,null,null,null,null,null,null,null,null,null,null,null,null,null,null,null,null,null,null,null,null,null,null,null,null,null,null,null,null,null,null,null,null,null,null,null,null,null,null,null,null,null,null,null,null,null,null,null,null,null,null,null,null,null,null,null,null,null,null,null,null,null,null,null,null,null,null,null,null,null,null,null,null,null,null,null,null,null,null,null,null,null,null,null,null,null,null,null,null,null,null,null,null,null,null,null,null,null,null,null,null,null,null,null,null,null,null,null,null,null,null,null,null,null,null,null,null,null,null,null,null,null,null,null,null,null,null,null,null,null,null,null,null,null,null,null,null,null,null,null,null,null,null,null,null,null,null,null,null,null,null,null,null,null,null,null,null,null,null,null,null,null,null,null,null,null,null,null,null,null,null,null,null,null,null,null,null,null,null,null,null,null,null,null,null,null,null,null,null,null,null,null,null,null,null,null,null,null,null,null,null,null,null,null,null,null,null,null,null,null,null,null,null,null,null,null,null,null,null,null,null,null,null,null,null,null,null,null,null,null,null,null,null,null,null,null,null,null,null,null,null,null,null,null,null,null,null,null,null,null,null,null,null,null,null,null,null,null,null,null,null,null,null,null,null,null,null,null,null,null,null,null,null,null,null,null,null,null,null,null,null,null,null,null,null,null,null,null,null,null,null,null,null,null,null,null,null,null,null,null,null,null,null,null,null,null,null,null,null,null,null,null,null,null,null,null,null,null,null,null,null,null,null,null,null,null,null,null,null,null,null,null,null,null,null,null,null,null,null,null,null,null,null,null,null,null,null,null,null,null,null,null,null,null,null,null,null,null,null,null,null,null,null,null,null,null,null,null,null,null,null,null,null,null,null,null,null,null,null,null,null,null,null,null,null,null,null,null,null,null,null,null,null,null,null,null,null,null,null,null,null,null,null,null,null,null,null,null,null,null,null,null,null,null,null,null,null,null,null,null,null,null,null,null,null,null,null,null,null,null,null,null,null,null,null,null,null,null,null,null,null,null,null,null,null,null,null,null,null,null,null,null,null,null,null,null,null,null,null,null,null,null,null,null,null,null,null,null,null,null,null,null,null,null,null,null,null,null,null,null,null,null,null,null,null,null,null,null,null,null,null,null,null,null,null,null,null,null,null,null,null,null,null,null,null,null,null,null,null,null,null,null,null,null,null,null,null,null,null,null,null,null,null,null,null,null,null,null,null,null,null,null,null,null,null,null,null,null,null,null,null,null,null,null,null,null,null,null,null,null,null,null,null,null,null,null,null,null,null,null,null,null,null,null,null,null,null,null,null,null,null,null,null,null,null,null,null,null,null,null,null,null,null,null,null,null,null,null,null,null,null,null,null,null,null,null,null,null,null,null,null,null,null,null,null,null,null,null,null,null,null,null,null,null,null,null,null,null,null,null,null,null,null,null,null,null,null,null,null,null,null,null,null,null,null,null,null,null,null,null,null,null,null,null,null,null,null,null,null,null,null,null,null,null,null,null,null,null,null,null,null,null,null,null,null,null,null,null,null,null,null,null,null,null,null,null,null,null,null,null,null,null,null,null,null,null,null,null,null,null,null,null,null,null,null,null,null,null,null,null,null,null,null,null,null,null,null,null,null,null,null,null,null,null,null,null,null,null,null,null,null,null,null,null,null,null,null,null,null,null,null,null,null,null,null,null,null,null,null,null,null,null,null,null,null,null,null,null,null,null,null,null,null,null,null,null,null,null,null,null,null,null,null,null,null,null,null,null,null,null,null,null,null,null,null,null,null,null,null,null,null,null,null,null,null,null,null,null,null,null,null,null,null,null,null,null,null,null,null,null,null,null,null,null,null,null,null,null,null,null,null,null,null,null,null,null,null,null,null,null,null,null,null,null,null,null,null,null,null,null,null,null,null,null,null,null,null,null,null,null,null,null,null,null,null,null,null,null,null,null,null,null,null,null,null,null,null,null,null,null,null,null,null,null,null,null,null,null,null,null,null,null,null,null,null,null,null,null,null,null,null,null,null,null,null,null,null,null,null,null,null,null,null,null,null,null,null,null,null,null,null,null,null,null,null,null,null,null,null,null,null,null,null,null,null,null,null,null,null,null,null,null,null,null,null,null,null,null,null,null,null,null,null,null,null,null,null,null,null,null,null,null,null,null,null,null,null,null,null,null,null,null,null,null,null,null,null,null,null,null,null,null,null,null,null,null,null,null,null,null,null,null,null,null,null,null,null,null,null,null,null,null,null,null,null,null,null,null,null,null,null,null,null,null,null,null,null,null,null,null,null,null,null,null,null,null,null,null,null,null,null,null,null,null,null,null,null,null,null,null,null,null,null,null,null,null,null,null,null,null,null,null,null,null,null,null,null,null,null,null,null,null,null,null,null,null,null,null,null,null,null,null,null,null,null,null,null,null,null,null,null,null,null,null,null,null,null,null,null,null,null,null,null,null,null,null,null,null,null,null,null,null,null,null,null,null,null,null,null,null,null,null,null,null,null,null,null,null,null,null,null,null,null,null,null,null,null,null,null,null,null,null,null,null,null,null,null,null,null,null,null,null,null,null,null,null,null,null,null,null,null,null,null,null,null,null,null,null,null,null,null,null,null,null,null,null,null,null,null,null,null,null,null,null,null,null,null,null,null,null,null,null,null,null,null,null,null,null,null,null,null,null,null,null,null,null,null,null,null,null,null,null,null,null,null,null,null,null,null,null,null,null,null,null,null,null,null,null,null,null,null,null,null,null,null,null,null,null,null,null,null,null,null,null,null,null,null,null,null,null,null,null,null,null,null,null,null,null,null,null,null,null,null,null,null,null,null,null,null,null,null,null,null,null,null,null,null,null,null,null,null,null,null,null,null,null,null,null,null,null,null,null,null,null,null,null,null,null,null,null,null,null,null,null,null,null,null,null,null,null,null,null,null,null,null,null,null,null,null,null,null,null,null,null,null,null,null,null,null,null,null,null,null,null,null,null,null,null,null,null,null,null,null,null,null,null,null,null,null,null,null,null,null,null,null,null,null,null,null,null,null,null,null,null,null,null,null,null,null,null,null,null,null,null,null,null,null,null,null,null,null,null,null,null,null,null,null,null,null,null,null,null,null,null,null,null,null,null,null,null,null,null,null,null,null,null,null,null,null,null,null,null,null,null,null,null,null,null,null,null,null,null,null,null,null,null,null,null,null,null,null,null,null,null,null,null,null,null,null,null,null,null,null,null,null,null,null,null,null,null,null,null,null,null,null,null,null,null,null,null,null,null,null,null,null,null,null,null,null,null,null,null,null,null,null,null,null,null,null,null,null,null,null,null,null,null,null,null,null,null,null,null,null,null,null,null,null,null,null,null,null,null,null,null,null,null,null,null,null,null,null,null,null,null,null,null,null,null,null,null,null,null,null,null,null,null,null,null,null,null,null,null,null,null,null,null,null,null,null,null,null,null,null,null,null,null,null,null,null,null,null,null,null,null,null,null,null,null,null,null,null,null,null,null,null,null,null,null,null,null,null,null,null,null,null,null,null,null,null,null,null,null,null,null,null,null,null,null,null,null,null,null,null,null,null,null,null,null,null,null,null,null,null,null,null,null,null,null,null,null,null,null,null,null,null,null,null,null,null,null,null,null,null,null,null,null,null,null,null,null,null,null,null,null,null,null,null,null,null,null,null,null,null,null,null,null,null,null,null,null,null,null,null,null,null,null,null,null,null,null,null,null,null,null,null,null,null,null,null,null,null,null,null,null,null,null,null,null,null,null,null,null,null,null,null,null,null,null,null,null,null,null,null,null,null,null,null,null,null,null,null,null,null,null,null,null,null,null,null,null,null,null,null,null,null,null,null,null,null,null,null,null,null,null,null,null,null,null,null,null,null,null,null,null,null,null,null,null,null,null,null,null,null,null,null,null,null,null,null,null,null,null,null,null,null,null,null,null,null,null,null,null,null,null,null,null,null,null,null,null,null,null,null,null,null,null,null,null,null,null,null,null,null,null,null,null,null,null,null,null,null,null,null,null,null,null,null,null,null,null,null,null,null,null,null,null,null,null,null,null,null,null,null,null,null,null,null,null,null,null,null,null,null,null,null,null,null,null,null,null,null,null,null,null,null,null,null,null,null,null,null,null,null,null,null,null,null,null,null,null,null,null,null,null,null,null,null,null,null,null,null,null,null,null,null,null,null,null,null,null,null,null,null,null,null,null,null,null,null,null,null,null,null,null,null,null,null,null,null,null,null,null,null,null,null,null,null,null,null,null,null,null,null,null,null,null,null,null,null,null,null,null,null,null,null,null,null,null,null,null,null,null,null,null,null,null,null,null,null,null,null,null,null,null,null,null,null,null,null,null,null,null,null,null,null,null,null,null,null,null,null,null,null,null,null,null,null,null,null,null,null,null,null,null,null,null,null,null,null,null,null,null,null,null,null,null,null,null,null,null,null,null,null,null,null,null,null,null,null,null,null,null,null,null,null,null,null,null,null,null,null,null,null,null,null,null,null,null,null,null,null,null,null,null,null,null,null,null,null,null,null,null,null,null,null,null,null,null,null,null,null,null,null,null,null,null,null,null,null,null,null,null,null,null,null,null,null,null,null,null,null,null,null,null,null,null,null,null,null,null,null,null,null,null,null,null,null,null,null,null,null,null,null,null,null,null,null,null,null,null,null,null,null,null,null,null,null,null,null,null,null,null,null,null,null,null,null,null,null,null,null,null,null,null,null,null,null,null,null,null,null,null,null,null,null,null,null,null,null,null,null,null,null,null,null,null,null,null,null,null,null,null,null,null,null,null,null,null,null,null,null,null,null,null,null,null,null,null,null,null,null,null,null,null,null,null,null,null,null,null,null,null,null,null,null,null,null,null,null,null,null,null,null,null,null,null,null,null,null,null,null,null,null,null,null,null,null,null,null,null,null,null,null,null,null,null,null,null,null,null,null,null,null,null,null,null,null,null,null,null,null,null,null,null,null,null,null,null,null,null,null,null,null,null,null,null,null,null,null,null,null,null,null,null,null,null,null,null,null,null,null,null,null,null,null,null,null,null,null,null,null,null,null,null,null,null,null,null,null,null,null,null,null,null,null,null,null,null,null,null,null,null,null,null,null,null,null,null,null,null,null,null,null,null,null,null,null,null,null,null,null,null,null,null,null,null,null,null,null,null,null,null,null,null,null,null,null,null,null,null,null,null,null,null,null,null,null,null,null,null,null,null,null,null,null,null,null,null,null,null,null,null,null,null,null,null,null,null,null,null,null,null,null,null,null,null,null,null,null,null,null,null,null,null,null,null,null,null,null,null,null,null,null,null,null,null,null,null,null,null,null,null,null,null,null,null,null,null,null,null,null,null,null,null,null,null,null,null,null,null,null,null,null,null,null,null,null,null,null,null,null,null,null,null,null,null,null,null,null,null,null,null,null,null,null,null,null,null,null,null,null,null,null,null,null,null,null,null,null,null,null,null,null,null,null,null,null,null,null,null,null,null,null,null,null,null,null,null,null,null,null,null,null,null,null,null,null,null,null,null,null,null,null,null,null,null,null,null,null,null,null,null,null,null,null,null,null,null,null,null,null,null,null,null,null,null,null,null,null,null,null,null,null,null,null,null,null,null,null,null,null,null,null,null,null,null,null,null,null,null,null,null,null,null,null,null,null,null,null,null,null,null,null,null,null,null,null,null,null,null,null,null,null,null,null,null,null,null,null,null,null,null,null,null,null,null,null,null,null,null,null,null,null,null,null,null,null,null,null,null,null,null,null,null,null,null,null,null,null,null,null,null,null,null,null,null,null,null,null,null,null,null,null,null,null,null,null,null,null,null,null,null,null,null,null,null,null,null,null,null,null,null,null,null,null,null,null,null,null,null,null,null,null,null,null,null,null,null,null,null,null,null,null,null,null,null,null,null,null,null,null,null,null,null,null,null,null,null,null,null,null,null,null,null,null,null,null,null,null,null,null,null,null,null,null,null,null,null,null,null,null,null,null,null,null,null,null,null,null,null,null,null,null,null,null,null,null,null,null,null,null,null,null,null,null,null,null,null,null,null,null,null,null,null,null,null,null,null,null,null,null,null,null,null,null,null,null,null,null,null,null,null,null,null,null,null,null,null,null,null,null,null,null,null,null,null,null,null,null,null,null,null,null,null,null,null,null,null,null,null,null,null,null,null,null,null,null,null,null,null,null,null,null,null,null,null,null,null,null,null,null,null,null,null,null,null,null,null,null,null,null,null,null,null,null,null,null,null,null,null,null,null,null,null,null,null,null,null,null,null,null,null,null,null,null,null,null,null,null,null,null,null,null,null,null,null,null,null,null,null,null,null,null,null,null,null,null,null,null,null,null,null,null,null,null,null,null,null,null,null,null,null,null,null,null,null,null,null,null,null,null,null,null,null,null,null,null,null,null,null,null,null,null,null,null,null,null,null,null,null,null,null,null,null,null,null,null,null,null,null,null,null,null,null,null,null,null,null,null,null,null,null,null,null,null,null,null,null,null,null,null,null,null,null,null,null,null,null,null,null,null,null,null,null,null,null,null,null,null,null,null,null,null,null,null,null,null,null,null,null,null,null,null,null,null,null,null,null,null,null,null,null,null,null,null,null,null,null,null,null,null,null,null,null,null,null,null,null,null,null,null,null,null,null,null,null,null,null,null,null,null,null,null,null,null,null,null,null,null,null,null,null,null,null,null,null,null,null,null,null,null,null,null,null,null,null,null,null,null,null,null,null,null,null,null,null,null,null,null,null,null,null,null,null,null,null,null,null,null,null,null,null,null,null,null,null,null,null,null,null,null,null,null,null,null,null,null,null,null,null,null,null,null,null,null,null,null,null,null,null,null,null,null,null,null,null,null,null,null,null,null,null,null,null,null,null,null,null,null,null,null,null,null,null,null,null,null,null,null,null,null,null,null,null,null,null,null,null,null,null,null,null,null,null,null,null,null,null,null,null,null,null,null,null,null,null,null,null,null,null,null,null,null,null,null,null,null,null,null,null,null,null,null,null,null,null,null,null,null,null,null,null,null,null,null,null,null,null,null,null,null,null,null,null,null,null,null,null,null,null,null,null,null,null,null,null,null,null,null,null,null,null,null,null,null,null,null,null,null,null,null,null,null,null,null,null,null,null,null,null,null,null,null,null,null,null,null,null,null,null,null,null,null,null,null,null,null,null,null,null,null,null,null,null,null,null,null,null,null,null,null,null,null,null,null,null,null,null,null,null,null,null,null,null,null,null,null,null,null,null,null,null,null,null,null,null,null,null,null,null,null,null,null,null,null,null,null,null,null,null,null,null,null,null,null,null,null,null,null,null,null,null,null,null,null,null,null,null,null,null,null,null,null,null,null,null,null,null,null,null,null,null,null,null,null,null,null,null,null,null,null,null,null,null,null,null,null,null,null,null,null,null,null,null,null,null,null,null,null,null,null,null,null,null,null,null,null,null,null,null,null,null,null,null,null,null,null,null,null,null,null,null,null,null,null,null,null,null,null,null,null,null,null,null,null,null,null,null,null,null,null,null,null,null,null,null,null,null,null,null,null,null,null,null,null,null,null,null,null,null,null,null,null,null,null,null,null,null,null,null,null,null,null,null,null,null,null,null,null,null,null,null,null,null,null,null,null,null,null,null,null,null,null,null,null,null,null,null,null,null,null,null,null,null,null,null,null,null,null,null,null,null,null,null,null,null,null,null,null,null,null,null,null,null,null,null,null,null,null,null,null,null,null,null,null,null,null,null,null,null,null,null,null,null,null,null,null,null,null,null,null,null,null,null,null,null,null,null,null,null,null,null,null,null,null,null,null,null,null,null,null,null,null,null,null,null,null,null,null,null,null,null,null,null,null,null,null,null,null,null,null,null,null,null,null,null,null,null,null,null,null,null,null,null,null,null,null,null,null,null,null,null,null,null,null,null,null,null,null,null,null,null,null,null,null,null,null,null,null,null,null,null,null,null,null,null,null,null,null,null,null,null,null,null,null,null,null,null,null,null,null,null,null,null,null,null,null,null,null,null,null,null,null,null,null,null,null,null,null,null,null,null,null,null,null,null,null,null,null,null,null,null,null,null,null,null,null,null,null,null,null,null,null,null,null,null,null,null,null,null,null,null,null,null,null,null,null,null,null,null,null,null,null,null,null,null,null,null,null,null,null,null,null,null,null,null,null,null,null,null,null,null,null,null,null,null,null,null,null,null,null,null,null,null,null,null,null,null,null,null,null,null,null,null,null,null,null,null,null,null,null,null,null,null,null,null,null,null,null,null,null,null,null,null,null,null,null,null,null,null,null,null,null,null,null,null,null,null,null,null,null,null,null,null,null,null,null,null,null,null,null,null,null,null,null,null,null,null,null,null,null,null,null,null,null,null,null,null,null,null,null,null,null,null,null,null,null,null,null,null,null,null,null,null,null,null,null,null,null,null,null,null,null,null,null,null,null,null,null,null,null,null,null,null,null,null,null,null,null,null,null,null,null,null,null,null,null,null,null,null,null,null,null,null,null,null,null,null,null,null,null,null,null,null,null,null,null,null,null,null,null,null,null,null,null,null,null,null,null,null,null,null,null,null,null,null,null,null,null,null,null,null,null,null,null,null,null,null,null,null,null,null,null,null,null,null,null,null,null,null,null,null,null,null,null,null,null,null,null,null,null,null,null,null,null,null,null,null,null,null,null,null,null,null,null,null,null,null,null,null,null,null,null,null,null,null,null,null,null,null,null,null,null,null,null,null,null,null,null,null,null,null,null,null,null,null,null,null,null,null,null,null,null,null,null,null,null,null,null,null,null,null,null,null,null,null,null,null,null,null,null,null,null,null,null,null,null,null,null,null,null,null,null,null,null,null,null,null,null,null,null,null,null,null,null,null,null,null,null,null,null,null,null,null,null,null,null,null,null,null,null,null,null,null,null,null,null,null,null,null,null,null,null,null,null,null,null,null,null,null,null,null,null,null,null,null,null,null,null,null,null,null,null,null,null,null,null,null,null,null,null,null,null,null,null,null,null,null,null,null,null,null,null,null,null,null,null,null,null,null,null,null,null,null,null,null,null,null,null,null,null,null,null,null,null,null,null,null,null,null,null,null,null,null,null,null,null,null,null,null,null,null,null,null,null,null,null,null,null,null,null,null,null,null,null,null,null,null,null,null,null,null,null,null,null,null,null,null,null,null,null,null,null,null,null,null,null,null,null,null,null,null,null,null,null,null,null,null,null,null,null,null,null,null,null,null,null,null,null,null,null,null,null,null,null,null,null,null,null,null,null,null,null,null,null,null,null,null,null,null,null,null,null,null,null,null,null,null,null,null,null,null,null,null,null,null,null,null,null,null,null,null,null,null,null,null,null,null,null,null,null,null,null,null,null,null,null,null,null,null,null,null,null,null,null,null,null,null,null,null,null,null,null,null,null,null,null,null,null,null,null,null,null,null,null,null,null,null,null,null,null,null,null,null,null,null,null,null,null,null,null,null,null,null,null,null,null,null,null,null,null,null,null,null,null,null,null,null,null,null,null,null,null,null,null,null,null,null,null,null,null,null,null,null,null,null,null,null,null,null,null,null,null,null,null,null,null,null,null,null,null,null,null,null,null,null,null,null,null,null,null,null,null,null,null,null,null,null,null,null,null,null,null,null,null,null,null,null,null,null,null,null,null,null,null,null,null,null,null,null,null,null,null,null,null,null,null,null,null,null,null,null,null,null,null,null,null,null,null,null,null,null,null,null,null,null,null,null,null,null,null,null,null,null,null,null,null,null,null,null,null,null,null,null,null,null,null,null,null,null,null,null,null,null,null,null,null,null,null,null,null,null,null,null,null,null,null,null,null,null,null,null,null,null,null,null,null,null,null,null,null,null,null,null,null,null,null,null,null,null,null,null,null,null,null,null,null,null,null,null,null,null,null,null,null,null,null,null,null,null,null,null,null,null,null,null,null,null,null,null,null,null,null,null,null,null,null,null,null,null,null,null,null,null,null,null,null,null,null,null,null,null,null,null,null,null,null,null,null,null,null,null,null,null,null,null,null,null,null,null,null,null,null,null,null,null,null,null,null,null,null,null,null,null,null,null,null,null,null,null,null,null,null,null,null,null,null,null,null,null,null,null,null,null,null,null,null,null,null,null,null,null,null,null,null,null,null,null,null,null,null,null,null,null,null,null,null,null,null,null,null,null,null,null,null,null,null,null,null,null,null,null,null,null,null,null,null,null,null,null,null,null,null,null,null,null,null,null,null,null,null,null,null,null,null,null,null,null,null,null,null,null,null,null,null,null,null,null,null,null,null,null,null,null,null,null,null,null,null,null,null,null,null,null,null,null,null,null,null,null,null,null,null,null,null,null,null,null,null,null,null,null,null,null,null,null,null,null,null,null,null,null,null,null,null,null,null,null,null,null,null,null,null,null,null,null,null,null,null,null,null,null,null,null,null,null,null,null,null,null,null,null,null,null,null,null,null,null,null,null,null,null,null,null,null,null,null,null,null,null,null,null,null,null,null,null,null,null,null,null,null,null,null,null,null,null,null,null,null,null,null,null,null,null,null,null,null,null,null,null,null,null,null,null,null,null,null,null,null,null,null,null,null,null,null,null,null,null,null,null,null,null,null,null,null,null,null,null,null,null,null,null,null,null,null,null,null,null,null,null,null,null,null,null,null,null,null,null,null,null,null,null,null,null,null,null,null,null,null,null,null,null,null,null,null,null,null,null,null,null,null,null,null,null,null,null,null,null,null,null,null,null,null,null,null,null,null,null,null,null,null,null,null,null,null,null,null,null,null,null,null,null,null,null,null,null,null,null,null,null,null,null,null,null,null,null,null,null,null,null,null,null,null,null,null,null,null,null,null,null,null,null,null,null,null,null,null,null,null,null,null,null,null,null,null,null,null,null,null,null,null,null,null,null,null,null,null,null,null,null,null,null,null,null,null,null,null,null,null,null,null,null,null,null,null,null,null,null,null,null,null,null,null,null,null,null,null,null,null,null,null,null,null,null,null,null,null,null,null,null,null,null,null,null,null,null,null,null,null,null,null,null,null,null,null,null,null,null,null,null,null,null,null,null,null,null,null,null,null,null,null,null,null,null,null,null,null,null,null,null,null,null,null,null,null,null,null,null,null,null,null,null,null,null,null,null,null,null,null,null,null,null,null,null,null,null,null,null,null,null,null,null,null,null,null,null,null,null,null,null,null,null,null,null,null,null,null,null,null,null,null,null,null,null,null,null,null,null,null,null,null,null,null,null,null,null,null,null,null,null,null,null,null,null,null,null,null,null,null,null,null,null,null,null,null,null,null,null,null,null,null,null,null,null,null,null,null,null,null,null,null,null,null,null,null,null,null,null,null,null,null,null,null,null,null,null,null,null,null,null,null,null,null,null,null,null,null,null,null,null,null,null,null,null,null,null,null,null,null,null,null,null,null,null,null,null,null,null,null,null,null,null,null,null,null,null,null,null,null,null,null,null,null,null,null,null,null,null,null,null,null,null,null,null,null,null,null,null,null,null,null,null,null,null,null,null,null,null,null,null,null,null,null,null,null,null,null,null,null,null,null,null,null,null,null,null,null,null,null,null,null,null,null,null,null,null,null,null,null,null,null,null,null,null,null,null,null,null,null,null,null,null,null,null,null,null,null,null,null,null,null,null,null,null,null,null,null,null,null,null,null,null,null,null,null,null,null,null,null,null,null,null,null,null,null,null,null,null,null,null,null,null,null,null,null,null,null,null,null,null,null,null,null,null,null,null,null,null,null,null,null,null,null,null,null,null,null,null,null,null,null,null,null,null,null,null,null,null,null,null,null,null,null,null,null,null,null,null,null,null,null,null,null,null,null,null,null,null,null,null,null,null,null,null,null,null,null,null,null,null,null,null,null,null,null,null,null,null,null,null,null,null,null,null,null,null,null,null,null,null,null,null,null,null,null,null,null,null,null,null,null,null,null,null,null,null,null,null,null,null,null,null,null,null,null,null,null,null,null,null,null,null,null,null,null,null,null,null,null,null,null,null,null,null,null,null,null,null,null,null,null,null,null,null,null,null,null,null,null,null,null,null,null,null,null,null,null,null,null,null,null,null,null,null,null,null,null,null,null,null,null,null,null,null,null,null,null,null,null,null,null,null,null,null,null,null,null,null,null,null,null,null,null,null,null,null,null,null,null,null,null,null,null,null,null,null,null,null,null,null,null,null,null,null,null,null,null,null,null,null,null,null,null,null,null,null,"MOE",0]

{"sheet":"RegistreIntempéries","index":3,"n_rows":69,"n_cols":48,"rows_kept":69,"cut":false,"hidden":false,"merged":[[2,45,2,47],[2,1,2,3],[2,5,2,7],[2,9,2,11],[2,13,2,15],[2,17,2,19],[2,21,2,23],[2,25,2,27],[2,29,2,31],[2,33,2,35],[2,37,2,39],[2,41,2,43],[0,15,0,20],[0,0,0,12],[0,33,0,34],[0,28,0,32],[0,46,0,48],[0,36,0,38],[0,40,0,43],[0,22,0,26]]}
["REGISTRE DES INTEMPERIES",null,null,null,null,null,null,null,null,null,null,null,null,null,"au","2018-07-12",null,null,null,null,null,null,"Nombre total de jours",null,null,null,null,{"$f":"SUM(C5+G5+K5+O5+S5+W5+AA5+AE5+AI5+AM5+AQ5+AU5)","v":0},"Hauteur totale en mm",null,null,null,null,{"$f":"SUM(D5+H5+L5+P5+T5+X5+AB5+AF5+AJ5+AN5+AR5+AV5)","v":0},null,null,"Légende",null,null,"P","= Jour Intempérie",null,null,null,null,"12","= Hauteur en mm"]
[]
[null,"Janvier",null,null,null,"Février",null,null,null,"Mars",null,null,null,"Avril",null,null,null,"Mai",null,null,null,"Juin",null,null,null,"Juillet",null,null,null,"Août",null,null,null,"Septembre",null,null,null,"Octobre",null,null,null,"Novembre",null,null,null,"Décembre"]
[]
[null,"Total",{"$f":"SUM(C39:C69)","v":0},{"$f":"SUM(D7:D37)","v":0},null,"Total",{"$f":"SUM(G39:G69)","v":0},{"$f":"SUM(H7:H37)","v":0},null,"Total",{"$f":"SUM(K39:K69)","v":0},{"$f":"SUM(L7:L37)","v":0},null,"Total",{"$f":"SUM(O39:O69)","v":0},{"$f":"SUM(P7:P37)","v":0},null,"Total",{"$f":"SUM(S39:S69)","v":0},{"$f":"SUM(T7:T37)","v":0},null,"Total",{"$f":"SUM(W39:W69)","v":0},{"$f":"SUM(X7:X37)","v":0},null,"Total",{"$f":"SUM(AA39:AA69)","v":0},{"$f":"SUM(AB7:AB37)","v":0},null,"Total",{"$f":"SUM(AE39:AE69)","v":0},{"$f":"SUM(AF7:AF37)","v":0},null,"Total",{"$f":"SUM(AI39:AI69)","v":0},{"$f":"SUM(AJ7:AJ37)","v":0},null,"Total",{"$f":"SUM(AM39:AM69)","v":0},{"$f":"SUM(AN7:AN37)","v":0},null,"Total",{"$f":"SUM(AQ39:AQ69)","v":0},{"$f":"SUM(AR7:AR37)","v":0},null,"Total",{"$f":"SUM(AU39:AU69)","v":0},{"$f":"SUM(AV7:AV37)","v":0}]
[]
[null,"2018-01-01",null,null,null,"2018-02-01",null,null,null,"2018-03-01",null,null,null,"2018-04-01",null,null,null,"2018-05-01",null,null,null,"2018-06-01",null,null,null,"2018-07-01",null,null,null,"2018-08-01",null,null,null,"2018-09-01",null,null,null,"2018-10-01",null,null,null,"2018-11-01",null,null,null,"2018-12-01"]
[null,"2018-01-02",null,null,null,"2018-02-02",null,null,null,"2018-03-02",null,null,null,"2018-04-02",null,null,null,"2018-05-02",null,null,null,"2018-06-02",null,null,null,"2018-07-02",null,null,null,"2018-08-02",null,null,null,"2018-09-02",null,null,null,"2018-10-02",null,null,null,"2018-11-02",null,null,null,"2018-12-02"]
[null,"2018-01-03",null,null,null,"2018-02-03",null,null,null,"2018-03-03",null,null,null,"2018-04-03",null,null,null,"2018-05-03",null,null,null,"2018-06-03",null,null,null,"2018-07-03",null,null,null,"2018-08-03",null,null,null,"2018-09-03",null,null,null,"2018-10-03",null,null,null,"2018-11-03",null,null,null,"2018-12-03"]
[null,"2018-01-04",null,null,null,"2018-02-04",null,null,null,"2018-03-04",null,null,null,"2018-04-04",null,null,null,"2018-05-04",null,null,null,"2018-06-04",null,null,null,"2018-07-04",null,null,null,"2018-08-04",null,null,null,"2018-09-04",null,null,null,"2018-10-04",null,null,null,"2018-11-04",null,null,null,"2018-12-04"]
[null,"2018-01-05",null,null,null,"2018-02-05",null,null,null,"2018-03-05",null,null,null,"2018-04-05",null,null,null,"2018-05-05",null,null,null,"2018-06-05",null,null,null,"2018-07-05",null,null,null,"2018-08-05",null,null,null,"2018-09-05",null,null,null,"2018-10-05",null,null,null,"2018-11-05",null,null,null,"2018-12-05"]
[null,"2018-01-06",null,null,null,"2018-02-06",null,null,null,"2018-03-06",null,null,null,"2018-04-06",null,null,null,"2018-05-06",null,null,null,"2018-06-06",null,null,null,"2018-07-06",null,null,null,"2018-08-06",null,null,null,"2018-09-06",null,null,null,"2018-10-06",null,null,null,"2018-11-06",null,null,null,"2018-12-06"]
[null,"2018-01-07",null,null,null,"2018-02-07",null,null,null,"2018-03-07",null,null,null,"2018-04-07",null,null,null,"2018-05-07",null,null,null,"2018-06-07",null,null,null,"2018-07-07",null,null,null,"2018-08-07",null,null,null,"2018-09-07",null,null,null,"2018-10-07",null,null,null,"2018-11-07",null,null,null,"2018-12-07"]
[null,"2018-01-08",null,null,null,"2018-02-08",null,null,null,"2018-03-08",null,null,null,"2018-04-08",null,null,null,"2018-05-08",null,null,null,"2018-06-08",null,null,null,"2018-07-08",null,null,null,"2018-08-08",null,null,null,"2018-09-08",null,null,null,"2018-10-08",null,null,null,"2018-11-08",null,null,null,"2018-12-08"]
[null,"2018-01-09",null,null,null,"2018-02-09",null,null,null,"2018-03-09",null,null,null,"2018-04-09",null,null,null,"2018-05-09",null,null,null,"2018-06-09",null,null,null,"2018-07-09",null,null,null,"2018-08-09",null,null,null,"2018-09-09",null,null,null,"2018-10-09",null,null,null,"2018-11-09",null,null,null,"2018-12-09"]
[null,"2018-01-10",null,null,null,"2018-02-10",null,null,null,"2018-03-10",null,null,null,"2018-04-10",null,null,null,"2018-05-10",null,null,null,"2018-06-10",null,null,null,"2018-07-10",null,null,null,"2018-08-10",null,null,null,"2018-09-10",null,null,null,"2018-10-10",null,null,null,"2018-11-10",null,null,null,"2018-12-10"]
[null,"2018-01-11",null,null,null,"2018-02-11",null,null,null,"2018-03-11",null,null,null,"2018-04-11",null,null,null,"2018-05-11",null,null,null,"2018-06-11",null,null,null,"2018-07-11",null,null,null,"2018-08-11",null,null,null,"2018-09-11",null,null,null,"2018-10-11",null,null,null,"2018-11-11",null,null,null,"2018-12-11"]
[null,"2018-01-12",null,null,null,"2018-02-12",null,null,null,"2018-03-12",null,null,null,"2018-04-12",null,null,null,"2018-05-12",null,null,null,"2018-06-12",null,null,null,"2018-07-12",null,null,null,"2018-08-12",null,null,null,"2018-09-12",null,null,null,"2018-10-12",null,null,null,"2018-11-12",null,null,null,"2018-12-12"]
[null,"2018-01-13",null,null,null,"2018-02-13",null,null,null,"2018-03-13",null,null,null,"2018-04-13",null,null,null,"2018-05-13",null,null,null,"2018-06-13",null,null,null,"2018-07-13",null,null,null,"2018-08-13",null,null,null,"2018-09-13",null,null,null,"2018-10-13",null,null,null,"2018-11-13",null,null,null,"2018-12-13"]
[null,"2018-01-14",null,null,null,"2018-02-14",null,null,null,"2018-03-14",null,null,null,"2018-04-14",null,null,null,"2018-05-14",null,null,null,"2018-06-14",null,null,null,"2018-07-14",null,null,null,"2018-08-14",null,null,null,"2018-09-14",null,null,null,"2018-10-14",null,null,null,"2018-11-14",null,null,null,"2018-12-14"]
[null,"2018-01-15",null,null,null,"2018-02-15",null,null,null,"2018-03-15",null,null,null,"2018-04-15",null,null,null,"2018-05-15",null,null,null,"2018-06-15",null,null,null,"2018-07-15",null,null,null,"2018-08-15",null,null,null,"2018-09-15",null,null,null,"2018-10-15",null,null,null,"2018-11-15",null,null,null,"2018-12-15"]
[null,"2018-01-16",null,null,null,"2018-02-16",null,null,null,"2018-03-16",null,null,null,"2018-04-16",null,null,null,"2018-05-16",null,null,null,"2018-06-16",null,null,null,"2018-07-16",null,null,null,"2018-08-16",null,null,null,"2018-09-16",null,null,null,"2018-10-16",null,null,null,"2018-11-16",null,null,null,"2018-12-16"]
[null,"2018-01-17",null,null,null,"2018-02-17",null,null,null,"2018-03-17",null,null,null,"2018-04-17",null,null,null,"2018-05-17",null,null,null,"2018-06-17",null,null,null,"2018-07-17",null,null,null,"2018-08-17",null,null,null,"2018-09-17",null,null,null,"2018-10-17",null,null,null,"2018-11-17",null,null,null,"2018-12-17"]
[null,"2018-01-18",null,null,null,"2018-02-18",null,null,null,"2018-03-18",null,null,null,"2018-04-18",null,null,null,"2018-05-18",null,null,null,"2018-06-18",null,null,null,"2018-07-18",null,null,null,"2018-08-18",null,null,null,"2018-09-18",null,null,null,"2018-10-18",null,null,null,"2018-11-18",null,null,null,"2018-12-18"]
[null,"2018-01-19",null,null,null,"2018-02-19",null,null,null,"2018-03-19",null,null,null,"2018-04-19",null,null,null,"2018-05-19",null,null,null,"2018-06-19",null,null,null,"2018-07-19",null,null,null,"2018-08-19",null,null,null,"2018-09-19",null,null,null,"2018-10-19",null,null,null,"2018-11-19",null,null,null,"2018-12-19"]
[null,"2018-01-20",null,null,null,"2018-02-20",null,null,null,"2018-03-20",null,null,null,"2018-04-20",null,null,null,"2018-05-20",null,null,null,"2018-06-20",null,null,null,"2018-07-20",null,null,null,"2018-08-20",null,null,null,"2018-09-20",null,null,null,"2018-10-20",null,null,null,"2018-11-20",null,null,null,"2018-12-20"]
[null,"2018-01-21",null,null,null,"2018-02-21",null,null,null,"2018-03-21",null,null,null,"2018-04-21",null,null,null,"2018-05-21",null,null,null,"2018-06-21",null,null,null,"2018-07-21",null,null,null,"2018-08-21",null,null,null,"2018-09-21",null,null,null,"2018-10-21",null,null,null,"2018-11-21",null,null,null,"2018-12-21"]
[null,"2018-01-22",null,null,null,"2018-02-22",null,null,null,"2018-03-22",null,null,null,"2018-04-22",null,null,null,"2018-05-22",null,null,null,"2018-06-22",null,null,null,"2018-07-22",null,null,null,"2018-08-22",null,null,null,"2018-09-22",null,null,null,"2018-10-22",null,null,null,"2018-11-22",null,null,null,"2018-12-22"]
[null,"2018-01-23",null,null,null,"2018-02-23",null,null,null,"2018-03-23",null,null,null,"2018-04-23",null,null,null,"2018-05-23",null,null,null,"2018-06-23",null,null,null,"2018-07-23",null,null,null,"2018-08-23",null,null,null,"2018-09-23",null,null,null,"2018-10-23",null,null,null,"2018-11-23",null,null,null,"2018-12-23"]
[null,"2018-01-24",null,null,null,"2018-02-24",null,null,null,"2018-03-24",null,null,null,"2018-04-24",null,null,null,"2018-05-24",null,null,null,"2018-06-24",null,null,null,"2018-07-24",null,null,null,"2018-08-24",null,null,null,"2018-09-24",null,null,null,"2018-10-24",null,null,null,"2018-11-24",null,null,null,"2018-12-24"]
[null,"2018-01-25",null,null,null,"2018-02-25",null,null,null,"2018-03-25",null,null,null,"2018-04-25",null,null,null,"2018-05-25",null,null,null,"2018-06-25",null,null,null,"2018-07-25",null,null,null,"2018-08-25",null,null,null,"2018-09-25",null,null,null,"2018-10-25",null,null,null,"2018-11-25",null,null,null,"2018-12-25"]
[null,"2018-01-26",null,null,null,"2018-02-26",null,null,null,"2018-03-26",null,null,null,"2018-04-26",null,null,null,"2018-05-26",null,null,null,"2018-06-26",null,null,null,"2018-07-26",null,null,null,"2018-08-26",null,null,null,"2018-09-26",null,null,null,"2018-10-26",null,null,null,"2018-11-26",null,null,null,"2018-12-26"]
[null,"2018-01-27",null,null,null,"2018-02-27",null,null,null,"2018-03-27",null,null,null,"2018-04-27",null,null,null,"2018-05-27",null,null,null,"2018-06-27",null,null,null,"2018-07-27",null,null,null,"2018-08-27",null,null,null,"2018-09-27",null,null,null,"2018-10-27",null,null,null,"2018-11-27",null,null,null,"2018-12-27"]
[null,"2018-01-28",null,null,null,"2018-02-28",null,null,null,"2018-03-28",null,null,null,"2018-04-28",null,null,null,"2018-05-28",null,null,null,"2018-06-28",null,null,null,"2018-07-28",null,null,null,"2018-08-28",null,null,null,"2018-09-28",null,null,null,"2018-10-28",null,null,null,"2018-11-28",null,null,null,"2018-12-28"]
[null,"2018-01-29",null,null,null,"",null,null,null,"2018-03-29",null,null,null,"2018-04-29",null,null,null,"2018-05-29",null,null,null,"2018-06-29",null,null,null,"2018-07-29",null,null,null,"2018-08-29",null,null,null,"2018-09-29",null,null,null,"2018-10-29",null,null,null,"2018-11-29",null,null,null,"2018-12-29"]
[null,"2018-01-30",null,null,null,"",null,null,null,"2018-03-30",null,null,null,"2018-04-30",null,null,null,"2018-05-30",null,null,null,"2018-06-30",null,null,null,"2018-07-30",null,null,null,"2018-08-30",null,null,null,"2018-09-30",null,null,null,"2018-10-30",null,null,null,"2018-11-30",null,null,null,"2018-12-30"]
[null,"2018-01-31",null,null,null,"",null,null,null,"2018-03-31",null,null,null,"",null,null,null,"2018-05-31",null,null,null,"",null,null,null,"2018-07-31",null,null,null,"2018-08-31",null,null,null,"",null,null,null,"2018-10-31",null,null,null,"",null,null,null,"2018-12-31"]
[]
[null,null,{"$f":"IF(C7=\"P\",1,\"\")","v":""},null,null,null,{"$f":"IF(G7=\"P\",1,\"\")","v":""},null,null,null,{"$f":"IF(K7=\"P\",1,\"\")","v":""},null,null,null,{"$f":"IF(O7=\"P\",1,\"\")","v":""},null,null,null,{"$f":"IF(S7=\"P\",1,\"\")","v":""},null,null,null,{"$f":"IF(W7=\"P\",1,\"\")","v":""},null,null,null,{"$f":"IF(AA7=\"P\",1,\"\")","v":""},null,null,null,{"$f":"IF(AE7=\"P\",1,\"\")","v":""},null,null,null,{"$f":"IF(AI7=\"P\",1,\"\")","v":""},null,null,null,{"$f":"IF(AM7=\"P\",1,\"\")","v":""},null,null,null,{"$f":"IF(AQ7=\"P\",1,\"\")","v":""},null,null,null,{"$f":"IF(AU7=\"P\",1,\"\")","v":""}]
[null,null,"",null,null,null,"",null,null,null,"",null,null,null,"",null,null,null,"",null,null,null,"",null,null,null,"",null,null,null,"",null,null,null,"",null,null,null,"",null,null,null,"",null,null,null,""]
[null,null,"",null,null,null,"",null,null,null,"",null,null,null,"",null,null,null,"",null,null,null,"",null,null,null,"",null,null,null,"",null,null,null,"",null,null,null,"",null,null,null,"",null,null,null,""]
[null,null,"",null,null,null,"",null,null,null,"",null,null,null,"",null,null,null,"",null,null,null,"",null,null,null,"",null,null,null,"",null,null,null,"",null,null,null,"",null,null,null,"",null,null,null,""]
[null,null,"",null,null,null,"",null,null,null,"",null,null,null,"",null,null,null,"",null,null,null,"",null,null,null,"",null,null,null,"",null,null,null,"",null,null,null,"",null,null,null,"",null,null,null,""]
[null,null,"",null,null,null,"",null,null,null,"",null,null,null,"",null,null,null,"",null,null,null,"",null,null,null,"",null,null,null,"",null,null,null,"",null,null,null,"",null,null,null,"",null,null,null,""]
[null,null,"",null,null,null,"",null,null,null,"",null,null,null,"",null,null,null,"",null,null,null,"",null,null,null,"",null,null,null,"",null,null,null,"",null,null,null,"",null,null,null,"",null,null,null,""]
[null,null,"",null,null,null,"",null,null,null,"",null,null,null,"",null,null,null,"",null,null,null,"",null,null,null,"",null,null,null,"",null,null,null,"",null,null,null,"",null,null,null,"",null,null,null,""]
[null,null,"",null,null,null,"",null,null,null,"",null,null,null,"",null,null,null,"",null,null,null,"",null,null,null,"",null,null,null,"",null,null,null,"",null,null,null,"",null,null,null,"",null,null,null,""]
[null,null,"",null,null,null,"",null,null,null,"",null,null,null,"",null,null,null,"",null,null,null,"",null,null,null,"",null,null,null,"",null,null,null,"",null,null,null,"",null,null,null,"",null,null,null,""]
[null,null,"",null,null,null,"",null,null,null,"",null,null,null,"",null,null,null,"",null,null,null,"",null,null,null,"",null,null,null,"",null,null,null,"",null,null,null,"",null,null,null,"",null,null,null,""]
[null,null,"",null,null,null,"",null,null,null,"",null,null,null,"",null,null,null,"",null,null,null,"",null,null,null,"",null,null,null,"",null,null,null,"",null,null,null,"",null,null,null,"",null,null,null,""]
[null,null,"",null,null,null,"",null,null,null,"",null,null,null,"",null,null,null,"",null,null,null,"",null,null,null,"",null,null,null,"",null,null,null,"",null,null,null,"",null,null,null,"",null,null,null,""]
[null,null,"",null,null,null,"",null,null,null,"",null,null,null,"",null,null,null,"",null,null,null,"",null,null,null,"",null,null,null,"",null,null,null,"",null,null,null,"",null,null,null,"",null,null,null,""]
[null,null,"",null,null,null,"",null,null,null,"",null,null,null,"",null,null,null,"",null,null,null,"",null,null,null,"",null,null,null,"",null,null,null,"",null,null,null,"",null,null,null,"",null,null,null,""]
[null,null,"",null,null,null,"",null,null,null,"",null,null,null,"",null,null,null,"",null,null,null,"",null,null,null,"",null,null,null,"",null,null,null,"",null,null,null,"",null,null,null,"",null,null,null,""]
[null,null,"",null,null,null,"",null,null,null,"",null,null,null,"",null,null,null,"",null,null,null,"",null,null,null,"",null,null,null,"",null,null,null,"",null,null,null,"",null,null,null,"",null,null,null,""]
[null,null,"",null,null,null,"",null,null,null,"",null,null,null,"",null,null,null,"",null,null,null,"",null,null,null,"",null,null,null,"",null,null,null,"",null,null,null,"",null,null,null,"",null,null,null,""]
[null,null,"",null,null,null,"",null,null,null,"",null,null,null,"",null,null,null,"",null,null,null,"",null,null,null,"",null,null,null,"",null,null,null,"",null,null,null,"",null,null,null,"",null,null,null,""]
[null,null,"",null,null,null,"",null,null,null,"",null,null,null,"",null,null,null,"",null,null,null,"",null,null,null,"",null,null,null,"",null,null,null,"",null,null,null,"",null,null,null,"",null,null,null,""]
[null,null,"",null,null,null,"",null,null,null,"",null,null,null,"",null,null,null,"",null,null,null,"",null,null,null,"",null,null,null,"",null,null,null,"",null,null,null,"",null,null,null,"",null,null,null,""]
[null,null,"",null,null,null,"",null,null,null,"",null,null,null,"",null,null,null,"",null,null,null,"",null,null,null,"",null,null,null,"",null,null,null,"",null,null,null,"",null,null,null,"",null,null,null,""]
[null,null,"",null,null,null,"",null,null,null,"",null,null,null,"",null,null,null,"",null,null,null,"",null,null,null,"",null,null,null,"",null,null,null,"",null,null,null,"",null,null,null,"",null,null,null,""]
[null,null,"",null,null,null,"",null,null,null,"",null,null,null,"",null,null,null,"",null,null,null,"",null,null,null,"",null,null,null,"",null,null,null,"",null,null,null,"",null,null,null,"",null,null,null,""]
[null,null,"",null,null,null,"",null,null,null,"",null,null,null,"",null,null,null,"",null,null,null,"",null,null,null,"",null,null,null,"",null,null,null,"",null,null,null,"",null,null,null,"",null,null,null,""]
[null,null,"",null,null,null,"",null,null,null,"",null,null,null,"",null,null,null,"",null,null,null,"",null,null,null,"",null,null,null,"",null,null,null,"",null,null,null,"",null,null,null,"",null,null,null,""]
[null,null,"",null,null,null,"",null,null,null,"",null,null,null,"",null,null,null,"",null,null,null,"",null,null,null,"",null,null,null,"",null,null,null,"",null,null,null,"",null,null,null,"",null,null,null,""]
[null,null,"",null,null,null,"",null,null,null,"",null,null,null,"",null,null,null,"",null,null,null,"",null,null,null,"",null,null,null,"",null,null,null,"",null,null,null,"",null,null,null,"",null,null,null,""]
[null,null,"",null,null,null,"",null,null,null,"",null,null,null,"",null,null,null,"",null,null,null,"",null,null,null,"",null,null,null,"",null,null,null,"",null,null,null,"",null,null,null,"",null,null,null,""]
[null,null,"",null,null,null,"",null,null,null,"",null,null,null,"",null,null,null,"",null,null,null,"",null,null,null,"",null,null,null,"",null,null,null,"",null,null,null,"",null,null,null,"",null,null,null,""]
[null,null,"",null,null,null,"",null,null,null,"",null,null,null,"",null,null,null,"",null,null,null,"",null,null,null,"",null,null,null,"",null,null,null,"",null,null,null,"",null,null,null,"",null,null,null,""]

{"sheet":"SuiviCalendrier","index":4,"n_rows":150,"n_cols":21,"rows_kept":150,"cut":false,"hidden":false,"merged":[]}
["Phase","Tâche","N° Lot","Début contractuel","Fin contractuelle","Durée contrat","Intem Dém1","Retard DemE1","Décalage","Début estimé/réel","Fin estimée","Durée estim","Début réel","Intem Réal2","Retard RéalE2","Fin réelle","Durée réelle","Retard Intempéries","Retard contractuel","Retard global","IndicateurGénéral"]
["Etat des lieux Lot 1","Sondages complémentaires",1,{"$f":"SUM(Calendrier!K11)","v":"00:00:00"},{"$f":"SUM(Calendrier!L11)","v":"00:00:00"},{"$f":"SUM(Calendrier!M11)","v":0},{"$f":"SUM(Calendrier!N11)","v":0},{"$f":"SUM(Calendrier!O11)","v":0},{"$f":"SUM(G2+H2)","v":0},{"$f":"SUM(Calendrier!Q11)","v":"2018-04-09"},{"$f":"SUM(Calendrier!R11)","v":"2018-04-11"},{"$f":"SUM(Calendrier!S11)","v":3},{"$f":"SUM(Calendrier!T11)","v":"00:00:00"},{"$f":"SUM(Calendrier!U11)","v":0},{"$f":"SUM(Calendrier!V11)","v":0},{"$f":"SUM(Calendrier!W11)","v":"00:00:00"},{"$f":"SUM(Calendrier!X11)","v":0},{"$f":"SUM(G2+N2)","v":0},{"$f":"SUM(H2+O2)","v":0},{"$f":"SUM(R2:S2)","v":0},{"$f":"IF(M2=0,\"\u007f\",IF(S2=0,\"P\",IF(S2>2,\"Ð\",IF(AND(S2>0,S2<3),\"¯\"))))","v":"\u007f"}]
["Etat des lieux Lot 1","Reconnaissance des réseaux",1,{"$f":"SUM(Calendrier!K12)","v":"00:00:00"},{"$f":"SUM(Calendrier!L12)","v":"00:00:00"},{"$f":"SUM(Calendrier!M12)","v":0},{"$f":"SUM(Calendrier!N12)","v":0},{"$f":"SUM(Calendrier!O12)","v":0},0,{"$f":"SUM(Calendrier!Q12)","v":"2018-04-09"},{"$f":"SUM(Calendrier!R12)","v":"2018-04-09"},{"$f":"SUM(Calendrier!S12)","v":1},{"$f":"SUM(Calendrier!T12)","v":"00:00:00"},{"$f":"SUM(Calendrier!U12)","v":0},{"$f":"SUM(Calendrier!V12)","v":0},{"$f":"SUM(Calendrier!W12)","v":"00:00:00"},{"$f":"SUM(Calendrier!X12)","v":0},{"$f":"SUM(G3+N3)","v":0},{"$f":"SUM(H3+O3)","v":0},{"$f":"SUM(R3:S3)","v":0},{"$f":"IF(M3=0,\"\u007f\",IF(S3=0,\"P\",IF(S3>2,\"Ð\",IF(AND(S3>0,S3<3),\"¯\"))))","v":"\u007f"}]
["Etat des lieux Lot 1","Plan Topographique Général Initial",1,{"$f":"SUM(Calendrier!K13)","v":"00:00:00"},{"$f":"SUM(Calendrier!L13)","v":"00:00:00"},{"$f":"SUM(Calendrier!M13)","v":0},{"$f":"SUM(Calendrier!N13)","v":0},{"$f":"SUM(Calendrier!O13)","v":0},0,{"$f":"SUM(Calendrier!Q13)","v":"2018-04-09"},{"$f":"SUM(Calendrier!R13)","v":"2018-04-09"},{"$f":"SUM(Calendrier!S13)","v":1},{"$f":"SUM(Calendrier!T13)","v":"00:00:00"},{"$f":"SUM(Calendrier!U13)","v":0},{"$f":"SUM(Calendrier!V13)","v":0},{"$f":"SUM(Calendrier!W13)","v":"00:00:00"},{"$f":"SUM(Calendrier!X13)","v":0},0,0,{"$f":"SUM(R4:S4)","v":0},"\u007f"]
["Etat des lieux Lot 1","Constat d'Etat des lieux contradictoire","MOE",{"$f":"SUM(Calendrier!K14)","v":"00:00:00"},{"$f":"SUM(Calendrier!L14)","v":"00:00:00"},{"$f":"SUM(Calendrier!M14)","v":0},{"$f":"SUM(Calendrier!N14)","v":0},{"$f":"SUM(Calendrier!O14)","v":0},0,{"$f":"SUM(Calendrier!Q14)","v":"2018-04-09"},{"$f":"SUM(Calendrier!R14)","v":"2018-04-09"},{"$f":"SUM(Calendrier!S14)","v":1},{"$f":"SUM(Calendrier!T14)","v":"00:00:00"},{"$f":"SUM(Calendrier!U14)","v":0},{"$f":"SUM(Calendrier!V14)","v":0},{"$f":"SUM(Calendrier!W14)","v":"00:00:00"},{"$f":"SUM(Calendrier!X14)","v":0},0,0,0,"\u007f"]
["Déploiement Lot 1","Mise en place des installations de chantier",1,{"$f":"SUM(Calendrier!K16)","v":"00:00:00"},{"$f":"SUM(Calendrier!L16)","v":"00:00:00"},{"$f":"SUM(Calendrier!M16)","v":0},{"$f":"SUM(Calendrier!N16)","v":0},{"$f":"SUM(Calendrier!O16)","v":0},0,{"$f":"SUM(Calendrier!Q16)","v":"2018-04-09"},{"$f":"SUM(Calendrier!R16)","v":"2018-04-09"},{"$f":"SUM(Calendrier!S16)","v":1},{"$f":"SUM(Calendrier!T16)","v":"00:00:00"},{"$f":"SUM(Calendrier!U16)","v":0},{"$f":"SUM(Calendrier!V16)","v":0},{"$f":"SUM(Calendrier!W16)","v":"00:00:00"},{"$f":"SUM(Calendrier!X16)","v":0},0,0,0,"\u007f"]
["Déploiement Lot 1","Transferts matériels",1,{"$f":"SUM(Calendrier!K17)","v":"00:00:00"},{"$f":"SUM(Calendrier!L17)","v":"00:00:00"},{"$f":"SUM(Calendrier!M17)","v":0},{"$f":"SUM(Calendrier!N17)","v":0},{"$f":"SUM(Calendrier!O17)","v":0},0,{"$f":"SUM(Calendrier!Q17)","v":"2018-04-09"},{"$f":"SUM(Calendrier!R17)","v":"2018-04-09"},{"$f":"SUM(Calendrier!S17)","v":1},{"$f":"SUM(Calendrier!T17)","v":"00:00:00"},{"$f":"SUM(Calendrier!U17)","v":0},{"$f":"SUM(Calendrier!V17)","v":0},{"$f":"SUM(Calendrier!W17)","v":"00:00:00"},{"$f":"SUM(Calendrier!X17)","v":0},0,0,0,"\u007f"]
["Déploiement Lot 1","Aménagement des pistes d'accès et mise en place signalisation",1,{"$f":"SUM(Calendrier!K18)","v":"00:00:00"},{"$f":"SUM(Calendrier!L18)","v":"00:00:00"},{"$f":"SUM(Calendrier!M18)","v":0},{"$f":"SUM(Calendrier!N18)","v":0},{"$f":"SUM(Calendrier!O18)","v":0},0,{"$f":"SUM(Calendrier!Q18)","v":"2018-04-09"},{"$f":"SUM(Calendrier!R18)","v":"2018-04-09"},{"$f":"SUM(Calendrier!S18)","v":1},{"$f":"SUM(Calendrier!T18)","v":"00:00:00"},{"$f":"SUM(Calendrier!U18)","v":0},{"$f":"SUM(Calendrier!V18)","v":0},{"$f":"SUM(Calendrier!W18)","v":"00:00:00"},{"$f":"SUM(Calendrier!X18)","v":0},0,0,0,"\u007f"]
["Déploiement Lot 1","Aménagement des plateformes de stockage",1,{"$f":"SUM(Calendrier!K19)","v":"00:00:00"},{"$f":"SUM(Calendrier!L19)","v":"00:00:00"},{"$f":"SUM(Calendrier!M19)","v":0},{"$f":"SUM(Calendrier!N19)","v":0},{"$f":"SUM(Calendrier!O19)","v":0},0,{"$f":"SUM(Calendrier!Q19)","v":"2018-04-09"},{"$f":"SUM(Calendrier!R19)","v":"2018-04-09"},{"$f":"SUM(Calendrier!S19)","v":1},{"$f":"SUM(Calendrier!T19)","v":"00:00:00"},{"$f":"SUM(Calendrier!U19)","v":0},{"$f":"SUM(Calendrier!V19)","v":0},{"$f":"SUM(Calendrier!W19)","v":"00:00:00"},{"$f":"SUM(Calendrier!X19)","v":0},0,0,0,"\u007f"]
["Déploiement Lot 1","Réalisation des assainissements provisoires de chantier",1,{"$f":"SUM(Calendrier!K20)","v":"00:00:00"},{"$f":"SUM(Calendrier!L20)","v":"00:00:00"},{"$f":"SUM(Calendrier!M20)","v":0},{"$f":"SUM(Calendrier!N20)","v":0},{"$f":"SUM(Calendrier!O20)","v":0},0,{"$f":"SUM(Calendrier!Q20)","v":"2018-04-09"},{"$f":"SUM(Calendrier!R20)","v":"2018-04-09"},{"$f":"SUM(Calendrier!S20)","v":1},{"$f":"SUM(Calendrier!T20)","v":"00:00:00"},{"$f":"SUM(Calendrier!U20)","v":0},{"$f":"SUM(Calendrier!V20)","v":0},{"$f":"SUM(Calendrier!W20)","v":"00:00:00"},{"$f":"SUM(Calendrier!X20)","v":0},0,0,0,"\u007f"]
["Déploiement Lot 1","Plan cinématique des stocks par famille - Indice 0",1,{"$f":"SUM(Calendrier!K21)","v":"00:00:00"},{"$f":"SUM(Calendrier!L21)","v":"00:00:00"},{"$f":"SUM(Calendrier!M21)","v":0},{"$f":"SUM(Calendrier!N21)","v":0},{"$f":"SUM(Calendrier!O21)","v":0},0,{"$f":"SUM(Calendrier!Q21)","v":"2018-04-09"},{"$f":"SUM(Calendrier!R21)","v":"2018-04-09"},{"$f":"SUM(Calendrier!S21)","v":1},{"$f":"SUM(Calendrier!T21)","v":"00:00:00"},{"$f":"SUM(Calendrier!U21)","v":0},{"$f":"SUM(Calendrier!V21)","v":0},{"$f":"SUM(Calendrier!W21)","v":"00:00:00"},{"$f":"SUM(Calendrier!X21)","v":0},0,0,0,"\u007f"]
["Déploiement Lot 1","Piquetage détaillé",1,{"$f":"SUM(Calendrier!K22)","v":"00:00:00"},{"$f":"SUM(Calendrier!L22)","v":"00:00:00"},{"$f":"SUM(Calendrier!M22)","v":0},{"$f":"SUM(Calendrier!N22)","v":0},{"$f":"SUM(Calendrier!O22)","v":0},0,{"$f":"SUM(Calendrier!Q22)","v":"2018-04-09"},{"$f":"SUM(Calendrier!R22)","v":"2018-04-09"},{"$f":"SUM(Calendrier!S22)","v":1},{"$f":"SUM(Calendrier!T22)","v":"00:00:00"},{"$f":"SUM(Calendrier!U22)","v":0},{"$f":"SUM(Calendrier!V22)","v":0},{"$f":"SUM(Calendrier!W22)","v":"00:00:00"},{"$f":"SUM(Calendrier!X22)","v":0},0,0,0,"\u007f"]
["Gestion des eaux Lot 1","Séquence Pentage-Compactage-Lissage-Pompage Lot 1",1,{"$f":"SUM(Calendrier!K24)","v":"00:00:00"},{"$f":"SUM(Calendrier!L24)","v":"00:00:00"},{"$f":"SUM(Calendrier!M24)","v":0},{"$f":"SUM(Calendrier!N24)","v":0},{"$f":"SUM(Calendrier!O24)","v":0},0,{"$f":"SUM(Calendrier!Q24)","v":"2018-04-09"},{"$f":"SUM(Calendrier!R24)","v":"2018-04-09"},{"$f":"SUM(Calendrier!S24)","v":1},{"$f":"SUM(Calendrier!T24)","v":"00:00:00"},{"$f":"SUM(Calendrier!U24)","v":0},{"$f":"SUM(Calendrier!V24)","v":0},{"$f":"SUM(Calendrier!W24)","v":"00:00:00"},{"$f":"SUM(Calendrier!X24)","v":0},0,0,0,"\u007f"]
["Réseau EP","Forme des fossés étanchés - Busage renforcé - Ecobox",1,{"$f":"SUM(Calendrier!K26)","v":"00:00:00"},{"$f":"SUM(Calendrier!L26)","v":"00:00:00"},{"$f":"SUM(Calendrier!M26)","v":0},{"$f":"SUM(Calendrier!N26)","v":0},{"$f":"SUM(Calendrier!O26)","v":0},0,{"$f":"SUM(Calendrier!Q26)","v":"2018-03-09"},{"$f":"SUM(Calendrier!R26)","v":"2018-03-09"},{"$f":"SUM(Calendrier!S26)","v":1},{"$f":"SUM(Calendrier!T26)","v":"00:00:00"},{"$f":"SUM(Calendrier!U26)","v":0},{"$f":"SUM(Calendrier!V26)","v":0},{"$f":"SUM(Calendrier!W26)","v":"00:00:00"},{"$f":"SUM(Calendrier!X26)","v":0},0,0,0,"\u007f"]
["Réseau EP","Contrôle externe Fossés",1,{"$f":"SUM(Calendrier!K27)","v":"00:00:00"},{"$f":"SUM(Calendrier!L27)","v":"00:00:00"},{"$f":"SUM(Calendrier!M27)","v":0},{"$f":"SUM(Calendrier!N27)","v":0},{"$f":"SUM(Calendrier!O27)","v":0},0,{"$f":"SUM(Calendrier!Q27)","v":"2018-03-09"},{"$f":"SUM(Calendrier!R27)","v":"2018-03-09"},{"$f":"SUM(Calendrier!S27)","v":1},{"$f":"SUM(Calendrier!T27)","v":"00:00:00"},{"$f":"SUM(Calendrier!U27)","v":0},{"$f":"SUM(Calendrier!V27)","v":0},{"$f":"SUM(Calendrier!W27)","v":"00:00:00"},{"$f":"SUM(Calendrier!X27)","v":0},0,0,0,"\u007f"]
["Réseau EP","Contrôle extérieur Fossés","EXT",{"$f":"SUM(Calendrier!K28)","v":"00:00:00"},{"$f":"SUM(Calendrier!L28)","v":"00:00:00"},{"$f":"SUM(Calendrier!M28)","v":0},{"$f":"SUM(Calendrier!N28)","v":0},{"$f":"SUM(Calendrier!O28)","v":0},0,{"$f":"SUM(Calendrier!Q28)","v":"2018-03-09"},{"$f":"SUM(Calendrier!R28)","v":"2018-03-09"},{"$f":"SUM(Calendrier!S28)","v":1},{"$f":"SUM(Calendrier!T28)","v":"00:00:00"},{"$f":"SUM(Calendrier!U28)","v":0},{"$f":"SUM(Calendrier!V28)","v":0},{"$f":"SUM(Calendrier!W28)","v":"00:00:00"},{"$f":"SUM(Calendrier!X28)","v":0},0,0,0,"\u007f"]
["Réseau EP","Pose du busage renforcé et de l'Ecobox",1,{"$f":"SUM(Calendrier!K29)","v":"00:00:00"},{"$f":"SUM(Calendrier!L29)","v":"00:00:00"},{"$f":"SUM(Calendrier!M29)","v":0},{"$f":"SUM(Calendrier!N29)","v":0},{"$f":"SUM(Calendrier!O29)","v":0},0,{"$f":"SUM(Calendrier!Q29)","v":"2018-03-09"},{"$f":"SUM(Calendrier!R29)","v":"2018-03-09"},{"$f":"SUM(Calendrier!S29)","v":1},{"$f":"SUM(Calendrier!T29)","v":"00:00:00"},{"$f":"SUM(Calendrier!U29)","v":0},{"$f":"SUM(Calendrier!V29)","v":0},{"$f":"SUM(Calendrier!W29)","v":"00:00:00"},{"$f":"SUM(Calendrier!X29)","v":0},0,0,0,"\u007f"]
["Réseau EP","Contrôle externe de type \"Réseaux Eaux pluviales\"",1,{"$f":"SUM(Calendrier!K30)","v":"00:00:00"},{"$f":"SUM(Calendrier!L30)","v":"00:00:00"},{"$f":"SUM(Calendrier!M30)","v":0},{"$f":"SUM(Calendrier!N30)","v":0},{"$f":"SUM(Calendrier!O30)","v":0},0,{"$f":"SUM(Calendrier!Q30)","v":"2018-03-09"},{"$f":"SUM(Calendrier!R30)","v":"2018-03-09"},{"$f":"SUM(Calendrier!S30)","v":1},{"$f":"SUM(Calendrier!T30)","v":"00:00:00"},{"$f":"SUM(Calendrier!U30)","v":0},{"$f":"SUM(Calendrier!V30)","v":0},{"$f":"SUM(Calendrier!W30)","v":"00:00:00"},{"$f":"SUM(Calendrier!X30)","v":0},0,0,0,"\u007f"]
["Réseau EP","Contrôle extrieur de type \"Réseaux Eaux pluviales\"",1,{"$f":"SUM(Calendrier!K31)","v":"00:00:00"},{"$f":"SUM(Calendrier!L31)","v":"00:00:00"},{"$f":"SUM(Calendrier!M31)","v":0},{"$f":"SUM(Calendrier!N31)","v":0},{"$f":"SUM(Calendrier!O31)","v":0},0,{"$f":"SUM(Calendrier!Q31)","v":"2018-03-09"},{"$f":"SUM(Calendrier!R31)","v":"2018-03-09"},{"$f":"SUM(Calendrier!S31)","v":1},{"$f":"SUM(Calendrier!T31)","v":"00:00:00"},{"$f":"SUM(Calendrier!U31)","v":0},{"$f":"SUM(Calendrier!V31)","v":0},{"$f":"SUM(Calendrier!W31)","v":"00:00:00"},{"$f":"SUM(Calendrier!X31)","v":0},0,0,0,"\u007f"]
["Réseau EP","Forme des fossés non étanchés",1,{"$f":"SUM(Calendrier!K32)","v":"00:00:00"},{"$f":"SUM(Calendrier!L32)","v":"00:00:00"},{"$f":"SUM(Calendrier!M32)","v":0},{"$f":"SUM(Calendrier!N32)","v":0},{"$f":"SUM(Calendrier!O32)","v":0},0,{"$f":"SUM(Calendrier!Q32)","v":"2018-03-09"},{"$f":"SUM(Calendrier!R32)","v":"2018-03-09"},{"$f":"SUM(Calendrier!S32)","v":1},{"$f":"SUM(Calendrier!T32)","v":"00:00:00"},{"$f":"SUM(Calendrier!U32)","v":0},{"$f":"SUM(Calendrier!V32)","v":0},{"$f":"SUM(Calendrier!W32)","v":"00:00:00"},{"$f":"SUM(Calendrier!X32)","v":0},0,0,0,"\u007f"]
["Réseau EP","Levée du Point d'Arrêt Fossés à étancher ou non et descentes d’eaux pluviales","MOE",{"$f":"SUM(Calendrier!K33)","v":"00:00:00"},{"$f":"SUM(Calendrier!L33)","v":"00:00:00"},{"$f":"SUM(Calendrier!M33)","v":0},{"$f":"SUM(Calendrier!N33)","v":0},{"$f":"SUM(Calendrier!O33)","v":0},0,{"$f":"SUM(Calendrier!Q33)","v":"2018-03-09"},{"$f":"SUM(Calendrier!R33)","v":"2018-03-09"},{"$f":"SUM(Calendrier!S33)","v":1},{"$f":"SUM(Calendrier!T33)","v":"00:00:00"},{"$f":"SUM(Calendrier!U33)","v":0},{"$f":"SUM(Calendrier!V33)","v":0},{"$f":"SUM(Calendrier!W33)","v":"00:00:00"},{"$f":"SUM(Calendrier!X33)","v":0},0,0,0,"\u007f"]
["Terres de recouvrement","Rapport de sondages avec photographies de la rive Ouest des casiers 8.3 et 8.4 (casier 4)",1,{"$f":"SUM(Calendrier!K35)","v":"00:00:00"},{"$f":"SUM(Calendrier!L35)","v":"00:00:00"},{"$f":"SUM(Calendrier!M35)","v":0},{"$f":"SUM(Calendrier!N35)","v":0},{"$f":"SUM(Calendrier!O35)","v":0},0,{"$f":"SUM(Calendrier!Q35)","v":"2018-03-09"},{"$f":"SUM(Calendrier!R35)","v":"2018-03-09"},{"$f":"SUM(Calendrier!S35)","v":1},{"$f":"SUM(Calendrier!T35)","v":"00:00:00"},{"$f":"SUM(Calendrier!U35)","v":0},{"$f":"SUM(Calendrier!V35)","v":0},{"$f":"SUM(Calendrier!W35)","v":"00:00:00"},{"$f":"SUM(Calendrier!X35)","v":0},0,0,0,"\u007f"]
["Terres de recouvrement","Levée du Point d'Arrêt Poursuite des déblais","MOE",{"$f":"SUM(Calendrier!K36)","v":"00:00:00"},{"$f":"SUM(Calendrier!L36)","v":"00:00:00"},{"$f":"SUM(Calendrier!M36)","v":0},{"$f":"SUM(Calendrier!N36)","v":0},{"$f":"SUM(Calendrier!O36)","v":0},0,{"$f":"SUM(Calendrier!Q36)","v":"2018-03-09"},{"$f":"SUM(Calendrier!R36)","v":"2018-03-09"},{"$f":"SUM(Calendrier!S36)","v":1},{"$f":"SUM(Calendrier!T36)","v":"00:00:00"},{"$f":"SUM(Calendrier!U36)","v":0},{"$f":"SUM(Calendrier!V36)","v":0},{"$f":"SUM(Calendrier!W36)","v":"00:00:00"},{"$f":"SUM(Calendrier!X36)","v":0},0,0,0,"\u007f"]
["Terres de recouvrement","Décapage des terres de couverture des casiers 8.2 à 8.4",1,{"$f":"SUM(Calendrier!K37)","v":"00:00:00"},{"$f":"SUM(Calendrier!L37)","v":"00:00:00"},{"$f":"SUM(Calendrier!M37)","v":0},{"$f":"SUM(Calendrier!N37)","v":0},{"$f":"SUM(Calendrier!O37)","v":0},0,{"$f":"SUM(Calendrier!Q37)","v":"2018-03-09"},{"$f":"SUM(Calendrier!R37)","v":"2018-03-09"},{"$f":"SUM(Calendrier!S37)","v":1},{"$f":"SUM(Calendrier!T37)","v":"00:00:00"},{"$f":"SUM(Calendrier!U37)","v":0},{"$f":"SUM(Calendrier!V37)","v":0},{"$f":"SUM(Calendrier!W37)","v":"00:00:00"},{"$f":"SUM(Calendrier!X37)","v":0},0,0,0,"\u007f"]
["Terres de recouvrement","Plan cinématique des stocks par famille - Indice 1",1,{"$f":"SUM(Calendrier!K38)","v":"00:00:00"},{"$f":"SUM(Calendrier!L38)","v":"00:00:00"},{"$f":"SUM(Calendrier!M38)","v":0},{"$f":"SUM(Calendrier!N38)","v":0},{"$f":"SUM(Calendrier!O38)","v":0},0,{"$f":"SUM(Calendrier!Q38)","v":"2018-03-09"},{"$f":"SUM(Calendrier!R38)","v":"2018-03-09"},{"$f":"SUM(Calendrier!S38)","v":1},{"$f":"SUM(Calendrier!T38)","v":"00:00:00"},{"$f":"SUM(Calendrier!U38)","v":0},{"$f":"SUM(Calendrier!V38)","v":0},{"$f":"SUM(Calendrier!W38)","v":"00:00:00"},{"$f":"SUM(Calendrier!X38)","v":0},0,0,0,"\u007f"]
["Terres de recouvrement","Information de Point critique \"Décapage recouvrements\"",1,{"$f":"SUM(Calendrier!K39)","v":"00:00:00"},{"$f":"SUM(Calendrier!L39)","v":"00:00:00"},{"$f":"SUM(Calendrier!M39)","v":0},{"$f":"SUM(Calendrier!N39)","v":0},{"$f":"SUM(Calendrier!O39)","v":0},0,{"$f":"SUM(Calendrier!Q39)","v":"2018-03-09"},{"$f":"SUM(Calendrier!R39)","v":"2018-03-09"},{"$f":"SUM(Calendrier!S39)","v":1},{"$f":"SUM(Calendrier!T39)","v":"00:00:00"},{"$f":"SUM(Calendrier!U39)","v":0},{"$f":"SUM(Calendrier!V39)","v":0},{"$f":"SUM(Calendrier!W39)","v":"00:00:00"},{"$f":"SUM(Calendrier!X39)","v":0},0,0,0,"\u007f"]
["Déblais","Extraction et mise en stock des excédents",1,{"$f":"SUM(Calendrier!K41)","v":"00:00:00"},{"$f":"SUM(Calendrier!L41)","v":"00:00:00"},{"$f":"SUM(Calendrier!M41)","v":0},{"$f":"SUM(Calendrier!N41)","v":0},{"$f":"SUM(Calendrier!O41)","v":0},0,{"$f":"SUM(Calendrier!Q41)","v":"2018-03-09"},{"$f":"SUM(Calendrier!R41)","v":"2018-03-09"},{"$f":"SUM(Calendrier!S41)","v":1},{"$f":"SUM(Calendrier!T41)","v":"00:00:00"},{"$f":"SUM(Calendrier!U41)","v":0},{"$f":"SUM(Calendrier!V41)","v":0},{"$f":"SUM(Calendrier!W41)","v":"00:00:00"},{"$f":"SUM(Calendrier!X41)","v":0},0,0,0,"\u007f"]
["Déblais","Réglage des talus",1,{"$f":"SUM(Calendrier!K42)","v":"00:00:00"},{"$f":"SUM(Calendrier!L42)","v":"00:00:00"},{"$f":"SUM(Calendrier!M42)","v":0},{"$f":"SUM(Calendrier!N42)","v":0},{"$f":"SUM(Calendrier!O42)","v":0},0,{"$f":"SUM(Calendrier!Q42)","v":"2018-03-09"},{"$f":"SUM(Calendrier!R42)","v":"2018-03-09"},{"$f":"SUM(Calendrier!S42)","v":1},{"$f":"SUM(Calendrier!T42)","v":"00:00:00"},{"$f":"SUM(Calendrier!U42)","v":0},{"$f":"SUM(Calendrier!V42)","v":0},{"$f":"SUM(Calendrier!W42)","v":"00:00:00"},{"$f":"SUM(Calendrier!X42)","v":0},0,0,0,"\u007f"]
["Déblais","Contrôle externe de type \"Fond de forme en déblai\"",1,{"$f":"SUM(Calendrier!K43)","v":"00:00:00"},{"$f":"SUM(Calendrier!L43)","v":"00:00:00"},{"$f":"SUM(Calendrier!M43)","v":0},{"$f":"SUM(Calendrier!N43)","v":0},{"$f":"SUM(Calendrier!O43)","v":0},0,{"$f":"SUM(Calendrier!Q43)","v":"2018-03-09"},{"$f":"SUM(Calendrier!R43)","v":"2018-03-09"},{"$f":"SUM(Calendrier!S43)","v":1},{"$f":"SUM(Calendrier!T43)","v":"00:00:00"},{"$f":"SUM(Calendrier!U43)","v":0},{"$f":"SUM(Calendrier!V43)","v":0},{"$f":"SUM(Calendrier!W43)","v":"00:00:00"},{"$f":"SUM(Calendrier!X43)","v":0},0,0,0,"\u007f"]
["Déblais","Contrôle extérieur de type \"Fond de forme en déblai\"","EXT",{"$f":"SUM(Calendrier!K44)","v":"00:00:00"},{"$f":"SUM(Calendrier!L44)","v":"00:00:00"},{"$f":"SUM(Calendrier!M44)","v":0},{"$f":"SUM(Calendrier!N44)","v":0},{"$f":"SUM(Calendrier!O44)","v":0},0,{"$f":"SUM(Calendrier!Q44)","v":"2018-03-09"},{"$f":"SUM(Calendrier!R44)","v":"2018-03-09"},{"$f":"SUM(Calendrier!S44)","v":1},{"$f":"SUM(Calendrier!T44)","v":"00:00:00"},{"$f":"SUM(Calendrier!U44)","v":0},{"$f":"SUM(Calendrier!V44)","v":0},{"$f":"SUM(Calendrier!W44)","v":"00:00:00"},{"$f":"SUM(Calendrier!X44)","v":0},0,0,0,"\u007f"]
["Déblais","Plan cinématique des stocks par famille - Indice 6",1,{"$f":"SUM(Calendrier!K45)","v":"00:00:00"},{"$f":"SUM(Calendrier!L45)","v":"00:00:00"},{"$f":"SUM(Calendrier!M45)","v":0},{"$f":"SUM(Calendrier!N45)","v":0},{"$f":"SUM(Calendrier!O45)","v":0},0,{"$f":"SUM(Calendrier!Q45)","v":"2018-03-09"},{"$f":"SUM(Calendrier!R45)","v":"2018-03-09"},{"$f":"SUM(Calendrier!S45)","v":1},{"$f":"SUM(Calendrier!T45)","v":"00:00:00"},{"$f":"SUM(Calendrier!U45)","v":0},{"$f":"SUM(Calendrier!V45)","v":0},{"$f":"SUM(Calendrier!W45)","v":"00:00:00"},{"$f":"SUM(Calendrier!X45)","v":0},0,0,0,"\u007f"]
["Déblais","Levée du Point d'Arrêt \"Déblais\"","MOE",{"$f":"SUM(Calendrier!K46)","v":"00:00:00"},{"$f":"SUM(Calendrier!L46)","v":"00:00:00"},{"$f":"SUM(Calendrier!M46)","v":0},{"$f":"SUM(Calendrier!N46)","v":0},{"$f":"SUM(Calendrier!O46)","v":0},0,{"$f":"SUM(Calendrier!Q46)","v":"2018-03-09"},{"$f":"SUM(Calendrier!R46)","v":"2018-03-09"},{"$f":"SUM(Calendrier!S46)","v":1},{"$f":"SUM(Calendrier!T46)","v":"00:00:00"},{"$f":"SUM(Calendrier!U46)","v":0},{"$f":"SUM(Calendrier!V46)","v":0},{"$f":"SUM(Calendrier!W46)","v":"00:00:00"},{"$f":"SUM(Calendrier!X46)","v":0},0,0,0,"\u007f"]
["Préparation Couverture casier 7.2","Compactage des Sol(s)-support du DEDG de Couverture",1,{"$f":"SUM(Calendrier!K48)","v":"00:00:00"},{"$f":"SUM(Calendrier!L48)","v":"00:00:00"},{"$f":"SUM(Calendrier!M48)","v":0},{"$f":"SUM(Calendrier!N48)","v":0},{"$f":"SUM(Calendrier!O48)","v":0},0,{"$f":"SUM(Calendrier!Q48)","v":"2018-03-09"},{"$f":"SUM(Calendrier!R48)","v":"2018-03-09"},{"$f":"SUM(Calendrier!S48)","v":1},{"$f":"SUM(Calendrier!T48)","v":"00:00:00"},{"$f":"SUM(Calendrier!U48)","v":0},{"$f":"SUM(Calendrier!V48)","v":0},{"$f":"SUM(Calendrier!W48)","v":"00:00:00"},{"$f":"SUM(Calendrier!X48)","v":0},0,0,0,"\u007f"]
["Préparation Couverture casier 7.2","Contrôle externe de type \"Couverture argileuse\"",1,{"$f":"SUM(Calendrier!K49)","v":"00:00:00"},{"$f":"SUM(Calendrier!L49)","v":"00:00:00"},{"$f":"SUM(Calendrier!M49)","v":0},{"$f":"SUM(Calendrier!N49)","v":0},{"$f":"SUM(Calendrier!O49)","v":0},0,{"$f":"SUM(Calendrier!Q49)","v":"2018-03-09"},{"$f":"SUM(Calendrier!R49)","v":"2018-03-09"},{"$f":"SUM(Calendrier!S49)","v":1},{"$f":"SUM(Calendrier!T49)","v":"00:00:00"},{"$f":"SUM(Calendrier!U49)","v":0},{"$f":"SUM(Calendrier!V49)","v":0},{"$f":"SUM(Calendrier!W49)","v":"00:00:00"},{"$f":"SUM(Calendrier!X49)","v":0},0,0,0,"\u007f"]
["Préparation Couverture casier 7.2","Contrôle extérieur de type \"Couverture argileuse\"","EXT",{"$f":"SUM(Calendrier!K50)","v":"00:00:00"},{"$f":"SUM(Calendrier!L50)","v":"00:00:00"},{"$f":"SUM(Calendrier!M50)","v":0},{"$f":"SUM(Calendrier!N50)","v":0},{"$f":"SUM(Calendrier!O50)","v":0},0,{"$f":"SUM(Calendrier!Q50)","v":"2018-03-09"},{"$f":"SUM(Calendrier!R50)","v":"2018-03-09"},{"$f":"SUM(Calendrier!S50)","v":1},{"$f":"SUM(Calendrier!T50)","v":"00:00:00"},{"$f":"SUM(Calendrier!U50)","v":0},{"$f":"SUM(Calendrier!V50)","v":0},{"$f":"SUM(Calendrier!W50)","v":"00:00:00"},{"$f":"SUM(Calendrier!X50)","v":0},0,0,0,"\u007f"]
["Préparation Couverture casier 7.2","Réception du Sol(s)-support du DEDG de Couverture","MOE",{"$f":"SUM(Calendrier!K51)","v":"00:00:00"},{"$f":"SUM(Calendrier!L51)","v":"00:00:00"},{"$f":"SUM(Calendrier!M51)","v":0},{"$f":"SUM(Calendrier!N51)","v":0},{"$f":"SUM(Calendrier!O51)","v":0},0,{"$f":"SUM(Calendrier!Q51)","v":"2018-03-09"},{"$f":"SUM(Calendrier!R51)","v":"2018-03-09"},{"$f":"SUM(Calendrier!S51)","v":1},{"$f":"SUM(Calendrier!T51)","v":"00:00:00"},{"$f":"SUM(Calendrier!U51)","v":0},{"$f":"SUM(Calendrier!V51)","v":0},{"$f":"SUM(Calendrier!W51)","v":"00:00:00"},{"$f":"SUM(Calendrier!X51)","v":0},0,0,0,"\u007f"]
["Préparation Couverture casier 7.2","Levée du Point d'Arrêt \"Sol(s)-support du DEDG de Couverture du casier 7.2","MOE",{"$f":"SUM(Calendrier!K52)","v":"00:00:00"},{"$f":"SUM(Calendrier!L52)","v":"00:00:00"},{"$f":"SUM(Calendrier!M52)","v":0},{"$f":"SUM(Calendrier!N52)","v":0},{"$f":"SUM(Calendrier!O52)","v":0},0,{"$f":"SUM(Calendrier!Q52)","v":"2018-03-09"},{"$f":"SUM(Calendrier!R52)","v":"2018-03-09"},{"$f":"SUM(Calendrier!S52)","v":1},{"$f":"SUM(Calendrier!T52)","v":"00:00:00"},{"$f":"SUM(Calendrier!U52)","v":0},{"$f":"SUM(Calendrier!V52)","v":0},{"$f":"SUM(Calendrier!W52)","v":"00:00:00"},{"$f":"SUM(Calendrier!X52)","v":0},0,0,0,"\u007f"]
["Biogaz Zone Nord","Préparation du réseau de biogaz Zone Nord du casier 7.2",3,{"$f":"SUM(Calendrier!K54)","v":"00:00:00"},{"$f":"SUM(Calendrier!L54)","v":"00:00:00"},{"$f":"SUM(Calendrier!M54)","v":0},{"$f":"SUM(Calendrier!N54)","v":0},{"$f":"SUM(Calendrier!O54)","v":0},0,{"$f":"SUM(Calendrier!Q54)","v":"2018-03-09"},{"$f":"SUM(Calendrier!R54)","v":"2018-03-09"},{"$f":"SUM(Calendrier!S54)","v":1},{"$f":"SUM(Calendrier!T54)","v":"00:00:00"},{"$f":"SUM(Calendrier!U54)","v":0},{"$f":"SUM(Calendrier!V54)","v":0},{"$f":"SUM(Calendrier!W54)","v":"00:00:00"},{"$f":"SUM(Calendrier!X54)","v":0},0,0,0,"\u007f"]
["Etat des lieux Lot 2","Constat d'Etat des lieux contradictoire","MOE",{"$f":"SUM(Calendrier!K56)","v":"00:00:00"},{"$f":"SUM(Calendrier!L56)","v":"00:00:00"},{"$f":"SUM(Calendrier!M56)","v":0},{"$f":"SUM(Calendrier!N56)","v":0},{"$f":"SUM(Calendrier!O56)","v":0},0,{"$f":"SUM(Calendrier!Q56)","v":"2018-03-09"},{"$f":"SUM(Calendrier!R56)","v":"2018-03-09"},{"$f":"SUM(Calendrier!S56)","v":1},{"$f":"SUM(Calendrier!T56)","v":"00:00:00"},{"$f":"SUM(Calendrier!U56)","v":0},{"$f":"SUM(Calendrier!V56)","v":0},{"$f":"SUM(Calendrier!W56)","v":"00:00:00"},{"$f":"SUM(Calendrier!X56)","v":0},0,0,0,"\u007f"]
["Déploiement Lot 2","Mise en place des installations de chantier",2,{"$f":"SUM(Calendrier!K58)","v":"00:00:00"},{"$f":"SUM(Calendrier!L58)","v":"00:00:00"},{"$f":"SUM(Calendrier!M58)","v":0},{"$f":"SUM(Calendrier!N58)","v":0},{"$f":"SUM(Calendrier!O58)","v":0},0,{"$f":"SUM(Calendrier!Q58)","v":"2018-03-09"},{"$f":"SUM(Calendrier!R58)","v":"2018-03-09"},{"$f":"SUM(Calendrier!S58)","v":1},{"$f":"SUM(Calendrier!T58)","v":"00:00:00"},{"$f":"SUM(Calendrier!U58)","v":0},{"$f":"SUM(Calendrier!V58)","v":0},{"$f":"SUM(Calendrier!W58)","v":"00:00:00"},{"$f":"SUM(Calendrier!X58)","v":0},0,0,0,"\u007f"]
["Déploiement Lot 2","Transferts matériels",2,{"$f":"SUM(Calendrier!K59)","v":"00:00:00"},{"$f":"SUM(Calendrier!L59)","v":"00:00:00"},{"$f":"SUM(Calendrier!M59)","v":0},{"$f":"SUM(Calendrier!N59)","v":0},{"$f":"SUM(Calendrier!O59)","v":0},0,{"$f":"SUM(Calendrier!Q59)","v":"2018-03-09"},{"$f":"SUM(Calendrier!R59)","v":"2018-03-09"},{"$f":"SUM(Calendrier!S59)","v":1},{"$f":"SUM(Calendrier!T59)","v":"00:00:00"},{"$f":"SUM(Calendrier!U59)","v":0},{"$f":"SUM(Calendrier!V59)","v":0},{"$f":"SUM(Calendrier!W59)","v":"00:00:00"},{"$f":"SUM(Calendrier!X59)","v":0},0,0,0,"\u007f"]
["Déploiement Lot 2","Aménagement des pistes d'accès et mise en place signalisation",2,{"$f":"SUM(Calendrier!K60)","v":"00:00:00"},{"$f":"SUM(Calendrier!L60)","v":"00:00:00"},{"$f":"SUM(Calendrier!M60)","v":0},{"$f":"SUM(Calendrier!N60)","v":0},{"$f":"SUM(Calendrier!O60)","v":0},0,{"$f":"SUM(Calendrier!Q60)","v":"2018-03-09"},{"$f":"SUM(Calendrier!R60)","v":"2018-03-09"},{"$f":"SUM(Calendrier!S60)","v":1},{"$f":"SUM(Calendrier!T60)","v":"00:00:00"},{"$f":"SUM(Calendrier!U60)","v":0},{"$f":"SUM(Calendrier!V60)","v":0},{"$f":"SUM(Calendrier!W60)","v":"00:00:00"},{"$f":"SUM(Calendrier!X60)","v":0},0,0,0,"\u007f"]
["Déploiement Lot 2","Aménagement des plateformes de stockage",2,{"$f":"SUM(Calendrier!K61)","v":"00:00:00"},{"$f":"SUM(Calendrier!L61)","v":"00:00:00"},{"$f":"SUM(Calendrier!M61)","v":0},{"$f":"SUM(Calendrier!N61)","v":0},{"$f":"SUM(Calendrier!O61)","v":0},0,{"$f":"SUM(Calendrier!Q61)","v":"2018-03-09"},{"$f":"SUM(Calendrier!R61)","v":"2018-03-09"},{"$f":"SUM(Calendrier!S61)","v":1},{"$f":"SUM(Calendrier!T61)","v":"00:00:00"},{"$f":"SUM(Calendrier!U61)","v":0},{"$f":"SUM(Calendrier!V61)","v":0},{"$f":"SUM(Calendrier!W61)","v":"00:00:00"},{"$f":"SUM(Calendrier!X61)","v":0},0,0,0,"\u007f"]
["Gestion des eaux Lot2","Séquence Pentage-Compactage-Lissage-Pompage Lot 2",2,{"$f":"SUM(Calendrier!K63)","v":"00:00:00"},{"$f":"SUM(Calendrier!L63)","v":"00:00:00"},{"$f":"SUM(Calendrier!M63)","v":0},{"$f":"SUM(Calendrier!N63)","v":0},{"$f":"SUM(Calendrier!O63)","v":0},0,{"$f":"SUM(Calendrier!Q63)","v":"2018-03-09"},{"$f":"SUM(Calendrier!R63)","v":"2018-03-09"},{"$f":"SUM(Calendrier!S63)","v":1},{"$f":"SUM(Calendrier!T63)","v":"00:00:00"},{"$f":"SUM(Calendrier!U63)","v":0},{"$f":"SUM(Calendrier!V63)","v":0},{"$f":"SUM(Calendrier!W63)","v":"00:00:00"},{"$f":"SUM(Calendrier!X63)","v":0},0,0,0,"\u007f"]
["Fourniture des Géosynthétiques","Livraison des fournitures",2,{"$f":"SUM(Calendrier!K65)","v":"00:00:00"},{"$f":"SUM(Calendrier!L65)","v":"00:00:00"},{"$f":"SUM(Calendrier!M65)","v":0},{"$f":"SUM(Calendrier!N65)","v":0},{"$f":"SUM(Calendrier!O65)","v":0},0,{"$f":"SUM(Calendrier!Q65)","v":"2018-03-09"},{"$f":"SUM(Calendrier!R65)","v":"2018-03-09"},{"$f":"SUM(Calendrier!S65)","v":1},{"$f":"SUM(Calendrier!T65)","v":"00:00:00"},{"$f":"SUM(Calendrier!U65)","v":0},{"$f":"SUM(Calendrier!V65)","v":0},{"$f":"SUM(Calendrier!W65)","v":"00:00:00"},{"$f":"SUM(Calendrier!X65)","v":0},0,0,0,"\u007f"]
["Fourniture des Géosynthétiques","Résultats de conformité / responsable du contrôle interne",2,{"$f":"SUM(Calendrier!K66)","v":"00:00:00"},{"$f":"SUM(Calendrier!L66)","v":"00:00:00"},{"$f":"SUM(Calendrier!M66)","v":0},{"$f":"SUM(Calendrier!N66)","v":0},{"$f":"SUM(Calendrier!O66)","v":0},0,{"$f":"SUM(Calendrier!Q66)","v":"2018-03-09"},{"$f":"SUM(Calendrier!R66)","v":"2018-03-09"},{"$f":"SUM(Calendrier!S66)","v":1},{"$f":"SUM(Calendrier!T66)","v":"00:00:00"},{"$f":"SUM(Calendrier!U66)","v":0},{"$f":"SUM(Calendrier!V66)","v":0},{"$f":"SUM(Calendrier!W66)","v":"00:00:00"},{"$f":"SUM(Calendrier!X66)","v":0},0,0,0,"\u007f"]
["Fourniture des Géosynthétiques","Résultats de conformité / responsable du contrôle extérieur","EXT",{"$f":"SUM(Calendrier!K67)","v":"00:00:00"},{"$f":"SUM(Calendrier!L67)","v":"00:00:00"},{"$f":"SUM(Calendrier!M67)","v":0},{"$f":"SUM(Calendrier!N67)","v":0},{"$f":"SUM(Calendrier!O67)","v":0},0,{"$f":"SUM(Calendrier!Q67)","v":"2018-03-09"},{"$f":"SUM(Calendrier!R67)","v":"2018-03-09"},{"$f":"SUM(Calendrier!S67)","v":1},{"$f":"SUM(Calendrier!T67)","v":"00:00:00"},{"$f":"SUM(Calendrier!U67)","v":0},{"$f":"SUM(Calendrier!V67)","v":0},{"$f":"SUM(Calendrier!W67)","v":"00:00:00"},{"$f":"SUM(Calendrier!X67)","v":0},0,0,0,"\u007f"]
["Fourniture des Géosynthétiques","Réception des géosynthétiques par le MO","MOE",{"$f":"SUM(Calendrier!K68)","v":"00:00:00"},{"$f":"SUM(Calendrier!L68)","v":"00:00:00"},{"$f":"SUM(Calendrier!M68)","v":0},{"$f":"SUM(Calendrier!N68)","v":0},{"$f":"SUM(Calendrier!O68)","v":0},0,{"$f":"SUM(Calendrier!Q68)","v":"2018-03-09"},{"$f":"SUM(Calendrier!R68)","v":"2018-03-09"},{"$f":"SUM(Calendrier!S68)","v":1},{"$f":"SUM(Calendrier!T68)","v":"00:00:00"},{"$f":"SUM(Calendrier!U68)","v":0},{"$f":"SUM(Calendrier!V68)","v":0},{"$f":"SUM(Calendrier!W68)","v":"00:00:00"},{"$f":"SUM(Calendrier!X68)","v":0},0,0,0,"\u007f"]
["DEDG Couverture Zone Nord","Partie inférieure de la Géogrille Zone Nord",2,{"$f":"SUM(Calendrier!K70)","v":"00:00:00"},{"$f":"SUM(Calendrier!L70)","v":"00:00:00"},{"$f":"SUM(Calendrier!M70)","v":0},{"$f":"SUM(Calendrier!N70)","v":0},{"$f":"SUM(Calendrier!O70)","v":0},0,{"$f":"SUM(Calendrier!Q70)","v":"2018-03-09"},{"$f":"SUM(Calendrier!R70)","v":"2018-03-09"},{"$f":"SUM(Calendrier!S70)","v":1},{"$f":"SUM(Calendrier!T70)","v":"00:00:00"},{"$f":"SUM(Calendrier!U70)","v":0},{"$f":"SUM(Calendrier!V70)","v":0},{"$f":"SUM(Calendrier!W70)","v":"00:00:00"},{"$f":"SUM(Calendrier!X70)","v":0},0,0,0,"\u007f"]
["DEDG Couverture Zone Nord","Contrôle interne de type \"Géogrille\"",2,{"$f":"SUM(Calendrier!K71)","v":"00:00:00"},{"$f":"SUM(Calendrier!L71)","v":"00:00:00"},{"$f":"SUM(Calendrier!M71)","v":0},{"$f":"SUM(Calendrier!N71)","v":0},{"$f":"SUM(Calendrier!O71)","v":0},0,{"$f":"SUM(Calendrier!Q71)","v":"2018-03-09"},{"$f":"SUM(Calendrier!R71)","v":"2018-03-09"},{"$f":"SUM(Calendrier!S71)","v":1},{"$f":"SUM(Calendrier!T71)","v":"00:00:00"},{"$f":"SUM(Calendrier!U71)","v":0},{"$f":"SUM(Calendrier!V71)","v":0},{"$f":"SUM(Calendrier!W71)","v":"00:00:00"},{"$f":"SUM(Calendrier!X71)","v":0},0,0,0,"\u007f"]
["DEDG Couverture Zone Nord","Contrôle extérieur de type \"Géogrille\"","EXT",{"$f":"SUM(Calendrier!K72)","v":"00:00:00"},{"$f":"SUM(Calendrier!L72)","v":"00:00:00"},{"$f":"SUM(Calendrier!M72)","v":0},{"$f":"SUM(Calendrier!N72)","v":0},{"$f":"SUM(Calendrier!O72)","v":0},0,{"$f":"SUM(Calendrier!Q72)","v":"2018-03-09"},{"$f":"SUM(Calendrier!R72)","v":"2018-03-09"},{"$f":"SUM(Calendrier!S72)","v":1},{"$f":"SUM(Calendrier!T72)","v":"00:00:00"},{"$f":"SUM(Calendrier!U72)","v":0},{"$f":"SUM(Calendrier!V72)","v":0},{"$f":"SUM(Calendrier!W72)","v":"00:00:00"},{"$f":"SUM(Calendrier!X72)","v":0},0,0,0,"\u007f"]
["DEDG Couverture Zone Nord","GMB 1,5 mm + Fossés étanchés de la zone Nord",2,{"$f":"SUM(Calendrier!K73)","v":"00:00:00"},{"$f":"SUM(Calendrier!L73)","v":"00:00:00"},{"$f":"SUM(Calendrier!M73)","v":0},{"$f":"SUM(Calendrier!N73)","v":0},{"$f":"SUM(Calendrier!O73)","v":0},0,{"$f":"SUM(Calendrier!Q73)","v":"2018-03-09"},{"$f":"SUM(Calendrier!R73)","v":"2018-03-09"},{"$f":"SUM(Calendrier!S73)","v":1},{"$f":"SUM(Calendrier!T73)","v":"00:00:00"},{"$f":"SUM(Calendrier!U73)","v":0},{"$f":"SUM(Calendrier!V73)","v":0},{"$f":"SUM(Calendrier!W73)","v":"00:00:00"},{"$f":"SUM(Calendrier!X73)","v":0},0,0,0,"\u007f"]
["DEDG Couverture Zone Nord","Contrôle interne de type \"Géomembrane PEHD\"",2,{"$f":"SUM(Calendrier!K74)","v":"00:00:00"},{"$f":"SUM(Calendrier!L74)","v":"00:00:00"},{"$f":"SUM(Calendrier!M74)","v":0},{"$f":"SUM(Calendrier!N74)","v":0},{"$f":"SUM(Calendrier!O74)","v":0},0,{"$f":"SUM(Calendrier!Q74)","v":"2018-03-09"},{"$f":"SUM(Calendrier!R74)","v":"2018-03-09"},{"$f":"SUM(Calendrier!S74)","v":1},{"$f":"SUM(Calendrier!T74)","v":"00:00:00"},{"$f":"SUM(Calendrier!U74)","v":0},{"$f":"SUM(Calendrier!V74)","v":0},{"$f":"SUM(Calendrier!W74)","v":"00:00:00"},{"$f":"SUM(Calendrier!X74)","v":0},0,0,0,"\u007f"]
["DEDG Couverture Zone Nord","Contrôle extérieur de type \"Géomembrane PEHD\"","EXT",{"$f":"SUM(Calendrier!K75)","v":"00:00:00"},{"$f":"SUM(Calendrier!L75)","v":"00:00:00"},{"$f":"SUM(Calendrier!M75)","v":0},{"$f":"SUM(Calendrier!N75)","v":0},{"$f":"SUM(Calendrier!O75)","v":0},{"$f":"SUM(G54+H54)","v":0},{"$f":"SUM(Calendrier!Q75)","v":"2018-03-09"},{"$f":"SUM(Calendrier!R75)","v":"2018-03-09"},{"$f":"SUM(Calendrier!S75)","v":1},{"$f":"SUM(Calendrier!T75)","v":"00:00:00"},{"$f":"SUM(Calendrier!U75)","v":0},{"$f":"SUM(Calendrier!V75)","v":0},{"$f":"SUM(Calendrier!W75)","v":"00:00:00"},{"$f":"SUM(Calendrier!X75)","v":0},0,0,0,"\u007f"]
["DEDG Couverture Zone Nord","Application du plan de calepinage Géocomposite de drainage",2,{"$f":"SUM(Calendrier!K76)","v":"00:00:00"},{"$f":"SUM(Calendrier!L76)","v":"00:00:00"},{"$f":"SUM(Calendrier!M76)","v":0},{"$f":"SUM(Calendrier!N76)","v":0},{"$f":"SUM(Calendrier!O76)","v":0},0,{"$f":"SUM(Calendrier!Q76)","v":"2018-03-09"},{"$f":"SUM(Calendrier!R76)","v":"2018-03-09"},{"$f":"SUM(Calendrier!S76)","v":1},{"$f":"SUM(Calendrier!T76)","v":"00:00:00"},{"$f":"SUM(Calendrier!U76)","v":0},{"$f":"SUM(Calendrier!V76)","v":0},{"$f":"SUM(Calendrier!W76)","v":"00:00:00"},{"$f":"SUM(Calendrier!X76)","v":0},0,0,0,"\u007f"]
["DEDG Couverture Zone Nord","Contrôle interne de type \"Géocomposite de drainage \"",2,{"$f":"SUM(Calendrier!K77)","v":"00:00:00"},{"$f":"SUM(Calendrier!L77)","v":"00:00:00"},{"$f":"SUM(Calendrier!M77)","v":0},{"$f":"SUM(Calendrier!N77)","v":0},{"$f":"SUM(Calendrier!O77)","v":0},0,{"$f":"SUM(Calendrier!Q77)","v":"2018-03-09"},{"$f":"SUM(Calendrier!R77)","v":"2018-03-09"},{"$f":"SUM(Calendrier!S77)","v":1},{"$f":"SUM(Calendrier!T77)","v":"00:00:00"},{"$f":"SUM(Calendrier!U77)","v":0},{"$f":"SUM(Calendrier!V77)","v":0},{"$f":"SUM(Calendrier!W77)","v":"00:00:00"},{"$f":"SUM(Calendrier!X77)","v":0},0,0,0,"\u007f"]
["DEDG Couverture Zone Nord","Contrôle extérieur de type \"Géocomposite de drainage \"","EXT",{"$f":"SUM(Calendrier!K78)","v":"00:00:00"},{"$f":"SUM(Calendrier!L78)","v":"00:00:00"},{"$f":"SUM(Calendrier!M78)","v":0},{"$f":"SUM(Calendrier!N78)","v":0},{"$f":"SUM(Calendrier!O78)","v":0},0,{"$f":"SUM(Calendrier!Q78)","v":"2018-03-09"},{"$f":"SUM(Calendrier!R78)","v":"2018-03-09"},{"$f":"SUM(Calendrier!S78)","v":1},{"$f":"SUM(Calendrier!T78)","v":"00:00:00"},{"$f":"SUM(Calendrier!U78)","v":0},{"$f":"SUM(Calendrier!V78)","v":0},{"$f":"SUM(Calendrier!W78)","v":"00:00:00"},{"$f":"SUM(Calendrier!X78)","v":0},0,0,0,"\u007f"]
["Matériaux argileux Zone Nord","Réception du Sol(s)-support des matériaux argileux (70cm)","MOE",{"$f":"SUM(Calendrier!K80)","v":"00:00:00"},{"$f":"SUM(Calendrier!L80)","v":"00:00:00"},{"$f":"SUM(Calendrier!M80)","v":0},{"$f":"SUM(Calendrier!N80)","v":0},{"$f":"SUM(Calendrier!O80)","v":0},0,{"$f":"SUM(Calendrier!Q80)","v":"2018-03-09"},{"$f":"SUM(Calendrier!R80)","v":"2018-03-09"},{"$f":"SUM(Calendrier!S80)","v":1},{"$f":"SUM(Calendrier!T80)","v":"00:00:00"},{"$f":"SUM(Calendrier!U80)","v":0},{"$f":"SUM(Calendrier!V80)","v":0},{"$f":"SUM(Calendrier!W80)","v":"00:00:00"},{"$f":"SUM(Calendrier!X80)","v":0},0,0,0,"\u007f"]
["Matériaux argileux Zone Nord","Planche d'essais de mise en œuvre et compactage",1,{"$f":"SUM(Calendrier!K81)","v":"00:00:00"},{"$f":"SUM(Calendrier!L81)","v":"00:00:00"},{"$f":"SUM(Calendrier!M81)","v":0},{"$f":"SUM(Calendrier!N81)","v":0},{"$f":"SUM(Calendrier!O81)","v":0},0,{"$f":"SUM(Calendrier!Q81)","v":"2018-03-09"},{"$f":"SUM(Calendrier!R81)","v":"2018-03-09"},{"$f":"SUM(Calendrier!S81)","v":1},{"$f":"SUM(Calendrier!T81)","v":"00:00:00"},{"$f":"SUM(Calendrier!U81)","v":0},{"$f":"SUM(Calendrier!V81)","v":0},{"$f":"SUM(Calendrier!W81)","v":"00:00:00"},{"$f":"SUM(Calendrier!X81)","v":0},0,0,0,"\u007f"]
["Matériaux argileux Zone Nord","Levée du Point d'Arrêt Transmission du Rapport de planche d'essais / Couverture du casier 7.2 = Matériaux argileux (70 cm)","MOE",{"$f":"SUM(Calendrier!K82)","v":"00:00:00"},{"$f":"SUM(Calendrier!L82)","v":"00:00:00"},{"$f":"SUM(Calendrier!M82)","v":0},{"$f":"SUM(Calendrier!N82)","v":0},{"$f":"SUM(Calendrier!O82)","v":0},0,{"$f":"SUM(Calendrier!Q82)","v":"2018-03-09"},{"$f":"SUM(Calendrier!R82)","v":"2018-03-09"},{"$f":"SUM(Calendrier!S82)","v":1},{"$f":"SUM(Calendrier!T82)","v":"00:00:00"},{"$f":"SUM(Calendrier!U82)","v":0},{"$f":"SUM(Calendrier!V82)","v":0},{"$f":"SUM(Calendrier!W82)","v":"00:00:00"},{"$f":"SUM(Calendrier!X82)","v":0},0,0,0,"\u007f"]
["Matériaux argileux Zone Nord","Matériaux argileux (70 cm) Couverture Zone Nord du casier 7.2",1,{"$f":"SUM(Calendrier!K83)","v":"00:00:00"},{"$f":"SUM(Calendrier!L83)","v":"00:00:00"},{"$f":"SUM(Calendrier!M83)","v":0},{"$f":"SUM(Calendrier!N83)","v":0},{"$f":"SUM(Calendrier!O83)","v":0},0,{"$f":"SUM(Calendrier!Q83)","v":"2018-03-09"},{"$f":"SUM(Calendrier!R83)","v":"2018-03-09"},{"$f":"SUM(Calendrier!S83)","v":1},{"$f":"SUM(Calendrier!T83)","v":"00:00:00"},{"$f":"SUM(Calendrier!U83)","v":0},{"$f":"SUM(Calendrier!V83)","v":0},{"$f":"SUM(Calendrier!W83)","v":"00:00:00"},{"$f":"SUM(Calendrier!X83)","v":0},0,0,0,"\u007f"]
["Matériaux argileux Zone Nord","Contrôle externe de type \"Couverture argileuse\"",1,{"$f":"SUM(Calendrier!K84)","v":"00:00:00"},{"$f":"SUM(Calendrier!L84)","v":"00:00:00"},{"$f":"SUM(Calendrier!M84)","v":0},{"$f":"SUM(Calendrier!N84)","v":0},{"$f":"SUM(Calendrier!O84)","v":0},0,{"$f":"SUM(Calendrier!Q84)","v":"2018-03-09"},{"$f":"SUM(Calendrier!R84)","v":"2018-03-09"},{"$f":"SUM(Calendrier!S84)","v":1},{"$f":"SUM(Calendrier!T84)","v":"00:00:00"},{"$f":"SUM(Calendrier!U84)","v":0},{"$f":"SUM(Calendrier!V84)","v":0},{"$f":"SUM(Calendrier!W84)","v":"00:00:00"},{"$f":"SUM(Calendrier!X84)","v":0},0,0,0,"\u007f"]
["Matériaux argileux Zone Nord","Contrôle extérieur de type \"Couverture argileuse\"","EXT",{"$f":"SUM(Calendrier!K85)","v":"00:00:00"},{"$f":"SUM(Calendrier!L85)","v":"00:00:00"},{"$f":"SUM(Calendrier!M85)","v":0},{"$f":"SUM(Calendrier!N85)","v":0},{"$f":"SUM(Calendrier!O85)","v":0},0,{"$f":"SUM(Calendrier!Q85)","v":"2018-03-09"},{"$f":"SUM(Calendrier!R85)","v":"2018-03-09"},{"$f":"SUM(Calendrier!S85)","v":1},{"$f":"SUM(Calendrier!T85)","v":"00:00:00"},{"$f":"SUM(Calendrier!U85)","v":0},{"$f":"SUM(Calendrier!V85)","v":0},{"$f":"SUM(Calendrier!W85)","v":"00:00:00"},{"$f":"SUM(Calendrier!X85)","v":0},0,0,0,"\u007f"]
["Matériaux argileux Zone Nord","Plan cinématique des stocks par famille - Indice 2",1,{"$f":"SUM(Calendrier!K86)","v":"00:00:00"},{"$f":"SUM(Calendrier!L86)","v":"00:00:00"},{"$f":"SUM(Calendrier!M86)","v":0},{"$f":"SUM(Calendrier!N86)","v":0},{"$f":"SUM(Calendrier!O86)","v":0},0,{"$f":"SUM(Calendrier!Q86)","v":"2018-03-09"},{"$f":"SUM(Calendrier!R86)","v":"2018-03-09"},{"$f":"SUM(Calendrier!S86)","v":1},{"$f":"SUM(Calendrier!T86)","v":"00:00:00"},{"$f":"SUM(Calendrier!U86)","v":0},{"$f":"SUM(Calendrier!V86)","v":0},{"$f":"SUM(Calendrier!W86)","v":"00:00:00"},{"$f":"SUM(Calendrier!X86)","v":0},0,0,0,"\u007f"]
["Matériaux argileux Zone Nord","Levée du Point d'Arrêt \"Remblais / Couverture du casier 7.2 = Matériaux argileux (70 cm)-Zone Nord\"","MOE",{"$f":"SUM(Calendrier!K87)","v":"00:00:00"},{"$f":"SUM(Calendrier!L87)","v":"00:00:00"},{"$f":"SUM(Calendrier!M87)","v":0},{"$f":"SUM(Calendrier!N87)","v":0},{"$f":"SUM(Calendrier!O87)","v":0},0,{"$f":"SUM(Calendrier!Q87)","v":"2018-03-09"},{"$f":"SUM(Calendrier!R87)","v":"2018-03-09"},{"$f":"SUM(Calendrier!S87)","v":1},{"$f":"SUM(Calendrier!T87)","v":"00:00:00"},{"$f":"SUM(Calendrier!U87)","v":0},{"$f":"SUM(Calendrier!V87)","v":0},{"$f":"SUM(Calendrier!W87)","v":"00:00:00"},{"$f":"SUM(Calendrier!X87)","v":0},0,0,0,"\u007f"]
["Biogaz Zones Nord et Sud","Mise en service du réseau de biogaz Zone Nord du casier 7.2",3,{"$f":"SUM(Calendrier!K89)","v":"00:00:00"},{"$f":"SUM(Calendrier!L89)","v":"00:00:00"},{"$f":"SUM(Calendrier!M89)","v":0},{"$f":"SUM(Calendrier!N89)","v":0},{"$f":"SUM(Calendrier!O89)","v":0},0,{"$f":"SUM(Calendrier!Q89)","v":"2018-03-09"},{"$f":"SUM(Calendrier!R89)","v":"2018-03-09"},{"$f":"SUM(Calendrier!S89)","v":1},{"$f":"SUM(Calendrier!T89)","v":"00:00:00"},{"$f":"SUM(Calendrier!U89)","v":0},{"$f":"SUM(Calendrier!V89)","v":0},{"$f":"SUM(Calendrier!W89)","v":"00:00:00"},{"$f":"SUM(Calendrier!X89)","v":0},0,0,0,"\u007f"]
["Biogaz Zones Nord et Sud","Mise en préparation du réseau de biogaz Zone Sud du casier 7.2",3,{"$f":"SUM(Calendrier!K90)","v":"00:00:00"},{"$f":"SUM(Calendrier!L90)","v":"00:00:00"},{"$f":"SUM(Calendrier!M90)","v":0},{"$f":"SUM(Calendrier!N90)","v":0},{"$f":"SUM(Calendrier!O90)","v":0},0,{"$f":"SUM(Calendrier!Q90)","v":"2018-03-09"},{"$f":"SUM(Calendrier!R90)","v":"2018-03-09"},{"$f":"SUM(Calendrier!S90)","v":1},{"$f":"SUM(Calendrier!T90)","v":"00:00:00"},{"$f":"SUM(Calendrier!U90)","v":0},{"$f":"SUM(Calendrier!V90)","v":0},{"$f":"SUM(Calendrier!W90)","v":"00:00:00"},{"$f":"SUM(Calendrier!X90)","v":0},{"$f":"SUM(G67+N67)","v":0},{"$f":"SUM(H67+O67)","v":0},{"$f":"SUM(R67:S67)","v":0},{"$f":"IF(M67=0,\"\u007f\",IF(S67=0,\"P\",IF(S67>2,\"Ð\",IF(AND(S67>0,S67<3),\"¯\"))))","v":"\u007f"}]
["Merlons paysagers","Merlon paysager Nord",1,{"$f":"SUM(Calendrier!K92)","v":"00:00:00"},{"$f":"SUM(Calendrier!L92)","v":"00:00:00"},{"$f":"SUM(Calendrier!M92)","v":0},{"$f":"SUM(Calendrier!N92)","v":0},{"$f":"SUM(Calendrier!O92)","v":0},0,{"$f":"SUM(Calendrier!Q92)","v":"2018-03-09"},{"$f":"SUM(Calendrier!R92)","v":"2018-03-09"},{"$f":"SUM(Calendrier!S92)","v":1},{"$f":"SUM(Calendrier!T92)","v":"00:00:00"},{"$f":"SUM(Calendrier!U92)","v":0},{"$f":"SUM(Calendrier!V92)","v":0},{"$f":"SUM(Calendrier!W92)","v":"00:00:00"},{"$f":"SUM(Calendrier!X92)","v":0},0,0,0,"\u007f"]
["Merlons paysagers","Merlon paysager Sud",1,{"$f":"SUM(Calendrier!K93)","v":"00:00:00"},{"$f":"SUM(Calendrier!L93)","v":"00:00:00"},{"$f":"SUM(Calendrier!M93)","v":0},{"$f":"SUM(Calendrier!N93)","v":0},{"$f":"SUM(Calendrier!O93)","v":0},0,{"$f":"SUM(Calendrier!Q93)","v":"2018-03-09"},{"$f":"SUM(Calendrier!R93)","v":"2018-03-09"},{"$f":"SUM(Calendrier!S93)","v":1},{"$f":"SUM(Calendrier!T93)","v":"00:00:00"},{"$f":"SUM(Calendrier!U93)","v":0},{"$f":"SUM(Calendrier!V93)","v":0},{"$f":"SUM(Calendrier!W93)","v":"00:00:00"},{"$f":"SUM(Calendrier!X93)","v":0},0,0,0,"\u007f"]
["Merlons paysagers","Contrôle externe de type \"Remblai simple\"",1,{"$f":"SUM(Calendrier!K94)","v":"00:00:00"},{"$f":"SUM(Calendrier!L94)","v":"00:00:00"},{"$f":"SUM(Calendrier!M94)","v":0},{"$f":"SUM(Calendrier!N94)","v":0},{"$f":"SUM(Calendrier!O94)","v":0},0,{"$f":"SUM(Calendrier!Q94)","v":"2018-03-09"},{"$f":"SUM(Calendrier!R94)","v":"2018-03-09"},{"$f":"SUM(Calendrier!S94)","v":1},{"$f":"SUM(Calendrier!T94)","v":"00:00:00"},{"$f":"SUM(Calendrier!U94)","v":0},{"$f":"SUM(Calendrier!V94)","v":0},{"$f":"SUM(Calendrier!W94)","v":"00:00:00"},{"$f":"SUM(Calendrier!X94)","v":0},0,0,0,"\u007f"]
["Merlons paysagers","Contrôle extérieur de type \"Remblai simple\"","EXT",{"$f":"SUM(Calendrier!K95)","v":"00:00:00"},{"$f":"SUM(Calendrier!L95)","v":"00:00:00"},{"$f":"SUM(Calendrier!M95)","v":0},{"$f":"SUM(Calendrier!N95)","v":0},{"$f":"SUM(Calendrier!O95)","v":0},0,{"$f":"SUM(Calendrier!Q95)","v":"2018-03-09"},{"$f":"SUM(Calendrier!R95)","v":"2018-03-09"},{"$f":"SUM(Calendrier!S95)","v":1},{"$f":"SUM(Calendrier!T95)","v":"00:00:00"},{"$f":"SUM(Calendrier!U95)","v":0},{"$f":"SUM(Calendrier!V95)","v":0},{"$f":"SUM(Calendrier!W95)","v":"00:00:00"},{"$f":"SUM(Calendrier!X95)","v":0},0,0,0,"\u007f"]
["Merlons paysagers","Plan cinématique des stocks par famille - Indice 3",1,{"$f":"SUM(Calendrier!K96)","v":"00:00:00"},{"$f":"SUM(Calendrier!L96)","v":"00:00:00"},{"$f":"SUM(Calendrier!M96)","v":0},{"$f":"SUM(Calendrier!N96)","v":0},{"$f":"SUM(Calendrier!O96)","v":0},0,{"$f":"SUM(Calendrier!Q96)","v":"2018-03-09"},{"$f":"SUM(Calendrier!R96)","v":"2018-03-09"},{"$f":"SUM(Calendrier!S96)","v":1},{"$f":"SUM(Calendrier!T96)","v":"00:00:00"},{"$f":"SUM(Calendrier!U96)","v":0},{"$f":"SUM(Calendrier!V96)","v":0},{"$f":"SUM(Calendrier!W96)","v":"00:00:00"},{"$f":"SUM(Calendrier!X96)","v":0},0,0,0,"\u007f"]
["Barrière passive","Planche d'essais Barrière passive",1,{"$f":"SUM(Calendrier!K98)","v":"00:00:00"},{"$f":"SUM(Calendrier!L98)","v":"00:00:00"},{"$f":"SUM(Calendrier!M98)","v":0},{"$f":"SUM(Calendrier!N98)","v":0},{"$f":"SUM(Calendrier!O98)","v":0},0,{"$f":"SUM(Calendrier!Q98)","v":"2018-03-09"},{"$f":"SUM(Calendrier!R98)","v":"2018-03-09"},{"$f":"SUM(Calendrier!S98)","v":1},{"$f":"SUM(Calendrier!T98)","v":"00:00:00"},{"$f":"SUM(Calendrier!U98)","v":0},{"$f":"SUM(Calendrier!V98)","v":0},{"$f":"SUM(Calendrier!W98)","v":"00:00:00"},{"$f":"SUM(Calendrier!X98)","v":0},0,0,0,"\u007f"]
["Barrière passive","Levée du Point d'Arrêt \"Transmission du Rapport de planche d'essais / Barrière passive\"","MOE",{"$f":"SUM(Calendrier!K99)","v":"00:00:00"},{"$f":"SUM(Calendrier!L99)","v":"00:00:00"},{"$f":"SUM(Calendrier!M99)","v":0},{"$f":"SUM(Calendrier!N99)","v":0},{"$f":"SUM(Calendrier!O99)","v":0},0,{"$f":"SUM(Calendrier!Q99)","v":"2018-03-09"},{"$f":"SUM(Calendrier!R99)","v":"2018-03-09"},{"$f":"SUM(Calendrier!S99)","v":1},{"$f":"SUM(Calendrier!T99)","v":"00:00:00"},{"$f":"SUM(Calendrier!U99)","v":0},{"$f":"SUM(Calendrier!V99)","v":0},{"$f":"SUM(Calendrier!W99)","v":"00:00:00"},{"$f":"SUM(Calendrier!X99)","v":0},0,0,0,"\u007f"]
["Barrière passive","Compactage des Sol(s)-support de Barrière Passive",1,{"$f":"SUM(Calendrier!K100)","v":"00:00:00"},{"$f":"SUM(Calendrier!L100)","v":"00:00:00"},{"$f":"SUM(Calendrier!M100)","v":0},{"$f":"SUM(Calendrier!N100)","v":0},{"$f":"SUM(Calendrier!O100)","v":0},0,{"$f":"SUM(Calendrier!Q100)","v":"2018-03-09"},{"$f":"SUM(Calendrier!R100)","v":"2018-03-09"},{"$f":"SUM(Calendrier!S100)","v":1},{"$f":"SUM(Calendrier!T100)","v":"00:00:00"},{"$f":"SUM(Calendrier!U100)","v":0},{"$f":"SUM(Calendrier!V100)","v":0},{"$f":"SUM(Calendrier!W100)","v":"00:00:00"},{"$f":"SUM(Calendrier!X100)","v":0},0,0,0,"\u007f"]
["Barrière passive","Contrôle externe de type \"Barrière passive\"",1,{"$f":"SUM(Calendrier!K101)","v":"00:00:00"},{"$f":"SUM(Calendrier!L101)","v":"00:00:00"},{"$f":"SUM(Calendrier!M101)","v":0},{"$f":"SUM(Calendrier!N101)","v":0},{"$f":"SUM(Calendrier!O101)","v":0},0,{"$f":"SUM(Calendrier!Q101)","v":"2018-03-09"},{"$f":"SUM(Calendrier!R101)","v":"2018-03-09"},{"$f":"SUM(Calendrier!S101)","v":1},{"$f":"SUM(Calendrier!T101)","v":"00:00:00"},{"$f":"SUM(Calendrier!U101)","v":0},{"$f":"SUM(Calendrier!V101)","v":0},{"$f":"SUM(Calendrier!W101)","v":"00:00:00"},{"$f":"SUM(Calendrier!X101)","v":0},0,0,0,"\u007f"]
["Barrière passive","Contrôle extérieur de type \"Barrière passive\"","EXT",{"$f":"SUM(Calendrier!K102)","v":"00:00:00"},{"$f":"SUM(Calendrier!L102)","v":"00:00:00"},{"$f":"SUM(Calendrier!M102)","v":0},{"$f":"SUM(Calendrier!N102)","v":0},{"$f":"SUM(Calendrier!O102)","v":0},0,{"$f":"SUM(Calendrier!Q102)","v":"2018-03-09"},{"$f":"SUM(Calendrier!R102)","v":"2018-03-09"},{"$f":"SUM(Calendrier!S102)","v":1},{"$f":"SUM(Calendrier!T102)","v":"00:00:00"},{"$f":"SUM(Calendrier!U102)","v":0},{"$f":"SUM(Calendrier!V102)","v":0},{"$f":"SUM(Calendrier!W102)","v":"00:00:00"},{"$f":"SUM(Calendrier!X102)","v":0},0,0,0,"\u007f"]
["Barrière passive","Levée du Point d'Arrêt \"Sol(s)-support de la Barrière passive\"","MOE",{"$f":"SUM(Calendrier!K103)","v":"00:00:00"},{"$f":"SUM(Calendrier!L103)","v":"00:00:00"},{"$f":"SUM(Calendrier!M103)","v":0},{"$f":"SUM(Calendrier!N103)","v":0},{"$f":"SUM(Calendrier!O103)","v":0},0,{"$f":"SUM(Calendrier!Q103)","v":"2018-03-09"},{"$f":"SUM(Calendrier!R103)","v":"2018-03-09"},{"$f":"SUM(Calendrier!S103)","v":1},{"$f":"SUM(Calendrier!T103)","v":"00:00:00"},{"$f":"SUM(Calendrier!U103)","v":0},{"$f":"SUM(Calendrier!V103)","v":0},{"$f":"SUM(Calendrier!W103)","v":"00:00:00"},{"$f":"SUM(Calendrier!X103)","v":0},0,0,0,"\u007f"]
["Barrière passive","Risbermes Nord des casiers 8.2 à 8.4",1,{"$f":"SUM(Calendrier!K104)","v":"00:00:00"},{"$f":"SUM(Calendrier!L104)","v":"00:00:00"},{"$f":"SUM(Calendrier!M104)","v":0},{"$f":"SUM(Calendrier!N104)","v":0},{"$f":"SUM(Calendrier!O104)","v":0},0,{"$f":"SUM(Calendrier!Q104)","v":"2018-03-09"},{"$f":"SUM(Calendrier!R104)","v":"2018-03-09"},{"$f":"SUM(Calendrier!S104)","v":1},{"$f":"SUM(Calendrier!T104)","v":"00:00:00"},{"$f":"SUM(Calendrier!U104)","v":0},{"$f":"SUM(Calendrier!V104)","v":0},{"$f":"SUM(Calendrier!W104)","v":"00:00:00"},{"$f":"SUM(Calendrier!X104)","v":0},0,0,0,"\u007f"]
["Barrière passive","Digue de séparation 8.3-8.5",1,{"$f":"SUM(Calendrier!K105)","v":"00:00:00"},{"$f":"SUM(Calendrier!L105)","v":"00:00:00"},{"$f":"SUM(Calendrier!M105)","v":0},{"$f":"SUM(Calendrier!N105)","v":0},{"$f":"SUM(Calendrier!O105)","v":0},0,{"$f":"SUM(Calendrier!Q105)","v":"2018-03-09"},{"$f":"SUM(Calendrier!R105)","v":"2018-03-09"},{"$f":"SUM(Calendrier!S105)","v":1},{"$f":"SUM(Calendrier!T105)","v":"00:00:00"},{"$f":"SUM(Calendrier!U105)","v":0},{"$f":"SUM(Calendrier!V105)","v":0},{"$f":"SUM(Calendrier!W105)","v":"00:00:00"},{"$f":"SUM(Calendrier!X105)","v":0},0,0,0,"\u007f"]
["Barrière passive","Digue périphérique Nord des casiers 8.2 et 8.3",1,{"$f":"SUM(Calendrier!K106)","v":"00:00:00"},{"$f":"SUM(Calendrier!L106)","v":"00:00:00"},{"$f":"SUM(Calendrier!M106)","v":0},{"$f":"SUM(Calendrier!N106)","v":0},{"$f":"SUM(Calendrier!O106)","v":0},0,{"$f":"SUM(Calendrier!Q106)","v":"2018-03-09"},{"$f":"SUM(Calendrier!R106)","v":"2018-03-09"},{"$f":"SUM(Calendrier!S106)","v":1},{"$f":"SUM(Calendrier!T106)","v":"00:00:00"},{"$f":"SUM(Calendrier!U106)","v":0},{"$f":"SUM(Calendrier!V106)","v":0},{"$f":"SUM(Calendrier!W106)","v":"00:00:00"},{"$f":"SUM(Calendrier!X106)","v":0},0,0,0,"\u007f"]
["Barrière passive","Contrôle externe de type \"Barrière passive\"",1,{"$f":"SUM(Calendrier!K107)","v":"00:00:00"},{"$f":"SUM(Calendrier!L107)","v":"00:00:00"},{"$f":"SUM(Calendrier!M107)","v":0},{"$f":"SUM(Calendrier!N107)","v":0},{"$f":"SUM(Calendrier!O107)","v":0},0,{"$f":"SUM(Calendrier!Q107)","v":"2018-03-09"},{"$f":"SUM(Calendrier!R107)","v":"2018-03-09"},{"$f":"SUM(Calendrier!S107)","v":1},{"$f":"SUM(Calendrier!T107)","v":"00:00:00"},{"$f":"SUM(Calendrier!U107)","v":0},{"$f":"SUM(Calendrier!V107)","v":0},{"$f":"SUM(Calendrier!W107)","v":"00:00:00"},{"$f":"SUM(Calendrier!X107)","v":0},0,0,0,"\u007f"]
["Barrière passive","Contrôle extérieur de type \"Barrière passive\"","EXT",{"$f":"SUM(Calendrier!K108)","v":"00:00:00"},{"$f":"SUM(Calendrier!L108)","v":"00:00:00"},{"$f":"SUM(Calendrier!M108)","v":0},{"$f":"SUM(Calendrier!N108)","v":0},{"$f":"SUM(Calendrier!O108)","v":0},0,{"$f":"SUM(Calendrier!Q108)","v":"2018-03-09"},{"$f":"SUM(Calendrier!R108)","v":"2018-03-09"},{"$f":"SUM(Calendrier!S108)","v":1},{"$f":"SUM(Calendrier!T108)","v":"00:00:00"},{"$f":"SUM(Calendrier!U108)","v":0},{"$f":"SUM(Calendrier!V108)","v":0},{"$f":"SUM(Calendrier!W108)","v":"00:00:00"},{"$f":"SUM(Calendrier!X108)","v":0},0,0,0,"\u007f"]
["Barrière passive","Réception du Sol(s)-support du DEDG de(s) Casier(s)","MOE",{"$f":"SUM(Calendrier!K109)","v":"00:00:00"},{"$f":"SUM(Calendrier!L109)","v":"00:00:00"},{"$f":"SUM(Calendrier!M109)","v":0},{"$f":"SUM(Calendrier!N109)","v":0},{"$f":"SUM(Calendrier!O109)","v":0},0,{"$f":"SUM(Calendrier!Q109)","v":"2018-03-09"},{"$f":"SUM(Calendrier!R109)","v":"2018-03-09"},{"$f":"SUM(Calendrier!S109)","v":1},{"$f":"SUM(Calendrier!T109)","v":"00:00:00"},{"$f":"SUM(Calendrier!U109)","v":0},{"$f":"SUM(Calendrier!V109)","v":0},{"$f":"SUM(Calendrier!W109)","v":"00:00:00"},{"$f":"SUM(Calendrier!X109)","v":0},0,0,0,"\u007f"]
["Barrière passive","Levée du Point d'Arrêt \"Remblais spécifiques avec Barrière passive\"","MOE",{"$f":"SUM(Calendrier!K110)","v":"00:00:00"},{"$f":"SUM(Calendrier!L110)","v":"00:00:00"},{"$f":"SUM(Calendrier!M110)","v":0},{"$f":"SUM(Calendrier!N110)","v":0},{"$f":"SUM(Calendrier!O110)","v":0},0,{"$f":"SUM(Calendrier!Q110)","v":"2018-03-09"},{"$f":"SUM(Calendrier!R110)","v":"2018-03-09"},{"$f":"SUM(Calendrier!S110)","v":1},{"$f":"SUM(Calendrier!T110)","v":"00:00:00"},{"$f":"SUM(Calendrier!U110)","v":0},{"$f":"SUM(Calendrier!V110)","v":0},{"$f":"SUM(Calendrier!W110)","v":"00:00:00"},{"$f":"SUM(Calendrier!X110)","v":0},0,0,0,"\u007f"]
["DEDG Couverture Zone Sud","Partie inférieure de la Géogrille Zone Sud",2,{"$f":"SUM(Calendrier!K112)","v":"00:00:00"},{"$f":"SUM(Calendrier!L112)","v":"00:00:00"},{"$f":"SUM(Calendrier!M112)","v":0},{"$f":"SUM(Calendrier!N112)","v":0},{"$f":"SUM(Calendrier!O112)","v":0},0,{"$f":"SUM(Calendrier!Q112)","v":"2018-03-09"},{"$f":"SUM(Calendrier!R112)","v":"2018-03-09"},{"$f":"SUM(Calendrier!S112)","v":1},{"$f":"SUM(Calendrier!T112)","v":"00:00:00"},{"$f":"SUM(Calendrier!U112)","v":0},{"$f":"SUM(Calendrier!V112)","v":0},{"$f":"SUM(Calendrier!W112)","v":"00:00:00"},{"$f":"SUM(Calendrier!X112)","v":0},0,0,0,"\u007f"]
["DEDG Couverture Zone Sud","Contrôle interne de type \"Géogrille\"",2,{"$f":"SUM(Calendrier!K113)","v":"00:00:00"},{"$f":"SUM(Calendrier!L113)","v":"00:00:00"},{"$f":"SUM(Calendrier!M113)","v":0},{"$f":"SUM(Calendrier!N113)","v":0},{"$f":"SUM(Calendrier!O113)","v":0},0,{"$f":"SUM(Calendrier!Q113)","v":"2018-03-09"},{"$f":"SUM(Calendrier!R113)","v":"2018-03-09"},{"$f":"SUM(Calendrier!S113)","v":1},{"$f":"SUM(Calendrier!T113)","v":"00:00:00"},{"$f":"SUM(Calendrier!U113)","v":0},{"$f":"SUM(Calendrier!V113)","v":0},{"$f":"SUM(Calendrier!W113)","v":"00:00:00"},{"$f":"SUM(Calendrier!X113)","v":0},0,0,0,"\u007f"]
["DEDG Couverture Zone Sud","Contrôle extérieur de type \"Géogrille\"","EXT",{"$f":"SUM(Calendrier!K114)","v":"00:00:00"},{"$f":"SUM(Calendrier!L114)","v":"00:00:00"},{"$f":"SUM(Calendrier!M114)","v":0},{"$f":"SUM(Calendrier!N114)","v":0},{"$f":"SUM(Calendrier!O114)","v":0},0,{"$f":"SUM(Calendrier!Q114)","v":"2018-03-09"},{"$f":"SUM(Calendrier!R114)","v":"2018-03-09"},{"$f":"SUM(Calendrier!S114)","v":1},{"$f":"SUM(Calendrier!T114)","v":"00:00:00"},{"$f":"SUM(Calendrier!U114)","v":0},{"$f":"SUM(Calendrier!V114)","v":0},{"$f":"SUM(Calendrier!W114)","v":"00:00:00"},{"$f":"SUM(Calendrier!X114)","v":0},0,0,0,"\u007f"]
["DEDG Couverture Zone Sud","GMB 1,5 mm + Fossés étanchés de la zone Sud + Exutoire existant",2,{"$f":"SUM(Calendrier!K115)","v":"00:00:00"},{"$f":"SUM(Calendrier!L115)","v":"00:00:00"},{"$f":"SUM(Calendrier!M115)","v":0},{"$f":"SUM(Calendrier!N115)","v":0},{"$f":"SUM(Calendrier!O115)","v":0},0,{"$f":"SUM(Calendrier!Q115)","v":"2018-03-09"},{"$f":"SUM(Calendrier!R115)","v":"2018-03-09"},{"$f":"SUM(Calendrier!S115)","v":1},{"$f":"SUM(Calendrier!T115)","v":"00:00:00"},{"$f":"SUM(Calendrier!U115)","v":0},{"$f":"SUM(Calendrier!V115)","v":0},{"$f":"SUM(Calendrier!W115)","v":"00:00:00"},{"$f":"SUM(Calendrier!X115)","v":0},0,0,0,"\u007f"]
["DEDG Couverture Zone Sud","Contrôle interne de type \"Géomembrane PEHD\"",2,{"$f":"SUM(Calendrier!K116)","v":"00:00:00"},{"$f":"SUM(Calendrier!L116)","v":"00:00:00"},{"$f":"SUM(Calendrier!M116)","v":0},{"$f":"SUM(Calendrier!N116)","v":0},{"$f":"SUM(Calendrier!O116)","v":0},0,{"$f":"SUM(Calendrier!Q116)","v":"2018-03-09"},{"$f":"SUM(Calendrier!R116)","v":"2018-03-09"},{"$f":"SUM(Calendrier!S116)","v":1},{"$f":"SUM(Calendrier!T116)","v":"00:00:00"},{"$f":"SUM(Calendrier!U116)","v":0},{"$f":"SUM(Calendrier!V116)","v":0},{"$f":"SUM(Calendrier!W116)","v":"00:00:00"},{"$f":"SUM(Calendrier!X116)","v":0},0,0,0,"\u007f"]
["DEDG Couverture Zone Sud","Contrôle extérieur de type \"Géomembrane PEHD\"","EXT",{"$f":"SUM(Calendrier!K117)","v":"00:00:00"},{"$f":"SUM(Calendrier!L117)","v":"00:00:00"},{"$f":"SUM(Calendrier!M117)","v":0},{"$f":"SUM(Calendrier!N117)","v":0},{"$f":"SUM(Calendrier!O117)","v":0},0,{"$f":"SUM(Calendrier!Q117)","v":"2018-03-09"},{"$f":"SUM(Calendrier!R117)","v":"2018-03-09"},{"$f":"SUM(Calendrier!S117)","v":1},{"$f":"SUM(Calendrier!T117)","v":"00:00:00"},{"$f":"SUM(Calendrier!U117)","v":0},{"$f":"SUM(Calendrier!V117)","v":0},{"$f":"SUM(Calendrier!W117)","v":"00:00:00"},{"$f":"SUM(Calendrier!X117)","v":0},0,0,0,"\u007f"]
["DEDG Couverture Zone Sud","Application du plan de calepinage Géocomposite de drainage",2,{"$f":"SUM(Calendrier!K118)","v":"00:00:00"},{"$f":"SUM(Calendrier!L118)","v":"00:00:00"},{"$f":"SUM(Calendrier!M118)","v":0},{"$f":"SUM(Calendrier!N118)","v":0},{"$f":"SUM(Calendrier!O118)","v":0},0,{"$f":"SUM(Calendrier!Q118)","v":"2018-03-09"},{"$f":"SUM(Calendrier!R118)","v":"2018-03-09"},{"$f":"SUM(Calendrier!S118)","v":1},{"$f":"SUM(Calendrier!T118)","v":"00:00:00"},{"$f":"SUM(Calendrier!U118)","v":0},{"$f":"SUM(Calendrier!V118)","v":0},{"$f":"SUM(Calendrier!W118)","v":"00:00:00"},{"$f":"SUM(Calendrier!X118)","v":0},0,0,0,"\u007f"]
["DEDG Couverture Zone Sud","Contrôle interne de type \"Géocomposite de drainage \"",2,{"$f":"SUM(Calendrier!K119)","v":"00:00:00"},{"$f":"SUM(Calendrier!L119)","v":"00:00:00"},{"$f":"SUM(Calendrier!M119)","v":0},{"$f":"SUM(Calendrier!N119)","v":0},{"$f":"SUM(Calendrier!O119)","v":0},0,{"$f":"SUM(Calendrier!Q119)","v":"2018-03-09"},{"$f":"SUM(Calendrier!R119)","v":"2018-03-09"},{"$f":"SUM(Calendrier!S119)","v":1},{"$f":"SUM(Calendrier!T119)","v":"00:00:00"},{"$f":"SUM(Calendrier!U119)","v":0},{"$f":"SUM(Calendrier!V119)","v":0},{"$f":"SUM(Calendrier!W119)","v":"00:00:00"},{"$f":"SUM(Calendrier!X119)","v":0},0,0,0,"\u007f"]
["DEDG Couverture Zone Sud","Contrôle extérieur de type \"Géocomposite de drainage \"","EXT",{"$f":"SUM(Calendrier!K120)","v":"00:00:00"},{"$f":"SUM(Calendrier!L120)","v":"00:00:00"},{"$f":"SUM(Calendrier!M120)","v":0},{"$f":"SUM(Calendrier!N120)","v":0},{"$f":"SUM(Calendrier!O120)","v":0},0,{"$f":"SUM(Calendrier!Q120)","v":"2018-03-09"},{"$f":"SUM(Calendrier!R120)","v":"2018-03-09"},{"$f":"SUM(Calendrier!S120)","v":1},{"$f":"SUM(Calendrier!T120)","v":"00:00:00"},{"$f":"SUM(Calendrier!U120)","v":0},{"$f":"SUM(Calendrier!V120)","v":0},{"$f":"SUM(Calendrier!W120)","v":"00:00:00"},{"$f":"SUM(Calendrier!X120)","v":0},0,0,0,"\u007f"]
["Matériaux argileux Zone Sud","Matériaux argileux (70 cm) Couverture Zone Sud du casier 7.2",1,{"$f":"SUM(Calendrier!K122)","v":"00:00:00"},{"$f":"SUM(Calendrier!L122)","v":"00:00:00"},{"$f":"SUM(Calendrier!M122)","v":0},{"$f":"SUM(Calendrier!N122)","v":0},{"$f":"SUM(Calendrier!O122)","v":0},0,{"$f":"SUM(Calendrier!Q122)","v":"2018-03-09"},{"$f":"SUM(Calendrier!R122)","v":"2018-03-09"},{"$f":"SUM(Calendrier!S122)","v":1},{"$f":"SUM(Calendrier!T122)","v":"00:00:00"},{"$f":"SUM(Calendrier!U122)","v":0},{"$f":"SUM(Calendrier!V122)","v":0},{"$f":"SUM(Calendrier!W122)","v":"00:00:00"},{"$f":"SUM(Calendrier!X122)","v":0},0,0,0,"\u007f"]
["Matériaux argileux Zone Sud","Contrôle externe de type \"Couverture argileuse\"",1,{"$f":"SUM(Calendrier!K123)","v":"00:00:00"},{"$f":"SUM(Calendrier!L123)","v":"00:00:00"},{"$f":"SUM(Calendrier!M123)","v":0},{"$f":"SUM(Calendrier!N123)","v":0},{"$f":"SUM(Calendrier!O123)","v":0},0,{"$f":"SUM(Calendrier!Q123)","v":"2018-03-09"},{"$f":"SUM(Calendrier!R123)","v":"2018-03-09"},{"$f":"SUM(Calendrier!S123)","v":1},{"$f":"SUM(Calendrier!T123)","v":"00:00:00"},{"$f":"SUM(Calendrier!U123)","v":0},{"$f":"SUM(Calendrier!V123)","v":0},{"$f":"SUM(Calendrier!W123)","v":"00:00:00"},{"$f":"SUM(Calendrier!X123)","v":0},0,0,0,"\u007f"]
["Matériaux argileux Zone Sud","Contrôle extérieur de type \"Couverture argileuse\"","EXT",{"$f":"SUM(Calendrier!K124)","v":"00:00:00"},{"$f":"SUM(Calendrier!L124)","v":"00:00:00"},{"$f":"SUM(Calendrier!M124)","v":0},{"$f":"SUM(Calendrier!N124)","v":0},{"$f":"SUM(Calendrier!O124)","v":0},0,{"$f":"SUM(Calendrier!Q124)","v":"2018-03-09"},{"$f":"SUM(Calendrier!R124)","v":"2018-03-09"},{"$f":"SUM(Calendrier!S124)","v":1},{"$f":"SUM(Calendrier!T124)","v":"00:00:00"},{"$f":"SUM(Calendrier!U124)","v":0},{"$f":"SUM(Calendrier!V124)","v":0},{"$f":"SUM(Calendrier!W124)","v":"00:00:00"},{"$f":"SUM(Calendrier!X124)","v":0},0,0,0,"\u007f"]
["Matériaux argileux Zone Sud","Plan cinématique des stocks par famille - Indice 4",1,{"$f":"SUM(Calendrier!K125)","v":"00:00:00"},{"$f":"SUM(Calendrier!L125)","v":"00:00:00"},{"$f":"SUM(Calendrier!M125)","v":0},{"$f":"SUM(Calendrier!N125)","v":0},{"$f":"SUM(Calendrier!O125)","v":0},0,{"$f":"SUM(Calendrier!Q125)","v":"2018-03-09"},{"$f":"SUM(Calendrier!R125)","v":"2018-03-09"},{"$f":"SUM(Calendrier!S125)","v":1},{"$f":"SUM(Calendrier!T125)","v":"00:00:00"},{"$f":"SUM(Calendrier!U125)","v":0},{"$f":"SUM(Calendrier!V125)","v":0},{"$f":"SUM(Calendrier!W125)","v":"00:00:00"},{"$f":"SUM(Calendrier!X125)","v":0},0,0,0,"\u007f"]
["Matériaux argileux Zone Sud","Levée du Point d'Arrêt \"Remblais / Couverture du casier 7.2 = Matériaux argileux (70 cm)-Zone Sud\"","MOE",{"$f":"SUM(Calendrier!K126)","v":"00:00:00"},{"$f":"SUM(Calendrier!L126)","v":"00:00:00"},{"$f":"SUM(Calendrier!M126)","v":0},{"$f":"SUM(Calendrier!N126)","v":0},{"$f":"SUM(Calendrier!O126)","v":0},0,{"$f":"SUM(Calendrier!Q126)","v":"2018-03-09"},{"$f":"SUM(Calendrier!R126)","v":"2018-03-09"},{"$f":"SUM(Calendrier!S126)","v":1},{"$f":"SUM(Calendrier!T126)","v":"00:00:00"},{"$f":"SUM(Calendrier!U126)","v":0},{"$f":"SUM(Calendrier!V126)","v":0},{"$f":"SUM(Calendrier!W126)","v":"00:00:00"},{"$f":"SUM(Calendrier!X126)","v":0},0,0,0,"\u007f"]
["Biogaz Zone Sud","Mise en service du réseau de biogaz Zone Sud du casier 7.2",3,{"$f":"SUM(Calendrier!K128)","v":"00:00:00"},{"$f":"SUM(Calendrier!L128)","v":"00:00:00"},{"$f":"SUM(Calendrier!M128)","v":0},{"$f":"SUM(Calendrier!N128)","v":0},{"$f":"SUM(Calendrier!O128)","v":0},0,{"$f":"SUM(Calendrier!Q128)","v":"2018-03-09"},{"$f":"SUM(Calendrier!R128)","v":"2018-03-09"},{"$f":"SUM(Calendrier!S128)","v":1},{"$f":"SUM(Calendrier!T128)","v":"00:00:00"},{"$f":"SUM(Calendrier!U128)","v":0},{"$f":"SUM(Calendrier!V128)","v":0},{"$f":"SUM(Calendrier!W128)","v":"00:00:00"},{"$f":"SUM(Calendrier!X128)","v":0},0,0,0,"\u007f"]
["Couverture finale Casier 7.2","Terre végétalisable (10 cm) Couverture 7.2",1,{"$f":"SUM(Calendrier!K130)","v":"00:00:00"},{"$f":"SUM(Calendrier!L130)","v":"00:00:00"},{"$f":"SUM(Calendrier!M130)","v":0},{"$f":"SUM(Calendrier!N130)","v":0},{"$f":"SUM(Calendrier!O130)","v":0},0,{"$f":"SUM(Calendrier!Q130)","v":"2018-03-09"},{"$f":"SUM(Calendrier!R130)","v":"2018-03-09"},{"$f":"SUM(Calendrier!S130)","v":1},{"$f":"SUM(Calendrier!T130)","v":"00:00:00"},{"$f":"SUM(Calendrier!U130)","v":0},{"$f":"SUM(Calendrier!V130)","v":0},{"$f":"SUM(Calendrier!W130)","v":"00:00:00"},{"$f":"SUM(Calendrier!X130)","v":0},0,0,0,"\u007f"]
["Couverture finale Casier 7.2","Contrôle externe de type \"Remblai simple\"",1,{"$f":"SUM(Calendrier!K131)","v":"00:00:00"},{"$f":"SUM(Calendrier!L131)","v":"00:00:00"},{"$f":"SUM(Calendrier!M131)","v":0},{"$f":"SUM(Calendrier!N131)","v":0},{"$f":"SUM(Calendrier!O131)","v":0},0,{"$f":"SUM(Calendrier!Q131)","v":"2018-03-09"},{"$f":"SUM(Calendrier!R131)","v":"2018-03-09"},{"$f":"SUM(Calendrier!S131)","v":1},{"$f":"SUM(Calendrier!T131)","v":"00:00:00"},{"$f":"SUM(Calendrier!U131)","v":0},{"$f":"SUM(Calendrier!V131)","v":0},{"$f":"SUM(Calendrier!W131)","v":"00:00:00"},{"$f":"SUM(Calendrier!X131)","v":0},0,0,0,"\u007f"]
["Couverture finale Casier 7.2","Contrôle extérieur de type \"Remblai simple\"","EXT",{"$f":"SUM(Calendrier!K132)","v":"00:00:00"},{"$f":"SUM(Calendrier!L132)","v":"00:00:00"},{"$f":"SUM(Calendrier!M132)","v":0},{"$f":"SUM(Calendrier!N132)","v":0},{"$f":"SUM(Calendrier!O132)","v":0},0,{"$f":"SUM(Calendrier!Q132)","v":"2018-03-09"},{"$f":"SUM(Calendrier!R132)","v":"2018-03-09"},{"$f":"SUM(Calendrier!S132)","v":1},{"$f":"SUM(Calendrier!T132)","v":"00:00:00"},{"$f":"SUM(Calendrier!U132)","v":0},{"$f":"SUM(Calendrier!V132)","v":0},{"$f":"SUM(Calendrier!W132)","v":"00:00:00"},{"$f":"SUM(Calendrier!X132)","v":0},0,0,0,"\u007f"]
["Couverture finale Casier 7.2","Plan cinématique des stocks par famille - Indice 5",1,{"$f":"SUM(Calendrier!K133)","v":"00:00:00"},{"$f":"SUM(Calendrier!L133)","v":"00:00:00"},{"$f":"SUM(Calendrier!M133)","v":0},{"$f":"SUM(Calendrier!N133)","v":0},{"$f":"SUM(Calendrier!O133)","v":0},0,{"$f":"SUM(Calendrier!Q133)","v":"2018-03-09"},{"$f":"SUM(Calendrier!R133)","v":"2018-03-09"},{"$f":"SUM(Calendrier!S133)","v":1},{"$f":"SUM(Calendrier!T133)","v":"00:00:00"},{"$f":"SUM(Calendrier!U133)","v":0},{"$f":"SUM(Calendrier!V133)","v":0},{"$f":"SUM(Calendrier!W133)","v":"00:00:00"},{"$f":"SUM(Calendrier!X133)","v":0},0,0,0,"\u007f"]
["Couverture finale Casier 7.2","Information de Point critique \"Couverture finale du casier 7.2 = Terre végétalisable (10 cm)\"",1,{"$f":"SUM(Calendrier!K134)","v":"00:00:00"},{"$f":"SUM(Calendrier!L134)","v":"00:00:00"},{"$f":"SUM(Calendrier!M134)","v":0},{"$f":"SUM(Calendrier!N134)","v":0},{"$f":"SUM(Calendrier!O134)","v":0},0,{"$f":"SUM(Calendrier!Q134)","v":"2018-03-09"},{"$f":"SUM(Calendrier!R134)","v":"2018-03-09"},{"$f":"SUM(Calendrier!S134)","v":1},{"$f":"SUM(Calendrier!T134)","v":"00:00:00"},{"$f":"SUM(Calendrier!U134)","v":0},{"$f":"SUM(Calendrier!V134)","v":0},{"$f":"SUM(Calendrier!W134)","v":"00:00:00"},{"$f":"SUM(Calendrier!X134)","v":0},0,0,0,"\u007f"]
["Couverture finale Casier 7.2","Partie supérieure de la Géogrille Zone Nord et Sud",2,{"$f":"SUM(Calendrier!K135)","v":"00:00:00"},{"$f":"SUM(Calendrier!L135)","v":"00:00:00"},{"$f":"SUM(Calendrier!M135)","v":0},{"$f":"SUM(Calendrier!N135)","v":0},{"$f":"SUM(Calendrier!O135)","v":0},0,{"$f":"SUM(Calendrier!Q135)","v":"2018-03-09"},{"$f":"SUM(Calendrier!R135)","v":"2018-03-09"},{"$f":"SUM(Calendrier!S135)","v":1},{"$f":"SUM(Calendrier!T135)","v":"00:00:00"},{"$f":"SUM(Calendrier!U135)","v":0},{"$f":"SUM(Calendrier!V135)","v":0},{"$f":"SUM(Calendrier!W135)","v":"00:00:00"},{"$f":"SUM(Calendrier!X135)","v":0},0,0,0,"\u007f"]
["Couverture finale Casier 7.2","Contrôle interne de type \"Géogrille\"",2,{"$f":"SUM(Calendrier!K136)","v":"00:00:00"},{"$f":"SUM(Calendrier!L136)","v":"00:00:00"},{"$f":"SUM(Calendrier!M136)","v":0},{"$f":"SUM(Calendrier!N136)","v":0},{"$f":"SUM(Calendrier!O136)","v":0},0,{"$f":"SUM(Calendrier!Q136)","v":"2018-03-09"},{"$f":"SUM(Calendrier!R136)","v":"2018-03-09"},{"$f":"SUM(Calendrier!S136)","v":1},{"$f":"SUM(Calendrier!T136)","v":"00:00:00"},{"$f":"SUM(Calendrier!U136)","v":0},{"$f":"SUM(Calendrier!V136)","v":0},{"$f":"SUM(Calendrier!W136)","v":"00:00:00"},{"$f":"SUM(Calendrier!X136)","v":0},0,0,0,"\u007f"]
["Couverture finale Casier 7.2","Contrôle extérieur de type \"Géogrille\"","EXT",{"$f":"SUM(Calendrier!K137)","v":"00:00:00"},{"$f":"SUM(Calendrier!L137)","v":"00:00:00"},{"$f":"SUM(Calendrier!M137)","v":0},{"$f":"SUM(Calendrier!N137)","v":0},{"$f":"SUM(Calendrier!O137)","v":0},0,{"$f":"SUM(Calendrier!Q137)","v":"2018-03-09"},{"$f":"SUM(Calendrier!R137)","v":"2018-03-09"},{"$f":"SUM(Calendrier!S137)","v":1},{"$f":"SUM(Calendrier!T137)","v":"00:00:00"},{"$f":"SUM(Calendrier!U137)","v":0},{"$f":"SUM(Calendrier!V137)","v":0},{"$f":"SUM(Calendrier!W137)","v":"00:00:00"},{"$f":"SUM(Calendrier!X137)","v":0},0,0,0,"\u007f"]
["DEDG Casiers","Application du plan de calepinage GSB",2,{"$f":"SUM(Calendrier!K139)","v":"00:00:00"},{"$f":"SUM(Calendrier!L139)","v":"00:00:00"},{"$f":"SUM(Calendrier!M139)","v":0},{"$f":"SUM(Calendrier!N139)","v":0},{"$f":"SUM(Calendrier!O139)","v":0},{"$f":"SUM(G109+H109)","v":0},{"$f":"SUM(Calendrier!Q139)","v":"2018-03-09"},{"$f":"SUM(Calendrier!R139)","v":"2018-03-09"},{"$f":"SUM(Calendrier!S139)","v":1},{"$f":"SUM(Calendrier!T139)","v":"00:00:00"},{"$f":"SUM(Calendrier!U139)","v":0},{"$f":"SUM(Calendrier!V139)","v":0},{"$f":"SUM(Calendrier!W139)","v":"00:00:00"},{"$f":"SUM(Calendrier!X139)","v":0},0,0,0,"\u007f"]
["DEDG Casiers","Contrôle interne de type \"Géosynthétique bentonitique\"",2,{"$f":"SUM(Calendrier!K140)","v":"00:00:00"},{"$f":"SUM(Calendrier!L140)","v":"00:00:00"},{"$f":"SUM(Calendrier!M140)","v":0},{"$f":"SUM(Calendrier!N140)","v":0},{"$f":"SUM(Calendrier!O140)","v":0},0,{"$f":"SUM(Calendrier!Q140)","v":"2018-03-09"},{"$f":"SUM(Calendrier!R140)","v":"2018-03-09"},{"$f":"SUM(Calendrier!S140)","v":1},{"$f":"SUM(Calendrier!T140)","v":"00:00:00"},{"$f":"SUM(Calendrier!U140)","v":0},{"$f":"SUM(Calendrier!V140)","v":0},{"$f":"SUM(Calendrier!W140)","v":"00:00:00"},{"$f":"SUM(Calendrier!X140)","v":0},0,0,0,"\u007f"]
["DEDG Casiers","Contrôle extérieur de type \"Géosynthétique bentonitique\"","EXT",{"$f":"SUM(Calendrier!K141)","v":"00:00:00"},{"$f":"SUM(Calendrier!L141)","v":"00:00:00"},{"$f":"SUM(Calendrier!M141)","v":0},{"$f":"SUM(Calendrier!N141)","v":0},{"$f":"SUM(Calendrier!O141)","v":0},0,{"$f":"SUM(Calendrier!Q141)","v":"2018-03-09"},{"$f":"SUM(Calendrier!R141)","v":"2018-03-09"},{"$f":"SUM(Calendrier!S141)","v":1},{"$f":"SUM(Calendrier!T141)","v":"00:00:00"},{"$f":"SUM(Calendrier!U141)","v":0},{"$f":"SUM(Calendrier!V141)","v":0},{"$f":"SUM(Calendrier!W141)","v":"00:00:00"},{"$f":"SUM(Calendrier!X141)","v":0},0,0,0,"\u007f"]
["DEDG Casiers","Application du plan de calepinage GMB 2 mm",2,{"$f":"SUM(Calendrier!K142)","v":"00:00:00"},{"$f":"SUM(Calendrier!L142)","v":"00:00:00"},{"$f":"SUM(Calendrier!M142)","v":0},{"$f":"SUM(Calendrier!N142)","v":0},{"$f":"SUM(Calendrier!O142)","v":0},0,{"$f":"SUM(Calendrier!Q142)","v":"2018-03-09"},{"$f":"SUM(Calendrier!R142)","v":"2018-03-09"},{"$f":"SUM(Calendrier!S142)","v":1},{"$f":"SUM(Calendrier!T142)","v":"00:00:00"},{"$f":"SUM(Calendrier!U142)","v":0},{"$f":"SUM(Calendrier!V142)","v":0},{"$f":"SUM(Calendrier!W142)","v":"00:00:00"},{"$f":"SUM(Calendrier!X142)","v":0},0,0,0,"\u007f"]
["DEDG Casiers","Contrôle interne de type \"Géomembrane PEHD\"",2,{"$f":"SUM(Calendrier!K143)","v":"00:00:00"},{"$f":"SUM(Calendrier!L143)","v":"00:00:00"},{"$f":"SUM(Calendrier!M143)","v":0},{"$f":"SUM(Calendrier!N143)","v":0},{"$f":"SUM(Calendrier!O143)","v":0},0,{"$f":"SUM(Calendrier!Q143)","v":"2018-03-09"},{"$f":"SUM(Calendrier!R143)","v":"2018-03-09"},{"$f":"SUM(Calendrier!S143)","v":1},{"$f":"SUM(Calendrier!T143)","v":"00:00:00"},{"$f":"SUM(Calendrier!U143)","v":0},{"$f":"SUM(Calendrier!V143)","v":0},{"$f":"SUM(Calendrier!W143)","v":"00:00:00"},{"$f":"SUM(Calendrier!X143)","v":0},0,0,0,"\u007f"]
["DEDG Casiers","Contrôle extérieur de type \"Géomembrane PEHD\"","EXT",{"$f":"SUM(Calendrier!K144)","v":"00:00:00"},{"$f":"SUM(Calendrier!L144)","v":"00:00:00"},{"$f":"SUM(Calendrier!M144)","v":0},{"$f":"SUM(Calendrier!N144)","v":0},{"$f":"SUM(Calendrier!O144)","v":0},0,{"$f":"SUM(Calendrier!Q144)","v":"2018-03-09"},{"$f":"SUM(Calendrier!R144)","v":"2018-03-09"},{"$f":"SUM(Calendrier!S144)","v":1},{"$f":"SUM(Calendrier!T144)","v":"00:00:00"},{"$f":"SUM(Calendrier!U144)","v":0},{"$f":"SUM(Calendrier!V144)","v":0},{"$f":"SUM(Calendrier!W144)","v":"00:00:00"},{"$f":"SUM(Calendrier!X144)","v":0},0,0,0,"\u007f"]
["DEDG Casiers","Levée du Point d'Arrêt \"Géomembrane PEHD\"","MOE",{"$f":"SUM(Calendrier!K145)","v":"00:00:00"},{"$f":"SUM(Calendrier!L145)","v":"00:00:00"},{"$f":"SUM(Calendrier!M145)","v":0},{"$f":"SUM(Calendrier!N145)","v":0},{"$f":"SUM(Calendrier!O145)","v":0},0,{"$f":"SUM(Calendrier!Q145)","v":"2018-03-09"},{"$f":"SUM(Calendrier!R145)","v":"2018-03-09"},{"$f":"SUM(Calendrier!S145)","v":1},{"$f":"SUM(Calendrier!T145)","v":"00:00:00"},{"$f":"SUM(Calendrier!U145)","v":0},{"$f":"SUM(Calendrier!V145)","v":0},{"$f":"SUM(Calendrier!W145)","v":"00:00:00"},{"$f":"SUM(Calendrier!X145)","v":0},0,0,0,"\u007f"]
["DEDG Casiers","Soudage des lès du GTX supérieur",2,{"$f":"SUM(Calendrier!K146)","v":"00:00:00"},{"$f":"SUM(Calendrier!L146)","v":"00:00:00"},{"$f":"SUM(Calendrier!M146)","v":0},{"$f":"SUM(Calendrier!N146)","v":0},{"$f":"SUM(Calendrier!O146)","v":0},0,{"$f":"SUM(Calendrier!Q146)","v":"2018-03-09"},{"$f":"SUM(Calendrier!R146)","v":"2018-03-09"},{"$f":"SUM(Calendrier!S146)","v":1},{"$f":"SUM(Calendrier!T146)","v":"00:00:00"},{"$f":"SUM(Calendrier!U146)","v":0},{"$f":"SUM(Calendrier!V146)","v":0},{"$f":"SUM(Calendrier!W146)","v":"00:00:00"},{"$f":"SUM(Calendrier!X146)","v":0},0,0,0,"\u007f"]
["DEDG Casiers","Contrôle interne de type \"Géotextile\"",2,{"$f":"SUM(Calendrier!K147)","v":"00:00:00"},{"$f":"SUM(Calendrier!L147)","v":"00:00:00"},{"$f":"SUM(Calendrier!M147)","v":0},{"$f":"SUM(Calendrier!N147)","v":0},{"$f":"SUM(Calendrier!O147)","v":0},0,{"$f":"SUM(Calendrier!Q147)","v":"2018-03-09"},{"$f":"SUM(Calendrier!R147)","v":"2018-03-09"},{"$f":"SUM(Calendrier!S147)","v":1},{"$f":"SUM(Calendrier!T147)","v":"00:00:00"},{"$f":"SUM(Calendrier!U147)","v":0},{"$f":"SUM(Calendrier!V147)","v":0},{"$f":"SUM(Calendrier!W147)","v":"00:00:00"},{"$f":"SUM(Calendrier!X147)","v":0},0,0,0,"\u007f"]
["DEDG Casiers","Contrôle extérieur de type \"Géotextile\"","EXT",{"$f":"SUM(Calendrier!K148)","v":"00:00:00"},{"$f":"SUM(Calendrier!L148)","v":"00:00:00"},{"$f":"SUM(Calendrier!M148)","v":0},{"$f":"SUM(Calendrier!N148)","v":0},{"$f":"SUM(Calendrier!O148)","v":0},0,{"$f":"SUM(Calendrier!Q148)","v":"2018-03-09"},{"$f":"SUM(Calendrier!R148)","v":"2018-03-09"},{"$f":"SUM(Calendrier!S148)","v":1},{"$f":"SUM(Calendrier!T148)","v":"00:00:00"},{"$f":"SUM(Calendrier!U148)","v":0},{"$f":"SUM(Calendrier!V148)","v":0},{"$f":"SUM(Calendrier!W148)","v":"00:00:00"},{"$f":"SUM(Calendrier!X148)","v":0},0,0,0,"\u007f"]
["DEDG Casiers","Réception du Sol(s)-support du Drainage des Lixiviats","MOE",{"$f":"SUM(Calendrier!K149)","v":"00:00:00"},{"$f":"SUM(Calendrier!L149)","v":"00:00:00"},{"$f":"SUM(Calendrier!M149)","v":0},{"$f":"SUM(Calendrier!N149)","v":0},{"$f":"SUM(Calendrier!O149)","v":0},0,{"$f":"SUM(Calendrier!Q149)","v":"2018-03-09"},{"$f":"SUM(Calendrier!R149)","v":"2018-03-09"},{"$f":"SUM(Calendrier!S149)","v":1},{"$f":"SUM(Calendrier!T149)","v":"00:00:00"},{"$f":"SUM(Calendrier!U149)","v":0},{"$f":"SUM(Calendrier!V149)","v":0},{"$f":"SUM(Calendrier!W149)","v":"00:00:00"},{"$f":"SUM(Calendrier!X149)","v":0},0,0,0,"\u007f"]
["Drainage des lixiviats","Mise en oeuvre Puits",1,{"$f":"SUM(Calendrier!K151)","v":"00:00:00"},{"$f":"SUM(Calendrier!L151)","v":"00:00:00"},{"$f":"SUM(Calendrier!M151)","v":0},{"$f":"SUM(Calendrier!N151)","v":0},{"$f":"SUM(Calendrier!O151)","v":0},0,{"$f":"SUM(Calendrier!Q151)","v":"2018-03-09"},{"$f":"SUM(Calendrier!R151)","v":"2018-03-09"},{"$f":"SUM(Calendrier!S151)","v":1},{"$f":"SUM(Calendrier!T151)","v":"00:00:00"},{"$f":"SUM(Calendrier!U151)","v":0},{"$f":"SUM(Calendrier!V151)","v":0},{"$f":"SUM(Calendrier!W151)","v":"00:00:00"},{"$f":"SUM(Calendrier!X151)","v":0},0,0,0,"\u007f"]
["Drainage des lixiviats","Contrôle externe de type \"Regards\"",1,{"$f":"SUM(Calendrier!K152)","v":"00:00:00"},{"$f":"SUM(Calendrier!L152)","v":"00:00:00"},{"$f":"SUM(Calendrier!M152)","v":0},{"$f":"SUM(Calendrier!N152)","v":0},{"$f":"SUM(Calendrier!O152)","v":0},0,{"$f":"SUM(Calendrier!Q152)","v":"2018-03-09"},{"$f":"SUM(Calendrier!R152)","v":"2018-03-09"},{"$f":"SUM(Calendrier!S152)","v":1},{"$f":"SUM(Calendrier!T152)","v":"00:00:00"},{"$f":"SUM(Calendrier!U152)","v":0},{"$f":"SUM(Calendrier!V152)","v":0},{"$f":"SUM(Calendrier!W152)","v":"00:00:00"},{"$f":"SUM(Calendrier!X152)","v":0},0,0,0,"\u007f"]
["Drainage des lixiviats","Contrôle extérieur de type \"Regards\"","EXT",{"$f":"SUM(Calendrier!K153)","v":"00:00:00"},{"$f":"SUM(Calendrier!L153)","v":"00:00:00"},{"$f":"SUM(Calendrier!M153)","v":0},{"$f":"SUM(Calendrier!N153)","v":0},{"$f":"SUM(Calendrier!O153)","v":0},0,{"$f":"SUM(Calendrier!Q153)","v":"2018-03-09"},{"$f":"SUM(Calendrier!R153)","v":"2018-03-09"},{"$f":"SUM(Calendrier!S153)","v":1},{"$f":"SUM(Calendrier!T153)","v":"00:00:00"},{"$f":"SUM(Calendrier!U153)","v":0},{"$f":"SUM(Calendrier!V153)","v":0},{"$f":"SUM(Calendrier!W153)","v":"00:00:00"},{"$f":"SUM(Calendrier!X153)","v":0},0,0,0,"\u007f"]
["Drainage des lixiviats","Drains Lixiviat Casier 8.2",1,{"$f":"SUM(Calendrier!K154)","v":"00:00:00"},{"$f":"SUM(Calendrier!L154)","v":"00:00:00"},{"$f":"SUM(Calendrier!M154)","v":0},{"$f":"SUM(Calendrier!N154)","v":0},{"$f":"SUM(Calendrier!O154)","v":0},0,{"$f":"SUM(Calendrier!Q154)","v":"2018-03-09"},{"$f":"SUM(Calendrier!R154)","v":"2018-03-09"},{"$f":"SUM(Calendrier!S154)","v":1},{"$f":"SUM(Calendrier!T154)","v":"00:00:00"},{"$f":"SUM(Calendrier!U154)","v":0},{"$f":"SUM(Calendrier!V154)","v":0},{"$f":"SUM(Calendrier!W154)","v":"00:00:00"},{"$f":"SUM(Calendrier!X154)","v":0},0,0,0,"\u007f"]
["Drainage des lixiviats","Contrôle externe de type \"Drains Lixiviats\"",1,{"$f":"SUM(Calendrier!K155)","v":"00:00:00"},{"$f":"SUM(Calendrier!L155)","v":"00:00:00"},{"$f":"SUM(Calendrier!M155)","v":0},{"$f":"SUM(Calendrier!N155)","v":0},{"$f":"SUM(Calendrier!O155)","v":0},0,{"$f":"SUM(Calendrier!Q155)","v":"2018-03-09"},{"$f":"SUM(Calendrier!R155)","v":"2018-03-09"},{"$f":"SUM(Calendrier!S155)","v":1},{"$f":"SUM(Calendrier!T155)","v":"00:00:00"},{"$f":"SUM(Calendrier!U155)","v":0},{"$f":"SUM(Calendrier!V155)","v":0},{"$f":"SUM(Calendrier!W155)","v":"00:00:00"},{"$f":"SUM(Calendrier!X155)","v":0},0,0,0,"\u007f"]
["Drainage des lixiviats","Contrôle extérieur de type \"Drains Lixiviats\"","EXT",{"$f":"SUM(Calendrier!K156)","v":"00:00:00"},{"$f":"SUM(Calendrier!L156)","v":"00:00:00"},{"$f":"SUM(Calendrier!M156)","v":0},{"$f":"SUM(Calendrier!N156)","v":0},{"$f":"SUM(Calendrier!O156)","v":0},0,{"$f":"SUM(Calendrier!Q156)","v":"2018-03-09"},{"$f":"SUM(Calendrier!R156)","v":"2018-03-09"},{"$f":"SUM(Calendrier!S156)","v":1},{"$f":"SUM(Calendrier!T156)","v":"00:00:00"},{"$f":"SUM(Calendrier!U156)","v":0},{"$f":"SUM(Calendrier!V156)","v":0},{"$f":"SUM(Calendrier!W156)","v":"00:00:00"},{"$f":"SUM(Calendrier!X156)","v":0},0,0,0,"\u007f"]
["Drainage des lixiviats","Livraison des matériaux drainants",1,{"$f":"SUM(Calendrier!K157)","v":"00:00:00"},{"$f":"SUM(Calendrier!L157)","v":"00:00:00"},{"$f":"SUM(Calendrier!M157)","v":0},{"$f":"SUM(Calendrier!N157)","v":0},{"$f":"SUM(Calendrier!O157)","v":0},0,{"$f":"SUM(Calendrier!Q157)","v":"2018-03-09"},{"$f":"SUM(Calendrier!R157)","v":"2018-03-09"},{"$f":"SUM(Calendrier!S157)","v":1},{"$f":"SUM(Calendrier!T157)","v":"00:00:00"},{"$f":"SUM(Calendrier!U157)","v":0},{"$f":"SUM(Calendrier!V157)","v":0},{"$f":"SUM(Calendrier!W157)","v":"00:00:00"},{"$f":"SUM(Calendrier!X157)","v":0},0,0,0,"\u007f"]
["Drainage des lixiviats","Plan cinématique des stocks par famille - Indice 7",1,{"$f":"SUM(Calendrier!K158)","v":"00:00:00"},{"$f":"SUM(Calendrier!L158)","v":"00:00:00"},{"$f":"SUM(Calendrier!M158)","v":0},{"$f":"SUM(Calendrier!N158)","v":0},{"$f":"SUM(Calendrier!O158)","v":0},0,{"$f":"SUM(Calendrier!Q158)","v":"2018-03-09"},{"$f":"SUM(Calendrier!R158)","v":"2018-03-09"},{"$f":"SUM(Calendrier!S158)","v":1},{"$f":"SUM(Calendrier!T158)","v":"00:00:00"},{"$f":"SUM(Calendrier!U158)","v":0},{"$f":"SUM(Calendrier!V158)","v":0},{"$f":"SUM(Calendrier!W158)","v":"00:00:00"},{"$f":"SUM(Calendrier!X158)","v":0},0,0,0,"\u007f"]
["Drainage des lixiviats","Massif drainant Casier 8.2",1,{"$f":"SUM(Calendrier!K159)","v":"00:00:00"},{"$f":"SUM(Calendrier!L159)","v":"00:00:00"},{"$f":"SUM(Calendrier!M159)","v":0},{"$f":"SUM(Calendrier!N159)","v":0},{"$f":"SUM(Calendrier!O159)","v":0},0,{"$f":"SUM(Calendrier!Q159)","v":"2018-03-09"},{"$f":"SUM(Calendrier!R159)","v":"2018-03-09"},{"$f":"SUM(Calendrier!S159)","v":1},{"$f":"SUM(Calendrier!T159)","v":"00:00:00"},{"$f":"SUM(Calendrier!U159)","v":0},{"$f":"SUM(Calendrier!V159)","v":0},{"$f":"SUM(Calendrier!W159)","v":"00:00:00"},{"$f":"SUM(Calendrier!X159)","v":0},0,0,0,"\u007f"]
["Drainage des lixiviats","Contrôle externe de type \"Massif drainant\"",1,{"$f":"SUM(Calendrier!K160)","v":"00:00:00"},{"$f":"SUM(Calendrier!L160)","v":"00:00:00"},{"$f":"SUM(Calendrier!M160)","v":0},{"$f":"SUM(Calendrier!N160)","v":0},{"$f":"SUM(Calendrier!O160)","v":0},0,{"$f":"SUM(Calendrier!Q160)","v":"2018-03-09"},{"$f":"SUM(Calendrier!R160)","v":"2018-03-09"},{"$f":"SUM(Calendrier!S160)","v":1},{"$f":"SUM(Calendrier!T160)","v":"00:00:00"},{"$f":"SUM(Calendrier!U160)","v":0},{"$f":"SUM(Calendrier!V160)","v":0},{"$f":"SUM(Calendrier!W160)","v":"00:00:00"},{"$f":"SUM(Calendrier!X160)","v":0},0,0,0,"\u007f"]
["Drainage des lixiviats","Contrôle extérieur de type \"Massif drainant\"","EXT",{"$f":"SUM(Calendrier!K161)","v":"00:00:00"},{"$f":"SUM(Calendrier!L161)","v":"00:00:00"},{"$f":"SUM(Calendrier!M161)","v":0},{"$f":"SUM(Calendrier!N161)","v":0},{"$f":"SUM(Calendrier!O161)","v":0},0,{"$f":"SUM(Calendrier!Q161)","v":"2018-03-09"},{"$f":"SUM(Calendrier!R161)","v":"2018-03-09"},{"$f":"SUM(Calendrier!S161)","v":1},{"$f":"SUM(Calendrier!T161)","v":"00:00:00"},{"$f":"SUM(Calendrier!U161)","v":0},{"$f":"SUM(Calendrier!V161)","v":0},{"$f":"SUM(Calendrier!W161)","v":"00:00:00"},{"$f":"SUM(Calendrier!X161)","v":0},0,0,0,"\u007f"]
["Drainage des lixiviats","Plan cinématique des stocks par famille - Indice 8",1,{"$f":"SUM(Calendrier!K162)","v":"00:00:00"},{"$f":"SUM(Calendrier!L162)","v":"00:00:00"},{"$f":"SUM(Calendrier!M162)","v":0},{"$f":"SUM(Calendrier!N162)","v":0},{"$f":"SUM(Calendrier!O162)","v":0},0,{"$f":"SUM(Calendrier!Q162)","v":"2018-03-09"},{"$f":"SUM(Calendrier!R162)","v":"2018-03-09"},{"$f":"SUM(Calendrier!S162)","v":1},{"$f":"SUM(Calendrier!T162)","v":"00:00:00"},{"$f":"SUM(Calendrier!U162)","v":0},{"$f":"SUM(Calendrier!V162)","v":0},{"$f":"SUM(Calendrier!W162)","v":"00:00:00"},{"$f":"SUM(Calendrier!X162)","v":0},{"$f":"SUM(G131+N131)","v":0},{"$f":"SUM(H131+O131)","v":0},{"$f":"SUM(R131:S131)","v":0},{"$f":"IF(M131=0,\"\u007f\",IF(S131=0,\"P\",IF(S131>2,\"Ð\",IF(AND(S131>0,S131<3),\"¯\"))))","v":"\u007f"}]
["Drainage des lixiviats","Levée du Point d'Arrêt Drainage lixiviats (dalle de répartition, puits de pompage, drains et massif drainant)","MOE",{"$f":"SUM(Calendrier!K163)","v":"00:00:00"},{"$f":"SUM(Calendrier!L163)","v":"00:00:00"},{"$f":"SUM(Calendrier!M163)","v":0},{"$f":"SUM(Calendrier!N163)","v":0},{"$f":"SUM(Calendrier!O163)","v":0},0,{"$f":"SUM(Calendrier!Q163)","v":"2018-03-09"},{"$f":"SUM(Calendrier!R163)","v":"2018-03-09"},{"$f":"SUM(Calendrier!S163)","v":1},{"$f":"SUM(Calendrier!T163)","v":"00:00:00"},{"$f":"SUM(Calendrier!U163)","v":0},{"$f":"SUM(Calendrier!V163)","v":0},{"$f":"SUM(Calendrier!W163)","v":"00:00:00"},{"$f":"SUM(Calendrier!X163)","v":0},0,0,0,"\u007f"]
["Plateforme","Couche de base de 50 cm en GNT de classe R61",1,{"$f":"SUM(Calendrier!K165)","v":"00:00:00"},{"$f":"SUM(Calendrier!L165)","v":"00:00:00"},{"$f":"SUM(Calendrier!M165)","v":0},{"$f":"SUM(Calendrier!N165)","v":0},{"$f":"SUM(Calendrier!O165)","v":0},0,{"$f":"SUM(Calendrier!Q165)","v":"2018-03-09"},{"$f":"SUM(Calendrier!R165)","v":"2018-03-09"},{"$f":"SUM(Calendrier!S165)","v":1},{"$f":"SUM(Calendrier!T165)","v":"00:00:00"},{"$f":"SUM(Calendrier!U165)","v":0},{"$f":"SUM(Calendrier!V165)","v":0},{"$f":"SUM(Calendrier!W165)","v":"00:00:00"},{"$f":"SUM(Calendrier!X165)","v":0},0,0,0,"\u007f"]
["Plateforme","Contrôle externe de types \"Plateforme\"",1,{"$f":"SUM(Calendrier!K166)","v":"00:00:00"},{"$f":"SUM(Calendrier!L166)","v":"00:00:00"},{"$f":"SUM(Calendrier!M166)","v":0},{"$f":"SUM(Calendrier!N166)","v":0},{"$f":"SUM(Calendrier!O166)","v":0},0,{"$f":"SUM(Calendrier!Q166)","v":"2018-03-09"},{"$f":"SUM(Calendrier!R166)","v":"2018-03-09"},{"$f":"SUM(Calendrier!S166)","v":1},{"$f":"SUM(Calendrier!T166)","v":"00:00:00"},{"$f":"SUM(Calendrier!U166)","v":0},{"$f":"SUM(Calendrier!V166)","v":0},{"$f":"SUM(Calendrier!W166)","v":"00:00:00"},{"$f":"SUM(Calendrier!X166)","v":0},0,0,0,"\u007f"]
["Plateforme","Contrôle extérieur de types \"Plateforme\"","EXT",{"$f":"SUM(Calendrier!K167)","v":"00:00:00"},{"$f":"SUM(Calendrier!L167)","v":"00:00:00"},{"$f":"SUM(Calendrier!M167)","v":0},{"$f":"SUM(Calendrier!N167)","v":0},{"$f":"SUM(Calendrier!O167)","v":0},0,{"$f":"SUM(Calendrier!Q167)","v":"2018-03-09"},{"$f":"SUM(Calendrier!R167)","v":"2018-03-09"},{"$f":"SUM(Calendrier!S167)","v":1},{"$f":"SUM(Calendrier!T167)","v":"00:00:00"},{"$f":"SUM(Calendrier!U167)","v":0},{"$f":"SUM(Calendrier!V167)","v":0},{"$f":"SUM(Calendrier!W167)","v":"00:00:00"},{"$f":"SUM(Calendrier!X167)","v":0},0,0,0,"\u007f"]
["Plateforme","Couche de 20 cm en GNT de classe R61",1,{"$f":"SUM(Calendrier!K168)","v":"00:00:00"},{"$f":"SUM(Calendrier!L168)","v":"00:00:00"},{"$f":"SUM(Calendrier!M168)","v":0},{"$f":"SUM(Calendrier!N168)","v":0},{"$f":"SUM(Calendrier!O168)","v":0},0,{"$f":"SUM(Calendrier!Q168)","v":"2018-03-09"},{"$f":"SUM(Calendrier!R168)","v":"2018-03-09"},{"$f":"SUM(Calendrier!S168)","v":1},{"$f":"SUM(Calendrier!T168)","v":"00:00:00"},{"$f":"SUM(Calendrier!U168)","v":0},{"$f":"SUM(Calendrier!V168)","v":0},{"$f":"SUM(Calendrier!W168)","v":"00:00:00"},{"$f":"SUM(Calendrier!X168)","v":0},0,0,0,"\u007f"]
["Plateforme","Contrôle externe de types \"Plateforme\"",1,{"$f":"SUM(Calendrier!K169)","v":"00:00:00"},{"$f":"SUM(Calendrier!L169)","v":"00:00:00"},{"$f":"SUM(Calendrier!M169)","v":0},{"$f":"SUM(Calendrier!N169)","v":0},{"$f":"SUM(Calendrier!O169)","v":0},0,{"$f":"SUM(Calendrier!Q169)","v":"2018-03-09"},{"$f":"SUM(Calendrier!R169)","v":"2018-03-09"},{"$f":"SUM(Calendrier!S169)","v":1},{"$f":"SUM(Calendrier!T169)","v":"00:00:00"},{"$f":"SUM(Calendrier!U169)","v":0},{"$f":"SUM(Calendrier!V169)","v":0},{"$f":"SUM(Calendrier!W169)","v":"00:00:00"},{"$f":"SUM(Calendrier!X169)","v":0},0,0,0,"\u007f"]
["Plateforme","Contrôle extérieur de types \"Plateforme\"","EXT",{"$f":"SUM(Calendrier!K170)","v":"00:00:00"},{"$f":"SUM(Calendrier!L170)","v":"00:00:00"},{"$f":"SUM(Calendrier!M170)","v":0},{"$f":"SUM(Calendrier!N170)","v":0},{"$f":"SUM(Calendrier!O170)","v":0},0,{"$f":"SUM(Calendrier!Q170)","v":"2018-03-09"},{"$f":"SUM(Calendrier!R170)","v":"2018-03-09"},{"$f":"SUM(Calendrier!S170)","v":1},{"$f":"SUM(Calendrier!T170)","v":"00:00:00"},{"$f":"SUM(Calendrier!U170)","v":0},{"$f":"SUM(Calendrier!V170)","v":0},{"$f":"SUM(Calendrier!W170)","v":"00:00:00"},{"$f":"SUM(Calendrier!X170)","v":0},0,0,0,"\u007f"]
["Remise en état des lieux","Démontage des installations du Lot 1",1,{"$f":"SUM(Calendrier!K172)","v":"00:00:00"},{"$f":"SUM(Calendrier!L172)","v":"00:00:00"},{"$f":"SUM(Calendrier!M172)","v":0},{"$f":"SUM(Calendrier!N172)","v":0},{"$f":"SUM(Calendrier!O172)","v":0},0,{"$f":"SUM(Calendrier!Q172)","v":"2018-03-09"},{"$f":"SUM(Calendrier!R172)","v":"2018-03-09"},{"$f":"SUM(Calendrier!S172)","v":1},{"$f":"SUM(Calendrier!T172)","v":"00:00:00"},{"$f":"SUM(Calendrier!U172)","v":0},{"$f":"SUM(Calendrier!V172)","v":0},{"$f":"SUM(Calendrier!W172)","v":"00:00:00"},{"$f":"SUM(Calendrier!X172)","v":0},0,0,0,"\u007f"]
["Remise en état des lieux","Nettoyage général du Lot 1",1,{"$f":"SUM(Calendrier!K173)","v":"00:00:00"},{"$f":"SUM(Calendrier!L173)","v":"00:00:00"},{"$f":"SUM(Calendrier!M173)","v":0},{"$f":"SUM(Calendrier!N173)","v":0},{"$f":"SUM(Calendrier!O173)","v":0},0,{"$f":"SUM(Calendrier!Q173)","v":"2018-03-09"},{"$f":"SUM(Calendrier!R173)","v":"2018-03-09"},{"$f":"SUM(Calendrier!S173)","v":1},{"$f":"SUM(Calendrier!T173)","v":"00:00:00"},{"$f":"SUM(Calendrier!U173)","v":0},{"$f":"SUM(Calendrier!V173)","v":0},{"$f":"SUM(Calendrier!W173)","v":"00:00:00"},{"$f":"SUM(Calendrier!X173)","v":0},0,0,0,"\u007f"]
["Remise en état des lieux","Démontage des installations du Lot 2",2,{"$f":"SUM(Calendrier!K174)","v":"00:00:00"},{"$f":"SUM(Calendrier!L174)","v":"00:00:00"},{"$f":"SUM(Calendrier!M174)","v":0},{"$f":"SUM(Calendrier!N174)","v":0},{"$f":"SUM(Calendrier!O174)","v":0},0,{"$f":"SUM(Calendrier!Q174)","v":"2018-03-09"},{"$f":"SUM(Calendrier!R174)","v":"2018-03-09"},{"$f":"SUM(Calendrier!S174)","v":1},{"$f":"SUM(Calendrier!T174)","v":"00:00:00"},{"$f":"SUM(Calendrier!U174)","v":0},{"$f":"SUM(Calendrier!V174)","v":0},{"$f":"SUM(Calendrier!W174)","v":"00:00:00"},{"$f":"SUM(Calendrier!X174)","v":0},0,0,0,"\u007f"]
["Remise en état des lieux","Nettoyage général du Lot 2",2,{"$f":"SUM(Calendrier!K175)","v":"00:00:00"},{"$f":"SUM(Calendrier!L175)","v":"00:00:00"},{"$f":"SUM(Calendrier!M175)","v":0},{"$f":"SUM(Calendrier!N175)","v":0},{"$f":"SUM(Calendrier!O175)","v":0},0,{"$f":"SUM(Calendrier!Q175)","v":"2018-03-09"},{"$f":"SUM(Calendrier!R175)","v":"2018-03-09"},{"$f":"SUM(Calendrier!S175)","v":1},{"$f":"SUM(Calendrier!T175)","v":"00:00:00"},{"$f":"SUM(Calendrier!U175)","v":0},{"$f":"SUM(Calendrier!V175)","v":0},{"$f":"SUM(Calendrier!W175)","v":"00:00:00"},{"$f":"SUM(Calendrier!X175)","v":0},0,0,0,"\u007f"]
["Opérations de réception","D.O.E. du Lot 1",1,{"$f":"SUM(Calendrier!K177)","v":"00:00:00"},{"$f":"SUM(Calendrier!L177)","v":"00:00:00"},{"$f":"SUM(Calendrier!M177)","v":0},{"$f":"SUM(Calendrier!N177)","v":0},{"$f":"SUM(Calendrier!O177)","v":0},0,{"$f":"SUM(Calendrier!Q177)","v":"2018-03-09"},{"$f":"SUM(Calendrier!R177)","v":"2018-03-09"},{"$f":"SUM(Calendrier!S177)","v":1},{"$f":"SUM(Calendrier!T177)","v":"00:00:00"},{"$f":"SUM(Calendrier!U177)","v":0},{"$f":"SUM(Calendrier!V177)","v":0},{"$f":"SUM(Calendrier!W177)","v":"00:00:00"},{"$f":"SUM(Calendrier!X177)","v":0},0,0,0,"\u007f"]
["Opérations de réception","D.O.E. du Lot 2",2,{"$f":"SUM(Calendrier!K178)","v":"00:00:00"},{"$f":"SUM(Calendrier!L178)","v":"00:00:00"},{"$f":"SUM(Calendrier!M178)","v":0},{"$f":"SUM(Calendrier!N178)","v":0},{"$f":"SUM(Calendrier!O178)","v":0},0,{"$f":"SUM(Calendrier!Q178)","v":"2018-03-09"},{"$f":"SUM(Calendrier!R178)","v":"2018-03-09"},{"$f":"SUM(Calendrier!S178)","v":1},{"$f":"SUM(Calendrier!T178)","v":"00:00:00"},{"$f":"SUM(Calendrier!U178)","v":0},{"$f":"SUM(Calendrier!V178)","v":0},{"$f":"SUM(Calendrier!W178)","v":"00:00:00"},{"$f":"SUM(Calendrier!X178)","v":0},0,0,0,"\u007f"]
["Opérations de réception","Visite de Réception du Lot 1",1,{"$f":"SUM(Calendrier!K179)","v":"00:00:00"},{"$f":"SUM(Calendrier!L179)","v":"00:00:00"},{"$f":"SUM(Calendrier!M179)","v":0},{"$f":"SUM(Calendrier!N179)","v":0},{"$f":"SUM(Calendrier!O179)","v":0},0,{"$f":"SUM(Calendrier!Q179)","v":"2018-03-09"},{"$f":"SUM(Calendrier!R179)","v":"2018-03-09"},{"$f":"SUM(Calendrier!S179)","v":1},{"$f":"SUM(Calendrier!T179)","v":"00:00:00"},{"$f":"SUM(Calendrier!U179)","v":0},{"$f":"SUM(Calendrier!V179)","v":0},{"$f":"SUM(Calendrier!W179)","v":"00:00:00"},{"$f":"SUM(Calendrier!X179)","v":0},0,0,0,"\u007f"]
["Opérations de réception","Visite de Réception du Lot 2",2,{"$f":"SUM(Calendrier!K180)","v":"00:00:00"},{"$f":"SUM(Calendrier!L180)","v":"00:00:00"},{"$f":"SUM(Calendrier!M180)","v":0},{"$f":"SUM(Calendrier!N180)","v":0},{"$f":"SUM(Calendrier!O180)","v":0},0,{"$f":"SUM(Calendrier!Q180)","v":"2018-03-09"},{"$f":"SUM(Calendrier!R180)","v":"2018-03-09"},{"$f":"SUM(Calendrier!S180)","v":1},{"$f":"SUM(Calendrier!T180)","v":"00:00:00"},{"$f":"SUM(Calendrier!U180)","v":0},{"$f":"SUM(Calendrier!V180)","v":0},{"$f":"SUM(Calendrier!W180)","v":"00:00:00"},{"$f":"SUM(Calendrier!X180)","v":0},0,0,0,"\u007f"]
["Opérations de réception","Proposition de réception Lot 1 avec ou sans réserves",1,{"$f":"SUM(Calendrier!K181)","v":"00:00:00"},{"$f":"SUM(Calendrier!L181)","v":"00:00:00"},{"$f":"SUM(Calendrier!M181)","v":0},{"$f":"SUM(Calendrier!N181)","v":0},{"$f":"SUM(Calendrier!O181)","v":0},0,{"$f":"SUM(Calendrier!Q181)","v":"2018-03-09"},{"$f":"SUM(Calendrier!R181)","v":"2018-03-09"},{"$f":"SUM(Calendrier!S181)","v":1},{"$f":"SUM(Calendrier!T181)","v":"00:00:00"},{"$f":"SUM(Calendrier!U181)","v":0},{"$f":"SUM(Calendrier!V181)","v":0},{"$f":"SUM(Calendrier!W181)","v":"00:00:00"},{"$f":"SUM(Calendrier!X181)","v":0},0,0,0,"\u007f"]
["Opérations de réception","Proposition de réception Lot 2 avec ou sans réserves",2,{"$f":"SUM(Calendrier!K182)","v":"00:00:00"},{"$f":"SUM(Calendrier!L182)","v":"00:00:00"},{"$f":"SUM(Calendrier!M182)","v":0},{"$f":"SUM(Calendrier!N182)","v":0},{"$f":"SUM(Calendrier!O182)","v":0},0,{"$f":"SUM(Calendrier!Q182)","v":"2018-03-09"},{"$f":"SUM(Calendrier!R182)","v":"2018-03-09"},{"$f":"SUM(Calendrier!S182)","v":1},{"$f":"SUM(Calendrier!T182)","v":"00:00:00"},{"$f":"SUM(Calendrier!U182)","v":0},{"$f":"SUM(Calendrier!V182)","v":0},{"$f":"SUM(Calendrier!W182)","v":"00:00:00"},{"$f":"SUM(Calendrier!X182)","v":0},0,0,0,"\u007f"]
["Opérations de réception","Suivi et levée des réserves Lot 1",1,{"$f":"SUM(Calendrier!K183)","v":"00:00:00"},{"$f":"SUM(Calendrier!L183)","v":"00:00:00"},{"$f":"SUM(Calendrier!M183)","v":0},{"$f":"SUM(Calendrier!N183)","v":0},{"$f":"SUM(Calendrier!O183)","v":0},0,{"$f":"SUM(Calendrier!Q183)","v":"2018-03-09"},{"$f":"SUM(Calendrier!R183)","v":"2018-03-09"},{"$f":"SUM(Calendrier!S183)","v":1},{"$f":"SUM(Calendrier!T183)","v":"00:00:00"},{"$f":"SUM(Calendrier!U183)","v":0},{"$f":"SUM(Calendrier!V183)","v":0},{"$f":"SUM(Calendrier!W183)","v":"00:00:00"},{"$f":"SUM(Calendrier!X183)","v":0},0,0,0,"\u007f"]
["Opérations de réception","Suivi et levée des réserves Lot 2",2,{"$f":"SUM(Calendrier!K184)","v":"00:00:00"},{"$f":"SUM(Calendrier!L184)","v":"00:00:00"},{"$f":"SUM(Calendrier!M184)","v":0},{"$f":"SUM(Calendrier!N184)","v":0},{"$f":"SUM(Calendrier!O184)","v":0},0,{"$f":"SUM(Calendrier!Q184)","v":"2018-03-09"},{"$f":"SUM(Calendrier!R184)","v":"2018-03-09"},{"$f":"SUM(Calendrier!S184)","v":1},{"$f":"SUM(Calendrier!T184)","v":"00:00:00"},{"$f":"SUM(Calendrier!U184)","v":0},{"$f":"SUM(Calendrier!V184)","v":0},{"$f":"SUM(Calendrier!W184)","v":"00:00:00"},{"$f":"SUM(Calendrier!X184)","v":0},0,0,0,"\u007f"]

{"sheet":"Intempéries","index":5,"n_rows":150,"n_cols":9,"rows_kept":150,"cut":false,"hidden":false,"merged":[]}
["Phase","Tâche","N° Lot","Intempéries retardant le démarrage de la tâche","Intempéries retardant la réalisation de la tâche","Total des intempéries de la tâche","Total des intempéries ayant retardé le démarrage des tâches","Total des intempéries ayant retardé la réalisation des tâches","Total des intempéries du chantier"]
["Etat des lieux Lot 1","Sondages complémentaires",1,{"$f":"SUM(SuiviCalendrier!G2)","v":0},{"$f":"SUM(SuiviCalendrier!N2)","v":0},{"$f":"SUM(D2:E2)","v":0},{"$f":"SUM(D2:D150)","v":0},{"$f":"SUM(E2:E150)","v":0},{"$f":"SUM(G2:H2)","v":0}]
["Etat des lieux Lot 1","Reconnaissance des réseaux",1,{"$f":"SUM(SuiviCalendrier!G3)","v":0},{"$f":"SUM(SuiviCalendrier!N3)","v":0},{"$f":"SUM(D3:E3)","v":0}]
["Etat des lieux Lot 1","Plan Topographique Général Initial",1,{"$f":"SUM(SuiviCalendrier!G4)","v":0},{"$f":"SUM(SuiviCalendrier!N4)","v":0},0]
["Etat des lieux Lot 1","Constat d'Etat des lieux contradictoire","MOE",{"$f":"SUM(SuiviCalendrier!G5)","v":0},{"$f":"SUM(SuiviCalendrier!N5)","v":0},0]
["Déploiement Lot 1","Mise en place des installations de chantier",1,{"$f":"SUM(SuiviCalendrier!G6)","v":0},{"$f":"SUM(SuiviCalendrier!N6)","v":0},0]
["Déploiement Lot 1","Transferts matériels",1,{"$f":"SUM(SuiviCalendrier!G7)","v":0},{"$f":"SUM(SuiviCalendrier!N7)","v":0},0]
["Déploiement Lot 1","Aménagement des pistes d'accès et mise en place signalisation",1,{"$f":"SUM(SuiviCalendrier!G8)","v":0},{"$f":"SUM(SuiviCalendrier!N8)","v":0},0]
["Déploiement Lot 1","Aménagement des plateformes de stockage",1,{"$f":"SUM(SuiviCalendrier!G9)","v":0},{"$f":"SUM(SuiviCalendrier!N9)","v":0},0]
["Déploiement Lot 1","Réalisation des assainissements provisoires de chantier",1,{"$f":"SUM(SuiviCalendrier!G10)","v":0},{"$f":"SUM(SuiviCalendrier!N10)","v":0},0]
["Déploiement Lot 1","Plan cinématique des stocks par famille - Indice 0",1,{"$f":"SUM(SuiviCalendrier!G11)","v":0},{"$f":"SUM(SuiviCalendrier!N11)","v":0},0]
["Déploiement Lot 1","Piquetage détaillé",1,{"$f":"SUM(SuiviCalendrier!G12)","v":0},{"$f":"SUM(SuiviCalendrier!N12)","v":0},0]
["Gestion des eaux Lot 1","Séquence Pentage-Compactage-Lissage-Pompage Lot 1",1,{"$f":"SUM(SuiviCalendrier!G13)","v":0},{"$f":"SUM(SuiviCalendrier!N13)","v":0},0]
["Réseau EP","Forme des fossés étanchés - Busage renforcé - Ecobox",1,{"$f":"SUM(SuiviCalendrier!G14)","v":0},{"$f":"SUM(SuiviCalendrier!N14)","v":0},0]
["Réseau EP","Contrôle externe Fossés",1,{"$f":"SUM(SuiviCalendrier!G15)","v":0},{"$f":"SUM(SuiviCalendrier!N15)","v":0},0]
["Réseau EP","Contrôle extérieur Fossés","EXT",{"$f":"SUM(SuiviCalendrier!G16)","v":0},{"$f":"SUM(SuiviCalendrier!N16)","v":0},0]
["Réseau EP","Pose du busage renforcé et de l'Ecobox",1,{"$f":"SUM(SuiviCalendrier!G17)","v":0},{"$f":"SUM(SuiviCalendrier!N17)","v":0},0]
["Réseau EP","Contrôle externe de type \"Réseaux Eaux pluviales\"",1,{"$f":"SUM(SuiviCalendrier!G18)","v":0},{"$f":"SUM(SuiviCalendrier!N18)","v":0},0]
["Réseau EP","Contrôle extrieur de type \"Réseaux Eaux pluviales\"",1,{"$f":"SUM(SuiviCalendrier!G19)","v":0},{"$f":"SUM(SuiviCalendrier!N19)","v":0},0]
["Réseau EP","Forme des fossés non étanchés",1,{"$f":"SUM(SuiviCalendrier!G20)","v":0},{"$f":"SUM(SuiviCalendrier!N20)","v":0},0]
["Réseau EP","Levée du Point d'Arrêt Fossés à étancher ou non et descentes d’eaux pluviales","MOE",{"$f":"SUM(SuiviCalendrier!G21)","v":0},{"$f":"SUM(SuiviCalendrier!N21)","v":0},0]
["Terres de recouvrement","Rapport de sondages avec photographies de la rive Ouest des casiers 8.3 et 8.4 (casier 4)",1,{"$f":"SUM(SuiviCalendrier!G22)","v":0},{"$f":"SUM(SuiviCalendrier!N22)","v":0},0]
["Terres de recouvrement","Levée du Point d'Arrêt Poursuite des déblais","MOE",{"$f":"SUM(SuiviCalendrier!G23)","v":0},{"$f":"SUM(SuiviCalendrier!N23)","v":0},0]
["Terres de recouvrement","Décapage des terres de couverture des casiers 8.2 à 8.4",1,{"$f":"SUM(SuiviCalendrier!G24)","v":0},{"$f":"SUM(SuiviCalendrier!N24)","v":0},0]
["Terres de recouvrement","Plan cinématique des stocks par famille - Indice 1",1,{"$f":"SUM(SuiviCalendrier!G25)","v":0},{"$f":"SUM(SuiviCalendrier!N25)","v":0},0]
["Terres de recouvrement","Information de Point critique \"Décapage recouvrements\"",1,{"$f":"SUM(SuiviCalendrier!G26)","v":0},{"$f":"SUM(SuiviCalendrier!N26)","v":0},0]
["Déblais","Extraction et mise en stock des excédents",1,{"$f":"SUM(SuiviCalendrier!G27)","v":0},{"$f":"SUM(SuiviCalendrier!N27)","v":0},0]
["Déblais","Réglage des talus",1,{"$f":"SUM(SuiviCalendrier!G28)","v":0},{"$f":"SUM(SuiviCalendrier!N28)","v":0},0]
["Déblais","Contrôle externe de type \"Fond de forme en déblai\"",1,{"$f":"SUM(SuiviCalendrier!G29)","v":0},{"$f":"SUM(SuiviCalendrier!N29)","v":0},0]
["Déblais","Contrôle extérieur de type \"Fond de forme en déblai\"","EXT",{"$f":"SUM(SuiviCalendrier!G30)","v":0},{"$f":"SUM(SuiviCalendrier!N30)","v":0},0]
["Déblais","Plan cinématique des stocks par famille - Indice 6",1,{"$f":"SUM(SuiviCalendrier!G31)","v":0},{"$f":"SUM(SuiviCalendrier!N31)","v":0},0]
["Déblais","Levée du Point d'Arrêt \"Déblais\"","MOE",{"$f":"SUM(SuiviCalendrier!G32)","v":0},{"$f":"SUM(SuiviCalendrier!N32)","v":0},0]
["Préparation Couverture casier 7.2","Compactage des Sol(s)-support du DEDG de Couverture",1,{"$f":"SUM(SuiviCalendrier!G33)","v":0},{"$f":"SUM(SuiviCalendrier!N33)","v":0},0]
["Préparation Couverture casier 7.2","Contrôle externe de type \"Couverture argileuse\"",1,{"$f":"SUM(SuiviCalendrier!G34)","v":0},{"$f":"SUM(SuiviCalendrier!N34)","v":0},0]
["Préparation Couverture casier 7.2","Contrôle extérieur de type \"Couverture argileuse\"","EXT",{"$f":"SUM(SuiviCalendrier!G35)","v":0},{"$f":"SUM(SuiviCalendrier!N35)","v":0},0]
["Préparation Couverture casier 7.2","Réception du Sol(s)-support du DEDG de Couverture","MOE",{"$f":"SUM(SuiviCalendrier!G36)","v":0},{"$f":"SUM(SuiviCalendrier!N36)","v":0},0]
["Préparation Couverture casier 7.2","Levée du Point d'Arrêt \"Sol(s)-support du DEDG de Couverture du casier 7.2","MOE",{"$f":"SUM(SuiviCalendrier!G37)","v":0},{"$f":"SUM(SuiviCalendrier!N37)","v":0},0]
["Biogaz Zone Nord","Préparation du réseau de biogaz Zone Nord du casier 7.2",3,{"$f":"SUM(SuiviCalendrier!G38)","v":0},{"$f":"SUM(SuiviCalendrier!N38)","v":0},0]
["Etat des lieux Lot 2","Constat d'Etat des lieux contradictoire","MOE",{"$f":"SUM(SuiviCalendrier!G39)","v":0},{"$f":"SUM(SuiviCalendrier!N39)","v":0},0]
["Déploiement Lot 2","Mise en place des installations de chantier",2,{"$f":"SUM(SuiviCalendrier!G40)","v":0},{"$f":"SUM(SuiviCalendrier!N40)","v":0},0]
["Déploiement Lot 2","Transferts matériels",2,{"$f":"SUM(SuiviCalendrier!G41)","v":0},{"$f":"SUM(SuiviCalendrier!N41)","v":0},0]
["Déploiement Lot 2","Aménagement des pistes d'accès et mise en place signalisation",2,{"$f":"SUM(SuiviCalendrier!G42)","v":0},{"$f":"SUM(SuiviCalendrier!N42)","v":0},0]
["Déploiement Lot 2","Aménagement des plateformes de stockage",2,{"$f":"SUM(SuiviCalendrier!G43)","v":0},{"$f":"SUM(SuiviCalendrier!N43)","v":0},0]
["Gestion des eaux Lot2","Séquence Pentage-Compactage-Lissage-Pompage Lot 2",2,{"$f":"SUM(SuiviCalendrier!G44)","v":0},{"$f":"SUM(SuiviCalendrier!N44)","v":0},0]
["Fourniture des Géosynthétiques","Livraison des fournitures",2,{"$f":"SUM(SuiviCalendrier!G45)","v":0},{"$f":"SUM(SuiviCalendrier!N45)","v":0},0]
["Fourniture des Géosynthétiques","Résultats de conformité / responsable du contrôle interne",2,{"$f":"SUM(SuiviCalendrier!G46)","v":0},{"$f":"SUM(SuiviCalendrier!N46)","v":0},0]
["Fourniture des Géosynthétiques","Résultats de conformité / responsable du contrôle extérieur","EXT",{"$f":"SUM(SuiviCalendrier!G47)","v":0},{"$f":"SUM(SuiviCalendrier!N47)","v":0},0]
["Fourniture des Géosynthétiques","Réception des géosynthétiques par le MO","MOE",{"$f":"SUM(SuiviCalendrier!G48)","v":0},{"$f":"SUM(SuiviCalendrier!N48)","v":0},0]
["DEDG Couverture Zone Nord","Partie inférieure de la Géogrille Zone Nord",2,{"$f":"SUM(SuiviCalendrier!G49)","v":0},{"$f":"SUM(SuiviCalendrier!N49)","v":0},0]
["DEDG Couverture Zone Nord","Contrôle interne de type \"Géogrille\"",2,{"$f":"SUM(SuiviCalendrier!G50)","v":0},{"$f":"SUM(SuiviCalendrier!N50)","v":0},0]
["DEDG Couverture Zone Nord","Contrôle extérieur de type \"Géogrille\"","EXT",{"$f":"SUM(SuiviCalendrier!G51)","v":0},{"$f":"SUM(SuiviCalendrier!N51)","v":0},0]
["DEDG Couverture Zone Nord","GMB 1,5 mm + Fossés étanchés de la zone Nord",2,{"$f":"SUM(SuiviCalendrier!G52)","v":0},{"$f":"SUM(SuiviCalendrier!N52)","v":0},0]
["DEDG Couverture Zone Nord","Contrôle interne de type \"Géomembrane PEHD\"",2,{"$f":"SUM(SuiviCalendrier!G53)","v":0},{"$f":"SUM(SuiviCalendrier!N53)","v":0},0]
["DEDG Couverture Zone Nord","Contrôle extérieur de type \"Géomembrane PEHD\"","EXT",{"$f":"SUM(SuiviCalendrier!G54)","v":0},{"$f":"SUM(SuiviCalendrier!N54)","v":0},0]
["DEDG Couverture Zone Nord","Application du plan de calepinage Géocomposite de drainage",2,{"$f":"SUM(SuiviCalendrier!G55)","v":0},{"$f":"SUM(SuiviCalendrier!N55)","v":0},0]
["DEDG Couverture Zone Nord","Contrôle interne de type \"Géocomposite de drainage \"",2,{"$f":"SUM(SuiviCalendrier!G56)","v":0},{"$f":"SUM(SuiviCalendrier!N56)","v":0},0]
["DEDG Couverture Zone Nord","Contrôle extérieur de type \"Géocomposite de drainage \"","EXT",{"$f":"SUM(SuiviCalendrier!G57)","v":0},{"$f":"SUM(SuiviCalendrier!N57)","v":0},0]
["Matériaux argileux Zone Nord","Réception du Sol(s)-support des matériaux argileux (70cm)","MOE",{"$f":"SUM(SuiviCalendrier!G58)","v":0},{"$f":"SUM(SuiviCalendrier!N58)","v":0},0]
["Matériaux argileux Zone Nord","Planche d'essais de mise en œuvre et compactage",1,{"$f":"SUM(SuiviCalendrier!G59)","v":0},{"$f":"SUM(SuiviCalendrier!N59)","v":0},0]
["Matériaux argileux Zone Nord","Levée du Point d'Arrêt Transmission du Rapport de planche d'essais / Couverture du casier 7.2 = Matériaux argileux (70 cm)","MOE",{"$f":"SUM(SuiviCalendrier!G60)","v":0},{"$f":"SUM(SuiviCalendrier!N60)","v":0},0]
["Matériaux argileux Zone Nord","Matériaux argileux (70 cm) Couverture Zone Nord du casier 7.2",1,{"$f":"SUM(SuiviCalendrier!G61)","v":0},{"$f":"SUM(SuiviCalendrier!N61)","v":0},0]
["Matériaux argileux Zone Nord","Contrôle externe de type \"Couverture argileuse\"",1,{"$f":"SUM(SuiviCalendrier!G62)","v":0},{"$f":"SUM(SuiviCalendrier!N62)","v":0},0]
["Matériaux argileux Zone Nord","Contrôle extérieur de type \"Couverture argileuse\"","EXT",{"$f":"SUM(SuiviCalendrier!G63)","v":0},{"$f":"SUM(SuiviCalendrier!N63)","v":0},0]
["Matériaux argileux Zone Nord","Plan cinématique des stocks par famille - Indice 2",1,{"$f":"SUM(SuiviCalendrier!G64)","v":0},{"$f":"SUM(SuiviCalendrier!N64)","v":0},0]
["Matériaux argileux Zone Nord","Levée du Point d'Arrêt \"Remblais / Couverture du casier 7.2 = Matériaux argileux (70 cm)-Zone Nord\"","MOE",{"$f":"SUM(SuiviCalendrier!G65)","v":0},{"$f":"SUM(SuiviCalendrier!N65)","v":0},0]
["Biogaz Zones Nord et Sud","Mise en service du réseau de biogaz Zone Nord du casier 7.2",3,{"$f":"SUM(SuiviCalendrier!G66)","v":0},{"$f":"SUM(SuiviCalendrier!N66)","v":0},0]
["Biogaz Zones Nord et Sud","Mise en préparation du réseau de biogaz Zone Sud du casier 7.2",3,{"$f":"SUM(SuiviCalendrier!G67)","v":0},{"$f":"SUM(SuiviCalendrier!N67)","v":0},{"$f":"SUM(D67:E67)","v":0}]
["Merlons paysagers","Merlon paysager Nord",1,{"$f":"SUM(SuiviCalendrier!G68)","v":0},{"$f":"SUM(SuiviCalendrier!N68)","v":0},0]
["Merlons paysagers","Merlon paysager Sud",1,{"$f":"SUM(SuiviCalendrier!G69)","v":0},{"$f":"SUM(SuiviCalendrier!N69)","v":0},0]
["Merlons paysagers","Contrôle externe de type \"Remblai simple\"",1,{"$f":"SUM(SuiviCalendrier!G70)","v":0},{"$f":"SUM(SuiviCalendrier!N70)","v":0},0]
["Merlons paysagers","Contrôle extérieur de type \"Remblai simple\"","EXT",{"$f":"SUM(SuiviCalendrier!G71)","v":0},{"$f":"SUM(SuiviCalendrier!N71)","v":0},0]
["Merlons paysagers","Plan cinématique des stocks par famille - Indice 3",1,{"$f":"SUM(SuiviCalendrier!G72)","v":0},{"$f":"SUM(SuiviCalendrier!N72)","v":0},0]
["Barrière passive","Planche d'essais Barrière passive",1,{"$f":"SUM(SuiviCalendrier!G73)","v":0},{"$f":"SUM(SuiviCalendrier!N73)","v":0},0]
["Barrière passive","Levée du Point d'Arrêt \"Transmission du Rapport de planche d'essais / Barrière passive\"","MOE",{"$f":"SUM(SuiviCalendrier!G74)","v":0},{"$f":"SUM(SuiviCalendrier!N74)","v":0},0]
["Barrière passive","Compactage des Sol(s)-support de Barrière Passive",1,{"$f":"SUM(SuiviCalendrier!G75)","v":0},{"$f":"SUM(SuiviCalendrier!N75)","v":0},0]
["Barrière passive","Contrôle externe de type \"Barrière passive\"",1,{"$f":"SUM(SuiviCalendrier!G76)","v":0},{"$f":"SUM(SuiviCalendrier!N76)","v":0},0]
["Barrière passive","Contrôle extérieur de type \"Barrière passive\"","EXT",{"$f":"SUM(SuiviCalendrier!G77)","v":0},{"$f":"SUM(SuiviCalendrier!N77)","v":0},0]
["Barrière passive","Levée du Point d'Arrêt \"Sol(s)-support de la Barrière passive\"","MOE",{"$f":"SUM(SuiviCalendrier!G78)","v":0},{"$f":"SUM(SuiviCalendrier!N78)","v":0},0]
["Barrière passive","Risbermes Nord des casiers 8.2 à 8.4",1,{"$f":"SUM(SuiviCalendrier!G79)","v":0},{"$f":"SUM(SuiviCalendrier!N79)","v":0},0]
["Barrière passive","Digue de séparation 8.3-8.5",1,{"$f":"SUM(SuiviCalendrier!G80)","v":0},{"$f":"SUM(SuiviCalendrier!N80)","v":0},0]
["Barrière passive","Digue périphérique Nord des casiers 8.2 et 8.3",1,{"$f":"SUM(SuiviCalendrier!G81)","v":0},{"$f":"SUM(SuiviCalendrier!N81)","v":0},0]
["Barrière passive","Contrôle externe de type \"Barrière passive\"",1,{"$f":"SUM(SuiviCalendrier!G82)","v":0},{"$f":"SUM(SuiviCalendrier!N82)","v":0},0]
["Barrière passive","Contrôle extérieur de type \"Barrière passive\"","EXT",{"$f":"SUM(SuiviCalendrier!G83)","v":0},{"$f":"SUM(SuiviCalendrier!N83)","v":0},0]
["Barrière passive","Réception du Sol(s)-support du DEDG de(s) Casier(s)","MOE",{"$f":"SUM(SuiviCalendrier!G84)","v":0},{"$f":"SUM(SuiviCalendrier!N84)","v":0},0]
["Barrière passive","Levée du Point d'Arrêt \"Remblais spécifiques avec Barrière passive\"","MOE",{"$f":"SUM(SuiviCalendrier!G85)","v":0},{"$f":"SUM(SuiviCalendrier!N85)","v":0},0]
["DEDG Couverture Zone Sud","Partie inférieure de la Géogrille Zone Sud",2,{"$f":"SUM(SuiviCalendrier!G86)","v":0},{"$f":"SUM(SuiviCalendrier!N86)","v":0},0]
["DEDG Couverture Zone Sud","Contrôle interne de type \"Géogrille\"",2,{"$f":"SUM(SuiviCalendrier!G87)","v":0},{"$f":"SUM(SuiviCalendrier!N87)","v":0},0]
["DEDG Couverture Zone Sud","Contrôle extérieur de type \"Géogrille\"","EXT",{"$f":"SUM(SuiviCalendrier!G88)","v":0},{"$f":"SUM(SuiviCalendrier!N88)","v":0},0]
["DEDG Couverture Zone Sud","GMB 1,5 mm + Fossés étanchés de la zone Sud + Exutoire existant",2,{"$f":"SUM(SuiviCalendrier!G89)","v":0},{"$f":"SUM(SuiviCalendrier!N89)","v":0},0]
["DEDG Couverture Zone Sud","Contrôle interne de type \"Géomembrane PEHD\"",2,{"$f":"SUM(SuiviCalendrier!G90)","v":0},{"$f":"SUM(SuiviCalendrier!N90)","v":0},0]
["DEDG Couverture Zone Sud","Contrôle extérieur de type \"Géomembrane PEHD\"","EXT",{"$f":"SUM(SuiviCalendrier!G91)","v":0},{"$f":"SUM(SuiviCalendrier!N91)","v":0},0]
["DEDG Couverture Zone Sud","Application du plan de calepinage Géocomposite de drainage",2,{"$f":"SUM(SuiviCalendrier!G92)","v":0},{"$f":"SUM(SuiviCalendrier!N92)","v":0},0]
["DEDG Couverture Zone Sud","Contrôle interne de type \"Géocomposite de drainage \"",2,{"$f":"SUM(SuiviCalendrier!G93)","v":0},{"$f":"SUM(SuiviCalendrier!N93)","v":0},0]
["DEDG Couverture Zone Sud","Contrôle extérieur de type \"Géocomposite de drainage \"","EXT",{"$f":"SUM(SuiviCalendrier!G94)","v":0},{"$f":"SUM(SuiviCalendrier!N94)","v":0},0]
["Matériaux argileux Zone Sud","Matériaux argileux (70 cm) Couverture Zone Sud du casier 7.2",1,{"$f":"SUM(SuiviCalendrier!G95)","v":0},{"$f":"SUM(SuiviCalendrier!N95)","v":0},0]
["Matériaux argileux Zone Sud","Contrôle externe de type \"Couverture argileuse\"",1,{"$f":"SUM(SuiviCalendrier!G96)","v":0},{"$f":"SUM(SuiviCalendrier!N96)","v":0},0]
["Matériaux argileux Zone Sud","Contrôle extérieur de type \"Couverture argileuse\"","EXT",{"$f":"SUM(SuiviCalendrier!G97)","v":0},{"$f":"SUM(SuiviCalendrier!N97)","v":0},0]
["Matériaux argileux Zone Sud","Plan cinématique des stocks par famille - Indice 4",1,{"$f":"SUM(SuiviCalendrier!G98)","v":0},{"$f":"SUM(SuiviCalendrier!N98)","v":0},0]
["Matériaux argileux Zone Sud","Levée du Point d'Arrêt \"Remblais / Couverture du casier 7.2 = Matériaux argileux (70 cm)-Zone Sud\"","MOE",{"$f":"SUM(SuiviCalendrier!G99)","v":0},{"$f":"SUM(SuiviCalendrier!N99)","v":0},0]
["Biogaz Zone Sud","Mise en service du réseau de biogaz Zone Sud du casier 7.2",3,{"$f":"SUM(SuiviCalendrier!G100)","v":0},{"$f":"SUM(SuiviCalendrier!N100)","v":0},0]
["Couverture finale Casier 7.2","Terre végétalisable (10 cm) Couverture 7.2",1,{"$f":"SUM(SuiviCalendrier!G101)","v":0},{"$f":"SUM(SuiviCalendrier!N101)","v":0},0]
["Couverture finale Casier 7.2","Contrôle externe de type \"Remblai simple\"",1,{"$f":"SUM(SuiviCalendrier!G102)","v":0},{"$f":"SUM(SuiviCalendrier!N102)","v":0},0]
["Couverture finale Casier 7.2","Contrôle extérieur de type \"Remblai simple\"","EXT",{"$f":"SUM(SuiviCalendrier!G103)","v":0},{"$f":"SUM(SuiviCalendrier!N103)","v":0},0]
["Couverture finale Casier 7.2","Plan cinématique des stocks par famille - Indice 5",1,{"$f":"SUM(SuiviCalendrier!G104)","v":0},{"$f":"SUM(SuiviCalendrier!N104)","v":0},0]
["Couverture finale Casier 7.2","Information de Point critique \"Couverture finale du casier 7.2 = Terre végétalisable (10 cm)\"",1,{"$f":"SUM(SuiviCalendrier!G105)","v":0},{"$f":"SUM(SuiviCalendrier!N105)","v":0},0]
["Couverture finale Casier 7.2","Partie supérieure de la Géogrille Zone Nord et Sud",2,{"$f":"SUM(SuiviCalendrier!G106)","v":0},{"$f":"SUM(SuiviCalendrier!N106)","v":0},0]
["Couverture finale Casier 7.2","Contrôle interne de type \"Géogrille\"",2,{"$f":"SUM(SuiviCalendrier!G107)","v":0},{"$f":"SUM(SuiviCalendrier!N107)","v":0},0]
["Couverture finale Casier 7.2","Contrôle extérieur de type \"Géogrille\"","EXT",{"$f":"SUM(SuiviCalendrier!G108)","v":0},{"$f":"SUM(SuiviCalendrier!N108)","v":0},0]
["DEDG Casiers","Application du plan de calepinage GSB",2,{"$f":"SUM(SuiviCalendrier!G109)","v":0},{"$f":"SUM(SuiviCalendrier!N109)","v":0},0]
["DEDG Casiers","Contrôle interne de type \"Géosynthétique bentonitique\"",2,{"$f":"SUM(SuiviCalendrier!G110)","v":0},{"$f":"SUM(SuiviCalendrier!N110)","v":0},0]
["DEDG Casiers","Contrôle extérieur de type \"Géosynthétique bentonitique\"","EXT",{"$f":"SUM(SuiviCalendrier!G111)","v":0},{"$f":"SUM(SuiviCalendrier!N111)","v":0},0]
["DEDG Casiers","Application du plan de calepinage GMB 2 mm",2,{"$f":"SUM(SuiviCalendrier!G112)","v":0},{"$f":"SUM(SuiviCalendrier!N112)","v":0},0]
["DEDG Casiers","Contrôle interne de type \"Géomembrane PEHD\"",2,{"$f":"SUM(SuiviCalendrier!G113)","v":0},{"$f":"SUM(SuiviCalendrier!N113)","v":0},0]
["DEDG Casiers","Contrôle extérieur de type \"Géomembrane PEHD\"","EXT",{"$f":"SUM(SuiviCalendrier!G114)","v":0},{"$f":"SUM(SuiviCalendrier!N114)","v":0},0]
["DEDG Casiers","Levée du Point d'Arrêt \"Géomembrane PEHD\"","MOE",{"$f":"SUM(SuiviCalendrier!G115)","v":0},{"$f":"SUM(SuiviCalendrier!N115)","v":0},0]
["DEDG Casiers","Soudage des lès du GTX supérieur",2,{"$f":"SUM(SuiviCalendrier!G116)","v":0},{"$f":"SUM(SuiviCalendrier!N116)","v":0},0]
["DEDG Casiers","Contrôle interne de type \"Géotextile\"",2,{"$f":"SUM(SuiviCalendrier!G117)","v":0},{"$f":"SUM(SuiviCalendrier!N117)","v":0},0]
["DEDG Casiers","Contrôle extérieur de type \"Géotextile\"","EXT",{"$f":"SUM(SuiviCalendrier!G118)","v":0},{"$f":"SUM(SuiviCalendrier!N118)","v":0},0]
["DEDG Casiers","Réception du Sol(s)-support du Drainage des Lixiviats","MOE",{"$f":"SUM(SuiviCalendrier!G119)","v":0},{"$f":"SUM(SuiviCalendrier!N119)","v":0},0]
["Drainage des lixiviats","Mise en oeuvre Puits",1,{"$f":"SUM(SuiviCalendrier!G120)","v":0},{"$f":"SUM(SuiviCalendrier!N120)","v":0},0]
["Drainage des lixiviats","Contrôle externe de type \"Regards\"",1,{"$f":"SUM(SuiviCalendrier!G121)","v":0},{"$f":"SUM(SuiviCalendrier!N121)","v":0},0]
["Drainage des lixiviats","Contrôle extérieur de type \"Regards\"","EXT",{"$f":"SUM(SuiviCalendrier!G122)","v":0},{"$f":"SUM(SuiviCalendrier!N122)","v":0},0]
["Drainage des lixiviats","Drains Lixiviat Casier 8.2",1,{"$f":"SUM(SuiviCalendrier!G123)","v":0},{"$f":"SUM(SuiviCalendrier!N123)","v":0},0]
["Drainage des lixiviats","Contrôle externe de type \"Drains Lixiviats\"",1,{"$f":"SUM(SuiviCalendrier!G124)","v":0},{"$f":"SUM(SuiviCalendrier!N124)","v":0},0]
["Drainage des lixiviats","Contrôle extérieur de type \"Drains Lixiviats\"","EXT",{"$f":"SUM(SuiviCalendrier!G125)","v":0},{"$f":"SUM(SuiviCalendrier!N125)","v":0},0]
["Drainage des lixiviats","Livraison des matériaux drainants",1,{"$f":"SUM(SuiviCalendrier!G126)","v":0},{"$f":"SUM(SuiviCalendrier!N126)","v":0},0]
["Drainage des lixiviats","Plan cinématique des stocks par famille - Indice 7",1,{"$f":"SUM(SuiviCalendrier!G127)","v":0},{"$f":"SUM(SuiviCalendrier!N127)","v":0},0]
["Drainage des lixiviats","Massif drainant Casier 8.2",1,{"$f":"SUM(SuiviCalendrier!G128)","v":0},{"$f":"SUM(SuiviCalendrier!N128)","v":0},0]
["Drainage des lixiviats","Contrôle externe de type \"Massif drainant\"",1,{"$f":"SUM(SuiviCalendrier!G129)","v":0},{"$f":"SUM(SuiviCalendrier!N129)","v":0},0]
["Drainage des lixiviats","Contrôle extérieur de type \"Massif drainant\"","EXT",{"$f":"SUM(SuiviCalendrier!G130)","v":0},{"$f":"SUM(SuiviCalendrier!N130)","v":0},0]
["Drainage des lixiviats","Plan cinématique des stocks par famille - Indice 8",1,{"$f":"SUM(SuiviCalendrier!G131)","v":0},{"$f":"SUM(SuiviCalendrier!N131)","v":0},{"$f":"SUM(D131:E131)","v":0}]
["Drainage des lixiviats","Levée du Point d'Arrêt Drainage lixiviats (dalle de répartition, puits de pompage, drains et massif drainant)","MOE",{"$f":"SUM(SuiviCalendrier!G132)","v":0},{"$f":"SUM(SuiviCalendrier!N132)","v":0},0]
["Plateforme","Couche de base de 50 cm en GNT de classe R61",1,{"$f":"SUM(SuiviCalendrier!G133)","v":0},{"$f":"SUM(SuiviCalendrier!N133)","v":0},0]
["Plateforme","Contrôle externe de types \"Plateforme\"",1,{"$f":"SUM(SuiviCalendrier!G134)","v":0},{"$f":"SUM(SuiviCalendrier!N134)","v":0},0]
["Plateforme","Contrôle extérieur de types \"Plateforme\"","EXT",{"$f":"SUM(SuiviCalendrier!G135)","v":0},{"$f":"SUM(SuiviCalendrier!N135)","v":0},0]
["Plateforme","Couche de 20 cm en GNT de classe R61",1,{"$f":"SUM(SuiviCalendrier!G136)","v":0},{"$f":"SUM(SuiviCalendrier!N136)","v":0},0]
["Plateforme","Contrôle externe de types \"Plateforme\"",1,{"$f":"SUM(SuiviCalendrier!G137)","v":0},{"$f":"SUM(SuiviCalendrier!N137)","v":0},0]
["Plateforme","Contrôle extérieur de types \"Plateforme\"","EXT",{"$f":"SUM(SuiviCalendrier!G138)","v":0},{"$f":"SUM(SuiviCalendrier!N138)","v":0},0]
["Remise en état des lieux","Démontage des installations du Lot 1",1,{"$f":"SUM(SuiviCalendrier!G139)","v":0},{"$f":"SUM(SuiviCalendrier!N139)","v":0},0]
["Remise en état des lieux","Nettoyage général du Lot 1",1,{"$f":"SUM(SuiviCalendrier!G140)","v":0},{"$f":"SUM(SuiviCalendrier!N140)","v":0},0]
["Remise en état des lieux","Démontage des installations du Lot 2",2,{"$f":"SUM(SuiviCalendrier!G141)","v":0},{"$f":"SUM(SuiviCalendrier!N141)","v":0},0]
["Remise en état des lieux","Nettoyage général du Lot 2",2,{"$f":"SUM(SuiviCalendrier!G142)","v":0},{"$f":"SUM(SuiviCalendrier!N142)","v":0},0]
["Opérations de réception","D.O.E. du Lot 1",1,{"$f":"SUM(SuiviCalendrier!G143)","v":0},{"$f":"SUM(SuiviCalendrier!N143)","v":0},0]
["Opérations de réception","D.O.E. du Lot 2",2,{"$f":"SUM(SuiviCalendrier!G144)","v":0},{"$f":"SUM(SuiviCalendrier!N144)","v":0},0]
["Opérations de réception","Visite de Réception du Lot 1",1,{"$f":"SUM(SuiviCalendrier!G145)","v":0},{"$f":"SUM(SuiviCalendrier!N145)","v":0},0]
["Opérations de réception","Visite de Réception du Lot 2",2,{"$f":"SUM(SuiviCalendrier!G146)","v":0},{"$f":"SUM(SuiviCalendrier!N146)","v":0},0]
["Opérations de réception","Proposition de réception Lot 1 avec ou sans réserves",1,{"$f":"SUM(SuiviCalendrier!G147)","v":0},{"$f":"SUM(SuiviCalendrier!N147)","v":0},0]
["Opérations de réception","Proposition de réception Lot 2 avec ou sans réserves",2,{"$f":"SUM(SuiviCalendrier!G148)","v":0},{"$f":"SUM(SuiviCalendrier!N148)","v":0},0]
["Opérations de réception","Suivi et levée des réserves Lot 1",1,{"$f":"SUM(SuiviCalendrier!G149)","v":0},{"$f":"SUM(SuiviCalendrier!N149)","v":0},0]
["Opérations de réception","Suivi et levée des réserves Lot 2",2,{"$f":"SUM(SuiviCalendrier!G150)","v":0},{"$f":"SUM(SuiviCalendrier!N150)","v":0},0]

{"sheet":"RetardsEntreprises","index":6,"n_rows":150,"n_cols":9,"rows_kept":150,"cut":false,"hidden":false,"merged":[]}
["Phase","Tâche","N° Lot","Retard Entreprise au démarrage de la tâche","Retard Entreprise à la réalisation de la tâche","Total des Retards Entreprise de la tâche","Total des retards Entreprise au démarrage des tâches","Total des retards Entreprise à la réalisation des tâches","Total des retards Entreprise du chantier"]
["Etat des lieux Lot 1","Sondages complémentaires",1,{"$f":"SUM(SuiviCalendrier!H2)","v":0},{"$f":"SUM(SuiviCalendrier!O2)","v":0},{"$f":"SUM(D2:E2)","v":0},{"$f":"SUM(D2:D150)","v":0},{"$f":"SUM(E2:E150)","v":0},{"$f":"SUM(G2:H2)","v":0}]
["Etat des lieux Lot 1","Reconnaissance des réseaux",1,{"$f":"SUM(SuiviCalendrier!H3)","v":0},{"$f":"SUM(SuiviCalendrier!O3)","v":0},{"$f":"SUM(D3:E3)","v":0}]
["Etat des lieux Lot 1","Plan Topographique Général Initial",1,{"$f":"SUM(SuiviCalendrier!H4)","v":0},{"$f":"SUM(SuiviCalendrier!O4)","v":0},0]
["Etat des lieux Lot 1","Constat d'Etat des lieux contradictoire","MOE",{"$f":"SUM(SuiviCalendrier!H5)","v":0},{"$f":"SUM(SuiviCalendrier!O5)","v":0},0]
["Déploiement Lot 1","Mise en place des installations de chantier",1,{"$f":"SUM(SuiviCalendrier!H6)","v":0},{"$f":"SUM(SuiviCalendrier!O6)","v":0},0]
["Déploiement Lot 1","Transferts matériels",1,{"$f":"SUM(SuiviCalendrier!H7)","v":0},{"$f":"SUM(SuiviCalendrier!O7)","v":0},0]
["Déploiement Lot 1","Aménagement des pistes d'accès et mise en place signalisation",1,{"$f":"SUM(SuiviCalendrier!H8)","v":0},{"$f":"SUM(SuiviCalendrier!O8)","v":0},0]
["Déploiement Lot 1","Aménagement des plateformes de stockage",1,{"$f":"SUM(SuiviCalendrier!H9)","v":0},{"$f":"SUM(SuiviCalendrier!O9)","v":0},0]
["Déploiement Lot 1","Réalisation des assainissements provisoires de chantier",1,{"$f":"SUM(SuiviCalendrier!H10)","v":0},{"$f":"SUM(SuiviCalendrier!O10)","v":0},0]
["Déploiement Lot 1","Plan cinématique des stocks par famille - Indice 0",1,{"$f":"SUM(SuiviCalendrier!H11)","v":0},{"$f":"SUM(SuiviCalendrier!O11)","v":0},0]
["Déploiement Lot 1","Piquetage détaillé",1,{"$f":"SUM(SuiviCalendrier!H12)","v":0},{"$f":"SUM(SuiviCalendrier!O12)","v":0},0]
["Gestion des eaux Lot 1","Séquence Pentage-Compactage-Lissage-Pompage Lot 1",1,{"$f":"SUM(SuiviCalendrier!H13)","v":0},{"$f":"SUM(SuiviCalendrier!O13)","v":0},0]
["Réseau EP","Forme des fossés étanchés - Busage renforcé - Ecobox",1,{"$f":"SUM(SuiviCalendrier!H14)","v":0},{"$f":"SUM(SuiviCalendrier!O14)","v":0},0]
["Réseau EP","Contrôle externe Fossés",1,{"$f":"SUM(SuiviCalendrier!H15)","v":0},{"$f":"SUM(SuiviCalendrier!O15)","v":0},0]
["Réseau EP","Contrôle extérieur Fossés","EXT",{"$f":"SUM(SuiviCalendrier!H16)","v":0},{"$f":"SUM(SuiviCalendrier!O16)","v":0},0]
["Réseau EP","Pose du busage renforcé et de l'Ecobox",1,{"$f":"SUM(SuiviCalendrier!H17)","v":0},{"$f":"SUM(SuiviCalendrier!O17)","v":0},0]
["Réseau EP","Contrôle externe de type \"Réseaux Eaux pluviales\"",1,{"$f":"SUM(SuiviCalendrier!H18)","v":0},{"$f":"SUM(SuiviCalendrier!O18)","v":0},0]
["Réseau EP","Contrôle extrieur de type \"Réseaux Eaux pluviales\"",1,{"$f":"SUM(SuiviCalendrier!H19)","v":0},{"$f":"SUM(SuiviCalendrier!O19)","v":0},0]
["Réseau EP","Forme des fossés non étanchés",1,{"$f":"SUM(SuiviCalendrier!H20)","v":0},{"$f":"SUM(SuiviCalendrier!O20)","v":0},0]
["Réseau EP","Levée du Point d'Arrêt Fossés à étancher ou non et descentes d’eaux pluviales","MOE",{"$f":"SUM(SuiviCalendrier!H21)","v":0},{"$f":"SUM(SuiviCalendrier!O21)","v":0},0]
["Terres de recouvrement","Rapport de sondages avec photographies de la rive Ouest des casiers 8.3 et 8.4 (casier 4)",1,{"$f":"SUM(SuiviCalendrier!H22)","v":0},{"$f":"SUM(SuiviCalendrier!O22)","v":0},0]
["Terres de recouvrement","Levée du Point d'Arrêt Poursuite des déblais","MOE",{"$f":"SUM(SuiviCalendrier!H23)","v":0},{"$f":"SUM(SuiviCalendrier!O23)","v":0},0]
["Terres de recouvrement","Décapage des terres de couverture des casiers 8.2 à 8.4",1,{"$f":"SUM(SuiviCalendrier!H24)","v":0},{"$f":"SUM(SuiviCalendrier!O24)","v":0},0]
["Terres de recouvrement","Plan cinématique des stocks par famille - Indice 1",1,{"$f":"SUM(SuiviCalendrier!H25)","v":0},{"$f":"SUM(SuiviCalendrier!O25)","v":0},0]
["Terres de recouvrement","Information de Point critique \"Décapage recouvrements\"",1,{"$f":"SUM(SuiviCalendrier!H26)","v":0},{"$f":"SUM(SuiviCalendrier!O26)","v":0},0]
["Déblais","Extraction et mise en stock des excédents",1,{"$f":"SUM(SuiviCalendrier!H27)","v":0},{"$f":"SUM(SuiviCalendrier!O27)","v":0},0]
["Déblais","Réglage des talus",1,{"$f":"SUM(SuiviCalendrier!H28)","v":0},{"$f":"SUM(SuiviCalendrier!O28)","v":0},0]
["Déblais","Contrôle externe de type \"Fond de forme en déblai\"",1,{"$f":"SUM(SuiviCalendrier!H29)","v":0},{"$f":"SUM(SuiviCalendrier!O29)","v":0},0]
["Déblais","Contrôle extérieur de type \"Fond de forme en déblai\"","EXT",{"$f":"SUM(SuiviCalendrier!H30)","v":0},{"$f":"SUM(SuiviCalendrier!O30)","v":0},0]
["Déblais","Plan cinématique des stocks par famille - Indice 6",1,{"$f":"SUM(SuiviCalendrier!H31)","v":0},{"$f":"SUM(SuiviCalendrier!O31)","v":0},0]
["Déblais","Levée du Point d'Arrêt \"Déblais\"","MOE",{"$f":"SUM(SuiviCalendrier!H32)","v":0},{"$f":"SUM(SuiviCalendrier!O32)","v":0},0]
["Préparation Couverture casier 7.2","Compactage des Sol(s)-support du DEDG de Couverture",1,{"$f":"SUM(SuiviCalendrier!H33)","v":0},{"$f":"SUM(SuiviCalendrier!O33)","v":0},0]
["Préparation Couverture casier 7.2","Contrôle externe de type \"Couverture argileuse\"",1,{"$f":"SUM(SuiviCalendrier!H34)","v":0},{"$f":"SUM(SuiviCalendrier!O34)","v":0},0]
["Préparation Couverture casier 7.2","Contrôle extérieur de type \"Couverture argileuse\"","EXT",{"$f":"SUM(SuiviCalendrier!H35)","v":0},{"$f":"SUM(SuiviCalendrier!O35)","v":0},0]
["Préparation Couverture casier 7.2","Réception du Sol(s)-support du DEDG de Couverture","MOE",{"$f":"SUM(SuiviCalendrier!H36)","v":0},{"$f":"SUM(SuiviCalendrier!O36)","v":0},0]
["Préparation Couverture casier 7.2","Levée du Point d'Arrêt \"Sol(s)-support du DEDG de Couverture du casier 7.2","MOE",{"$f":"SUM(SuiviCalendrier!H37)","v":0},{"$f":"SUM(SuiviCalendrier!O37)","v":0},0]
["Biogaz Zone Nord","Préparation du réseau de biogaz Zone Nord du casier 7.2",3,{"$f":"SUM(SuiviCalendrier!H38)","v":0},{"$f":"SUM(SuiviCalendrier!O38)","v":0},0]
["Etat des lieux Lot 2","Constat d'Etat des lieux contradictoire","MOE",{"$f":"SUM(SuiviCalendrier!H39)","v":0},{"$f":"SUM(SuiviCalendrier!O39)","v":0},0]
["Déploiement Lot 2","Mise en place des installations de chantier",2,{"$f":"SUM(SuiviCalendrier!H40)","v":0},{"$f":"SUM(SuiviCalendrier!O40)","v":0},0]
["Déploiement Lot 2","Transferts matériels",2,{"$f":"SUM(SuiviCalendrier!H41)","v":0},{"$f":"SUM(SuiviCalendrier!O41)","v":0},0]
["Déploiement Lot 2","Aménagement des pistes d'accès et mise en place signalisation",2,{"$f":"SUM(SuiviCalendrier!H42)","v":0},{"$f":"SUM(SuiviCalendrier!O42)","v":0},0]
["Déploiement Lot 2","Aménagement des plateformes de stockage",2,{"$f":"SUM(SuiviCalendrier!H43)","v":0},{"$f":"SUM(SuiviCalendrier!O43)","v":0},0]
["Gestion des eaux Lot2","Séquence Pentage-Compactage-Lissage-Pompage Lot 2",2,{"$f":"SUM(SuiviCalendrier!H44)","v":0},{"$f":"SUM(SuiviCalendrier!O44)","v":0},0]
["Fourniture des Géosynthétiques","Livraison des fournitures",2,{"$f":"SUM(SuiviCalendrier!H45)","v":0},{"$f":"SUM(SuiviCalendrier!O45)","v":0},0]
["Fourniture des Géosynthétiques","Résultats de conformité / responsable du contrôle interne",2,{"$f":"SUM(SuiviCalendrier!H46)","v":0},{"$f":"SUM(SuiviCalendrier!O46)","v":0},0]
["Fourniture des Géosynthétiques","Résultats de conformité / responsable du contrôle extérieur","EXT",{"$f":"SUM(SuiviCalendrier!H47)","v":0},{"$f":"SUM(SuiviCalendrier!O47)","v":0},0]
["Fourniture des Géosynthétiques","Réception des géosynthétiques par le MO","MOE",{"$f":"SUM(SuiviCalendrier!H48)","v":0},{"$f":"SUM(SuiviCalendrier!O48)","v":0},0]
["DEDG Couverture Zone Nord","Partie inférieure de la Géogrille Zone Nord",2,{"$f":"SUM(SuiviCalendrier!H49)","v":0},{"$f":"SUM(SuiviCalendrier!O49)","v":0},0]
["DEDG Couverture Zone Nord","Contrôle interne de type \"Géogrille\"",2,{"$f":"SUM(SuiviCalendrier!H50)","v":0},{"$f":"SUM(SuiviCalendrier!O50)","v":0},0]
["DEDG Couverture Zone Nord","Contrôle extérieur de type \"Géogrille\"","EXT",{"$f":"SUM(SuiviCalendrier!H51)","v":0},{"$f":"SUM(SuiviCalendrier!O51)","v":0},0]
["DEDG Couverture Zone Nord","GMB 1,5 mm + Fossés étanchés de la zone Nord",2,{"$f":"SUM(SuiviCalendrier!H52)","v":0},{"$f":"SUM(SuiviCalendrier!O52)","v":0},0]
["DEDG Couverture Zone Nord","Contrôle interne de type \"Géomembrane PEHD\"",2,{"$f":"SUM(SuiviCalendrier!H53)","v":0},{"$f":"SUM(SuiviCalendrier!O53)","v":0},0]
["DEDG Couverture Zone Nord","Contrôle extérieur de type \"Géomembrane PEHD\"","EXT",{"$f":"SUM(SuiviCalendrier!H54)","v":0},{"$f":"SUM(SuiviCalendrier!O54)","v":0},0]
["DEDG Couverture Zone Nord","Application du plan de calepinage Géocomposite de drainage",2,{"$f":"SUM(SuiviCalendrier!H55)","v":0},{"$f":"SUM(SuiviCalendrier!O55)","v":0},0]
["DEDG Couverture Zone Nord","Contrôle interne de type \"Géocomposite de drainage \"",2,{"$f":"SUM(SuiviCalendrier!H56)","v":0},{"$f":"SUM(SuiviCalendrier!O56)","v":0},0]
["DEDG Couverture Zone Nord","Contrôle extérieur de type \"Géocomposite de drainage \"","EXT",{"$f":"SUM(SuiviCalendrier!H57)","v":0},{"$f":"SUM(SuiviCalendrier!O57)","v":0},0]
["Matériaux argileux Zone Nord","Réception du Sol(s)-support des matériaux argileux (70cm)","MOE",{"$f":"SUM(SuiviCalendrier!H58)","v":0},{"$f":"SUM(SuiviCalendrier!O58)","v":0},0]
["Matériaux argileux Zone Nord","Planche d'essais de mise en œuvre et compactage",1,{"$f":"SUM(SuiviCalendrier!H59)","v":0},{"$f":"SUM(SuiviCalendrier!O59)","v":0},0]
["Matériaux argileux Zone Nord","Levée du Point d'Arrêt Transmission du Rapport de planche d'essais / Couverture du casier 7.2 = Matériaux argileux (70 cm)","MOE",{"$f":"SUM(SuiviCalendrier!H60)","v":0},{"$f":"SUM(SuiviCalendrier!O60)","v":0},0]
["Matériaux argileux Zone Nord","Matériaux argileux (70 cm) Couverture Zone Nord du casier 7.2",1,{"$f":"SUM(SuiviCalendrier!H61)","v":0},{"$f":"SUM(SuiviCalendrier!O61)","v":0},0]
["Matériaux argileux Zone Nord","Contrôle externe de type \"Couverture argileuse\"",1,{"$f":"SUM(SuiviCalendrier!H62)","v":0},{"$f":"SUM(SuiviCalendrier!O62)","v":0},0]
["Matériaux argileux Zone Nord","Contrôle extérieur de type \"Couverture argileuse\"","EXT",{"$f":"SUM(SuiviCalendrier!H63)","v":0},{"$f":"SUM(SuiviCalendrier!O63)","v":0},0]
["Matériaux argileux Zone Nord","Plan cinématique des stocks par famille - Indice 2",1,{"$f":"SUM(SuiviCalendrier!H64)","v":0},{"$f":"SUM(SuiviCalendrier!O64)","v":0},0]
["Matériaux argileux Zone Nord","Levée du Point d'Arrêt \"Remblais / Couverture du casier 7.2 = Matériaux argileux (70 cm)-Zone Nord\"","MOE",{"$f":"SUM(SuiviCalendrier!H65)","v":0},{"$f":"SUM(SuiviCalendrier!O65)","v":0},0]
["Biogaz Zones Nord et Sud","Mise en service du réseau de biogaz Zone Nord du casier 7.2",3,{"$f":"SUM(SuiviCalendrier!H66)","v":0},{"$f":"SUM(SuiviCalendrier!O66)","v":0},0]
["Biogaz Zones Nord et Sud","Mise en préparation du réseau de biogaz Zone Sud du casier 7.2",3,{"$f":"SUM(SuiviCalendrier!H67)","v":0},{"$f":"SUM(SuiviCalendrier!O67)","v":0},{"$f":"SUM(D67:E67)","v":0}]
["Merlons paysagers","Merlon paysager Nord",1,{"$f":"SUM(SuiviCalendrier!H68)","v":0},{"$f":"SUM(SuiviCalendrier!O68)","v":0},0]
["Merlons paysagers","Merlon paysager Sud",1,{"$f":"SUM(SuiviCalendrier!H69)","v":0},{"$f":"SUM(SuiviCalendrier!O69)","v":0},0]
["Merlons paysagers","Contrôle externe de type \"Remblai simple\"",1,{"$f":"SUM(SuiviCalendrier!H70)","v":0},{"$f":"SUM(SuiviCalendrier!O70)","v":0},0]
["Merlons paysagers","Contrôle extérieur de type \"Remblai simple\"","EXT",{"$f":"SUM(SuiviCalendrier!H71)","v":0},{"$f":"SUM(SuiviCalendrier!O71)","v":0},0]
["Merlons paysagers","Plan cinématique des stocks par famille - Indice 3",1,{"$f":"SUM(SuiviCalendrier!H72)","v":0},{"$f":"SUM(SuiviCalendrier!O72)","v":0},0]
["Barrière passive","Planche d'essais Barrière passive",1,{"$f":"SUM(SuiviCalendrier!H73)","v":0},{"$f":"SUM(SuiviCalendrier!O73)","v":0},0]
["Barrière passive","Levée du Point d'Arrêt \"Transmission du Rapport de planche d'essais / Barrière passive\"","MOE",{"$f":"SUM(SuiviCalendrier!H74)","v":0},{"$f":"SUM(SuiviCalendrier!O74)","v":0},0]
["Barrière passive","Compactage des Sol(s)-support de Barrière Passive",1,{"$f":"SUM(SuiviCalendrier!H75)","v":0},{"$f":"SUM(SuiviCalendrier!O75)","v":0},0]
["Barrière passive","Contrôle externe de type \"Barrière passive\"",1,{"$f":"SUM(SuiviCalendrier!H76)","v":0},{"$f":"SUM(SuiviCalendrier!O76)","v":0},0]
["Barrière passive","Contrôle extérieur de type \"Barrière passive\"","EXT",{"$f":"SUM(SuiviCalendrier!H77)","v":0},{"$f":"SUM(SuiviCalendrier!O77)","v":0},0]
["Barrière passive","Levée du Point d'Arrêt \"Sol(s)-support de la Barrière passive\"","MOE",{"$f":"SUM(SuiviCalendrier!H78)","v":0},{"$f":"SUM(SuiviCalendrier!O78)","v":0},0]
["Barrière passive","Risbermes Nord des casiers 8.2 à 8.4",1,{"$f":"SUM(SuiviCalendrier!H79)","v":0},{"$f":"SUM(SuiviCalendrier!O79)","v":0},0]
["Barrière passive","Digue de séparation 8.3-8.5",1,{"$f":"SUM(SuiviCalendrier!H80)","v":0},{"$f":"SUM(SuiviCalendrier!O80)","v":0},0]
["Barrière passive","Digue périphérique Nord des casiers 8.2 et 8.3",1,{"$f":"SUM(SuiviCalendrier!H81)","v":0},{"$f":"SUM(SuiviCalendrier!O81)","v":0},0]
["Barrière passive","Contrôle externe de type \"Barrière passive\"",1,{"$f":"SUM(SuiviCalendrier!H82)","v":0},{"$f":"SUM(SuiviCalendrier!O82)","v":0},0]
["Barrière passive","Contrôle extérieur de type \"Barrière passive\"","EXT",{"$f":"SUM(SuiviCalendrier!H83)","v":0},{"$f":"SUM(SuiviCalendrier!O83)","v":0},0]
["Barrière passive","Réception du Sol(s)-support du DEDG de(s) Casier(s)","MOE",{"$f":"SUM(SuiviCalendrier!H84)","v":0},{"$f":"SUM(SuiviCalendrier!O84)","v":0},0]
["Barrière passive","Levée du Point d'Arrêt \"Remblais spécifiques avec Barrière passive\"","MOE",{"$f":"SUM(SuiviCalendrier!H85)","v":0},{"$f":"SUM(SuiviCalendrier!O85)","v":0},0]
["DEDG Couverture Zone Sud","Partie inférieure de la Géogrille Zone Sud",2,{"$f":"SUM(SuiviCalendrier!H86)","v":0},{"$f":"SUM(SuiviCalendrier!O86)","v":0},0]
["DEDG Couverture Zone Sud","Contrôle interne de type \"Géogrille\"",2,{"$f":"SUM(SuiviCalendrier!H87)","v":0},{"$f":"SUM(SuiviCalendrier!O87)","v":0},0]
["DEDG Couverture Zone Sud","Contrôle extérieur de type \"Géogrille\"","EXT",{"$f":"SUM(SuiviCalendrier!H88)","v":0},{"$f":"SUM(SuiviCalendrier!O88)","v":0},0]
["DEDG Couverture Zone Sud","GMB 1,5 mm + Fossés étanchés de la zone Sud + Exutoire existant",2,{"$f":"SUM(SuiviCalendrier!H89)","v":0},{"$f":"SUM(SuiviCalendrier!O89)","v":0},0]
["DEDG Couverture Zone Sud","Contrôle interne de type \"Géomembrane PEHD\"",2,{"$f":"SUM(SuiviCalendrier!H90)","v":0},{"$f":"SUM(SuiviCalendrier!O90)","v":0},0]
["DEDG Couverture Zone Sud","Contrôle extérieur de type \"Géomembrane PEHD\"","EXT",{"$f":"SUM(SuiviCalendrier!H91)","v":0},{"$f":"SUM(SuiviCalendrier!O91)","v":0},0]
["DEDG Couverture Zone Sud","Application du plan de calepinage Géocomposite de drainage",2,{"$f":"SUM(SuiviCalendrier!H92)","v":0},{"$f":"SUM(SuiviCalendrier!O92)","v":0},0]
["DEDG Couverture Zone Sud","Contrôle interne de type \"Géocomposite de drainage \"",2,{"$f":"SUM(SuiviCalendrier!H93)","v":0},{"$f":"SUM(SuiviCalendrier!O93)","v":0},0]
["DEDG Couverture Zone Sud","Contrôle extérieur de type \"Géocomposite de drainage \"","EXT",{"$f":"SUM(SuiviCalendrier!H94)","v":0},{"$f":"SUM(SuiviCalendrier!O94)","v":0},0]
["Matériaux argileux Zone Sud","Matériaux argileux (70 cm) Couverture Zone Sud du casier 7.2",1,{"$f":"SUM(SuiviCalendrier!H95)","v":0},{"$f":"SUM(SuiviCalendrier!O95)","v":0},0]
["Matériaux argileux Zone Sud","Contrôle externe de type \"Couverture argileuse\"",1,{"$f":"SUM(SuiviCalendrier!H96)","v":0},{"$f":"SUM(SuiviCalendrier!O96)","v":0},0]
["Matériaux argileux Zone Sud","Contrôle extérieur de type \"Couverture argileuse\"","EXT",{"$f":"SUM(SuiviCalendrier!H97)","v":0},{"$f":"SUM(SuiviCalendrier!O97)","v":0},0]
["Matériaux argileux Zone Sud","Plan cinématique des stocks par famille - Indice 4",1,{"$f":"SUM(SuiviCalendrier!H98)","v":0},{"$f":"SUM(SuiviCalendrier!O98)","v":0},0]
["Matériaux argileux Zone Sud","Levée du Point d'Arrêt \"Remblais / Couverture du casier 7.2 = Matériaux argileux (70 cm)-Zone Sud\"","MOE",{"$f":"SUM(SuiviCalendrier!H99)","v":0},{"$f":"SUM(SuiviCalendrier!O99)","v":0},0]
["Biogaz Zone Sud","Mise en service du réseau de biogaz Zone Sud du casier 7.2",3,{"$f":"SUM(SuiviCalendrier!H100)","v":0},{"$f":"SUM(SuiviCalendrier!O100)","v":0},0]
["Couverture finale Casier 7.2","Terre végétalisable (10 cm) Couverture 7.2",1,{"$f":"SUM(SuiviCalendrier!H101)","v":0},{"$f":"SUM(SuiviCalendrier!O101)","v":0},0]
["Couverture finale Casier 7.2","Contrôle externe de type \"Remblai simple\"",1,{"$f":"SUM(SuiviCalendrier!H102)","v":0},{"$f":"SUM(SuiviCalendrier!O102)","v":0},0]
["Couverture finale Casier 7.2","Contrôle extérieur de type \"Remblai simple\"","EXT",{"$f":"SUM(SuiviCalendrier!H103)","v":0},{"$f":"SUM(SuiviCalendrier!O103)","v":0},0]
["Couverture finale Casier 7.2","Plan cinématique des stocks par famille - Indice 5",1,{"$f":"SUM(SuiviCalendrier!H104)","v":0},{"$f":"SUM(SuiviCalendrier!O104)","v":0},0]
["Couverture finale Casier 7.2","Information de Point critique \"Couverture finale du casier 7.2 = Terre végétalisable (10 cm)\"",1,{"$f":"SUM(SuiviCalendrier!H105)","v":0},{"$f":"SUM(SuiviCalendrier!O105)","v":0},0]
["Couverture finale Casier 7.2","Partie supérieure de la Géogrille Zone Nord et Sud",2,{"$f":"SUM(SuiviCalendrier!H106)","v":0},{"$f":"SUM(SuiviCalendrier!O106)","v":0},0]
["Couverture finale Casier 7.2","Contrôle interne de type \"Géogrille\"",2,{"$f":"SUM(SuiviCalendrier!H107)","v":0},{"$f":"SUM(SuiviCalendrier!O107)","v":0},0]
["Couverture finale Casier 7.2","Contrôle extérieur de type \"Géogrille\"","EXT",{"$f":"SUM(SuiviCalendrier!H108)","v":0},{"$f":"SUM(SuiviCalendrier!O108)","v":0},0]
["DEDG Casiers","Application du plan de calepinage GSB",2,{"$f":"SUM(SuiviCalendrier!H109)","v":0},{"$f":"SUM(SuiviCalendrier!O109)","v":0},0]
["DEDG Casiers","Contrôle interne de type \"Géosynthétique bentonitique\"",2,{"$f":"SUM(SuiviCalendrier!H110)","v":0},{"$f":"SUM(SuiviCalendrier!O110)","v":0},0]
["DEDG Casiers","Contrôle extérieur de type \"Géosynthétique bentonitique\"","EXT",{"$f":"SUM(SuiviCalendrier!H111)","v":0},{"$f":"SUM(SuiviCalendrier!O111)","v":0},{"$f":"SUM(D111:E111)","v":0}]
["DEDG Casiers","Application du plan de calepinage GMB 2 mm",2,{"$f":"SUM(SuiviCalendrier!H112)","v":0},{"$f":"SUM(SuiviCalendrier!O112)","v":0},0]
["DEDG Casiers","Contrôle interne de type \"Géomembrane PEHD\"",2,{"$f":"SUM(SuiviCalendrier!H113)","v":0},{"$f":"SUM(SuiviCalendrier!O113)","v":0},0]
["DEDG Casiers","Contrôle extérieur de type \"Géomembrane PEHD\"","EXT",{"$f":"SUM(SuiviCalendrier!H114)","v":0},{"$f":"SUM(SuiviCalendrier!O114)","v":0},0]
["DEDG Casiers","Levée du Point d'Arrêt \"Géomembrane PEHD\"","MOE",{"$f":"SUM(SuiviCalendrier!H115)","v":0},{"$f":"SUM(SuiviCalendrier!O115)","v":0},0]
["DEDG Casiers","Soudage des lès du GTX supérieur",2,{"$f":"SUM(SuiviCalendrier!H116)","v":0},{"$f":"SUM(SuiviCalendrier!O116)","v":0},0]
["DEDG Casiers","Contrôle interne de type \"Géotextile\"",2,{"$f":"SUM(SuiviCalendrier!H117)","v":0},{"$f":"SUM(SuiviCalendrier!O117)","v":0},0]
["DEDG Casiers","Contrôle extérieur de type \"Géotextile\"","EXT",{"$f":"SUM(SuiviCalendrier!H118)","v":0},{"$f":"SUM(SuiviCalendrier!O118)","v":0},0]
["DEDG Casiers","Réception du Sol(s)-support du Drainage des Lixiviats","MOE",{"$f":"SUM(SuiviCalendrier!H119)","v":0},{"$f":"SUM(SuiviCalendrier!O119)","v":0},0]
["Drainage des lixiviats","Mise en oeuvre Puits",1,{"$f":"SUM(SuiviCalendrier!H120)","v":0},{"$f":"SUM(SuiviCalendrier!O120)","v":0},0]
["Drainage des lixiviats","Contrôle externe de type \"Regards\"",1,{"$f":"SUM(SuiviCalendrier!H121)","v":0},{"$f":"SUM(SuiviCalendrier!O121)","v":0},0]
["Drainage des lixiviats","Contrôle extérieur de type \"Regards\"","EXT",{"$f":"SUM(SuiviCalendrier!H122)","v":0},{"$f":"SUM(SuiviCalendrier!O122)","v":0},0]
["Drainage des lixiviats","Drains Lixiviat Casier 8.2",1,{"$f":"SUM(SuiviCalendrier!H123)","v":0},{"$f":"SUM(SuiviCalendrier!O123)","v":0},0]
["Drainage des lixiviats","Contrôle externe de type \"Drains Lixiviats\"",1,{"$f":"SUM(SuiviCalendrier!H124)","v":0},{"$f":"SUM(SuiviCalendrier!O124)","v":0},0]
["Drainage des lixiviats","Contrôle extérieur de type \"Drains Lixiviats\"","EXT",{"$f":"SUM(SuiviCalendrier!H125)","v":0},{"$f":"SUM(SuiviCalendrier!O125)","v":0},0]
["Drainage des lixiviats","Livraison des matériaux drainants",1,{"$f":"SUM(SuiviCalendrier!H126)","v":0},{"$f":"SUM(SuiviCalendrier!O126)","v":0},0]
["Drainage des lixiviats","Plan cinématique des stocks par famille - Indice 7",1,{"$f":"SUM(SuiviCalendrier!H127)","v":0},{"$f":"SUM(SuiviCalendrier!O127)","v":0},0]
["Drainage des lixiviats","Massif drainant Casier 8.2",1,{"$f":"SUM(SuiviCalendrier!H128)","v":0},{"$f":"SUM(SuiviCalendrier!O128)","v":0},0]
["Drainage des lixiviats","Contrôle externe de type \"Massif drainant\"",1,{"$f":"SUM(SuiviCalendrier!H129)","v":0},{"$f":"SUM(SuiviCalendrier!O129)","v":0},0]
["Drainage des lixiviats","Contrôle extérieur de type \"Massif drainant\"","EXT",{"$f":"SUM(SuiviCalendrier!H130)","v":0},{"$f":"SUM(SuiviCalendrier!O130)","v":0},0]
["Drainage des lixiviats","Plan cinématique des stocks par famille - Indice 8",1,{"$f":"SUM(SuiviCalendrier!H131)","v":0},{"$f":"SUM(SuiviCalendrier!O131)","v":0},{"$f":"SUM(D131:E131)","v":0}]
["Drainage des lixiviats","Levée du Point d'Arrêt Drainage lixiviats (dalle de répartition, puits de pompage, drains et massif drainant)","MOE",{"$f":"SUM(SuiviCalendrier!H132)","v":0},{"$f":"SUM(SuiviCalendrier!O132)","v":0},0]
["Plateforme","Couche de base de 50 cm en GNT de classe R61",1,{"$f":"SUM(SuiviCalendrier!H133)","v":0},{"$f":"SUM(SuiviCalendrier!O133)","v":0},0]
["Plateforme","Contrôle externe de types \"Plateforme\"",1,{"$f":"SUM(SuiviCalendrier!H134)","v":0},{"$f":"SUM(SuiviCalendrier!O134)","v":0},0]
["Plateforme","Contrôle extérieur de types \"Plateforme\"","EXT",{"$f":"SUM(SuiviCalendrier!H135)","v":0},{"$f":"SUM(SuiviCalendrier!O135)","v":0},0]
["Plateforme","Couche de 20 cm en GNT de classe R61",1,{"$f":"SUM(SuiviCalendrier!H136)","v":0},{"$f":"SUM(SuiviCalendrier!O136)","v":0},0]
["Plateforme","Contrôle externe de types \"Plateforme\"",1,{"$f":"SUM(SuiviCalendrier!H137)","v":0},{"$f":"SUM(SuiviCalendrier!O137)","v":0},0]
["Plateforme","Contrôle extérieur de types \"Plateforme\"","EXT",{"$f":"SUM(SuiviCalendrier!H138)","v":0},{"$f":"SUM(SuiviCalendrier!O138)","v":0},0]
["Remise en état des lieux","Démontage des installations du Lot 1",1,{"$f":"SUM(SuiviCalendrier!H139)","v":0},{"$f":"SUM(SuiviCalendrier!O139)","v":0},0]
["Remise en état des lieux","Nettoyage général du Lot 1",1,{"$f":"SUM(SuiviCalendrier!H140)","v":0},{"$f":"SUM(SuiviCalendrier!O140)","v":0},0]
["Remise en état des lieux","Démontage des installations du Lot 2",2,{"$f":"SUM(SuiviCalendrier!H141)","v":0},{"$f":"SUM(SuiviCalendrier!O141)","v":0},0]
["Remise en état des lieux","Nettoyage général du Lot 2",2,{"$f":"SUM(SuiviCalendrier!H142)","v":0},{"$f":"SUM(SuiviCalendrier!O142)","v":0},0]
["Opérations de réception","D.O.E. du Lot 1",1,{"$f":"SUM(SuiviCalendrier!H143)","v":0},{"$f":"SUM(SuiviCalendrier!O143)","v":0},0]
["Opérations de réception","D.O.E. du Lot 2",2,{"$f":"SUM(SuiviCalendrier!H144)","v":0},{"$f":"SUM(SuiviCalendrier!O144)","v":0},0]
["Opérations de réception","Visite de Réception du Lot 1",1,{"$f":"SUM(SuiviCalendrier!H145)","v":0},{"$f":"SUM(SuiviCalendrier!O145)","v":0},0]
["Opérations de réception","Visite de Réception du Lot 2",2,{"$f":"SUM(SuiviCalendrier!H146)","v":0},{"$f":"SUM(SuiviCalendrier!O146)","v":0},0]
["Opérations de réception","Proposition de réception Lot 1 avec ou sans réserves",1,{"$f":"SUM(SuiviCalendrier!H147)","v":0},{"$f":"SUM(SuiviCalendrier!O147)","v":0},0]
["Opérations de réception","Proposition de réception Lot 2 avec ou sans réserves",2,{"$f":"SUM(SuiviCalendrier!H148)","v":0},{"$f":"SUM(SuiviCalendrier!O148)","v":0},0]
["Opérations de réception","Suivi et levée des réserves Lot 1",1,{"$f":"SUM(SuiviCalendrier!H149)","v":0},{"$f":"SUM(SuiviCalendrier!O149)","v":0},0]
["Opérations de réception","Suivi et levée des réserves Lot 2",2,{"$f":"SUM(SuiviCalendrier!H150)","v":0},{"$f":"SUM(SuiviCalendrier!O150)","v":0},{"$f":"SUM(D150:E150)","v":0}]

{"sheet":"RegistreIaccess","index":7,"n_rows":32,"n_cols":52,"rows_kept":32,"cut":false,"hidden":false,"merged":[]}
["Jours","Jjanv","Hjanv","TJjanv","THjanv","Jfev","Hfev","TJfev","THfev","Jmars","Hmars","TJmars","THmars","Javri","Havri","TJavri","THavri","Jmai","Hmai","TJmai","THmai","Jjuin","Hjuin","TJjuin","THjuin","Jjuil","Hjuil","TJjuil","THjuil","Jaout","Haout","TJaout","THaout","Jsept","Hsept","TJsept","THsept","Jocto","Hocto","TJocto","THocto","Jnove","Hnove","TJnove","THnove","Jdece","Hdece","TJdece","THdece","TotalJours","HauteurTotale","DateRegistre"]
[1,{"$f":"IF(RegistreIntempéries!C7=\"P\",\"P\",\"\")","v":""},{"$f":"SUM(RegistreIntempéries!D7)","v":0},{"$f":"SUM(RegistreIntempéries!C5)","v":0},{"$f":"SUM(RegistreIntempéries!D5)","v":0},{"$f":"IF(RegistreIntempéries!G7=\"P\",\"P\",\"\")","v":""},{"$f":"SUM(RegistreIntempéries!H7)","v":0},{"$f":"SUM(RegistreIntempéries!G5)","v":0},{"$f":"SUM(RegistreIntempéries!H5)","v":0},{"$f":"IF(RegistreIntempéries!K7=\"P\",\"P\",\"\")","v":""},{"$f":"SUM(RegistreIntempéries!L7)","v":0},{"$f":"SUM(RegistreIntempéries!K5)","v":0},{"$f":"SUM(RegistreIntempéries!L5)","v":0},{"$f":"IF(RegistreIntempéries!O7=\"P\",\"P\",\"\")","v":""},{"$f":"SUM(RegistreIntempéries!P7)","v":0},{"$f":"SUM(RegistreIntempéries!O5)","v":0},{"$f":"SUM(RegistreIntempéries!P5)","v":0},{"$f":"IF(RegistreIntempéries!S7=\"P\",\"P\",\"\")","v":""},{"$f":"SUM(RegistreIntempéries!T7)","v":0},{"$f":"SUM(RegistreIntempéries!S5)","v":0},{"$f":"SUM(RegistreIntempéries!T5)","v":0},{"$f":"IF(RegistreIntempéries!W7=\"P\",\"P\",\"\")","v":""},{"$f":"SUM(RegistreIntempéries!X7)","v":0},{"$f":"SUM(RegistreIntempéries!W5)","v":0},{"$f":"SUM(RegistreIntempéries!X5)","v":0},{"$f":"IF(RegistreIntempéries!AA7=\"P\",\"P\",\"\")","v":""},{"$f":"SUM(RegistreIntempéries!AB7)","v":0},{"$f":"SUM(RegistreIntempéries!AA5)","v":0},{"$f":"SUM(RegistreIntempéries!AB5)","v":0},{"$f":"IF(RegistreIntempéries!AE7=\"P\",\"P\",\"\")","v":""},{"$f":"SUM(RegistreIntempéries!AF7)","v":0},{"$f":"SUM(RegistreIntempéries!AE5)","v":0},{"$f":"SUM(RegistreIntempéries!AF5)","v":0},{"$f":"IF(RegistreIntempéries!AI7=\"P\",\"P\",\"\")","v":""},{"$f":"SUM(RegistreIntempéries!AJ7)","v":0},{"$f":"SUM(RegistreIntempéries!AI5)","v":0},{"$f":"SUM(RegistreIntempéries!AJ5)","v":0},{"$f":"IF(RegistreIntempéries!AM7=\"P\",\"P\",\"\")","v":""},{"$f":"SUM(RegistreIntempéries!AN7)","v":0},{"$f":"SUM(RegistreIntempéries!AM5)","v":0},{"$f":"SUM(RegistreIntempéries!AN5)","v":0},{"$f":"IF(RegistreIntempéries!AQ7=\"P\",\"P\",\"\")","v":""},{"$f":"SUM(RegistreIntempéries!AR7)","v":0},{"$f":"SUM(RegistreIntempéries!AQ5)","v":0},{"$f":"SUM(RegistreIntempéries!AR5)","v":0},{"$f":"IF(RegistreIntempéries!AU7=\"P\",\"P\",\"\")","v":""},{"$f":"SUM(RegistreIntempéries!AV7)","v":0},{"$f":"SUM(RegistreIntempéries!AU5)","v":0},{"$f":"SUM(RegistreIntempéries!AV5)","v":0},{"$f":"SUM(RegistreIntempéries!AB1)","v":0},{"$f":"SUM(RegistreIntempéries!AH1)","v":0},{"$f":"SUM(RegistreIntempéries!P1)","v":"2018-07-12"}]
[2,{"$f":"IF(RegistreIntempéries!C8=\"P\",\"P\",\"\")","v":""},{"$f":"SUM(RegistreIntempéries!D8)","v":0},null,null,{"$f":"IF(RegistreIntempéries!G8=\"P\",\"P\",\"\")","v":""},null,null,{"$f":"SUM(RegistreIntempéries!H6)","v":0},{"$f":"IF(RegistreIntempéries!K8=\"P\",\"P\",\"\")","v":""},null,null,{"$f":"SUM(RegistreIntempéries!L6)","v":0},{"$f":"IF(RegistreIntempéries!O8=\"P\",\"P\",\"\")","v":""},{"$f":"SUM(RegistreIntempéries!P8)","v":0},null,null,{"$f":"IF(RegistreIntempéries!S8=\"P\",\"P\",\"\")","v":""},{"$f":"SUM(RegistreIntempéries!T8)","v":0},null,null,{"$f":"IF(RegistreIntempéries!W8=\"P\",\"P\",\"\")","v":""},{"$f":"SUM(RegistreIntempéries!X8)","v":0},null,null,{"$f":"IF(RegistreIntempéries!AA8=\"P\",\"P\",\"\")","v":""},{"$f":"SUM(RegistreIntempéries!AB8)","v":0},null,null,{"$f":"IF(RegistreIntempéries!AE8=\"P\",\"P\",\"\")","v":""},{"$f":"SUM(RegistreIntempéries!AF8)","v":0},null,null,{"$f":"IF(RegistreIntempéries!AI8=\"P\",\"P\",\"\")","v":""},{"$f":"SUM(RegistreIntempéries!AJ8)","v":0},null,null,{"$f":"IF(RegistreIntempéries!AM8=\"P\",\"P\",\"\")","v":""},{"$f":"SUM(RegistreIntempéries!AN8)","v":0},null,null,{"$f":"IF(RegistreIntempéries!AQ8=\"P\",\"P\",\"\")","v":""},{"$f":"SUM(RegistreIntempéries!AR8)","v":0},null,null,{"$f":"IF(RegistreIntempéries!AU8=\"P\",\"P\",\"\")","v":""},{"$f":"SUM(RegistreIntempéries!AV8)","v":0}]
[3,{"$f":"IF(RegistreIntempéries!C9=\"P\",\"P\",\"\")","v":""},{"$f":"SUM(RegistreIntempéries!D9)","v":0},null,null,{"$f":"IF(RegistreIntempéries!G9=\"P\",\"P\",\"\")","v":""},null,null,{"$f":"SUM(RegistreIntempéries!H7)","v":0},{"$f":"IF(RegistreIntempéries!K9=\"P\",\"P\",\"\")","v":""},null,null,{"$f":"SUM(RegistreIntempéries!L7)","v":0},{"$f":"IF(RegistreIntempéries!O9=\"P\",\"P\",\"\")","v":""},{"$f":"SUM(RegistreIntempéries!P9)","v":0},null,null,{"$f":"IF(RegistreIntempéries!S9=\"P\",\"P\",\"\")","v":""},{"$f":"SUM(RegistreIntempéries!T9)","v":0},null,null,{"$f":"IF(RegistreIntempéries!W9=\"P\",\"P\",\"\")","v":""},{"$f":"SUM(RegistreIntempéries!X9)","v":0},null,null,{"$f":"IF(RegistreIntempéries!AA9=\"P\",\"P\",\"\")","v":""},{"$f":"SUM(RegistreIntempéries!AB9)","v":0},null,null,{"$f":"IF(RegistreIntempéries!AE9=\"P\",\"P\",\"\")","v":""},{"$f":"SUM(RegistreIntempéries!AF9)","v":0},null,null,{"$f":"IF(RegistreIntempéries!AI9=\"P\",\"P\",\"\")","v":""},{"$f":"SUM(RegistreIntempéries!AJ9)","v":0},null,null,{"$f":"IF(RegistreIntempéries!AM9=\"P\",\"P\",\"\")","v":""},{"$f":"SUM(RegistreIntempéries!AN9)","v":0},null,null,{"$f":"IF(RegistreIntempéries!AQ9=\"P\",\"P\",\"\")","v":""},{"$f":"SUM(RegistreIntempéries!AR9)","v":0},null,null,{"$f":"IF(RegistreIntempéries!AU9=\"P\",\"P\",\"\")","v":""},{"$f":"SUM(RegistreIntempéries!AV9)","v":0}]
[4,{"$f":"IF(RegistreIntempéries!C10=\"P\",\"P\",\"\")","v":""},{"$f":"SUM(RegistreIntempéries!D10)","v":0},null,null,{"$f":"IF(RegistreIntempéries!G10=\"P\",\"P\",\"\")","v":""},null,null,{"$f":"SUM(RegistreIntempéries!H8)","v":0},{"$f":"IF(RegistreIntempéries!K10=\"P\",\"P\",\"\")","v":""},null,null,{"$f":"SUM(RegistreIntempéries!L8)","v":0},{"$f":"IF(RegistreIntempéries!O10=\"P\",\"P\",\"\")","v":""},{"$f":"SUM(RegistreIntempéries!P10)","v":0},null,null,{"$f":"IF(RegistreIntempéries!S10=\"P\",\"P\",\"\")","v":""},{"$f":"SUM(RegistreIntempéries!T10)","v":0},null,null,{"$f":"IF(RegistreIntempéries!W10=\"P\",\"P\",\"\")","v":""},{"$f":"SUM(RegistreIntempéries!X10)","v":0},null,null,{"$f":"IF(RegistreIntempéries!AA10=\"P\",\"P\",\"\")","v":""},{"$f":"SUM(RegistreIntempéries!AB10)","v":0},null,null,{"$f":"IF(RegistreIntempéries!AE10=\"P\",\"P\",\"\")","v":""},{"$f":"SUM(RegistreIntempéries!AF10)","v":0},null,null,{"$f":"IF(RegistreIntempéries!AI10=\"P\",\"P\",\"\")","v":""},{"$f":"SUM(RegistreIntempéries!AJ10)","v":0},null,null,{"$f":"IF(RegistreIntempéries!AM10=\"P\",\"P\",\"\")","v":""},{"$f":"SUM(RegistreIntempéries!AN10)","v":0},null,null,{"$f":"IF(RegistreIntempéries!AQ10=\"P\",\"P\",\"\")","v":""},{"$f":"SUM(RegistreIntempéries!AR10)","v":0},null,null,{"$f":"IF(RegistreIntempéries!AU10=\"P\",\"P\",\"\")","v":""},{"$f":"SUM(RegistreIntempéries!AV10)","v":0}]
[5,{"$f":"IF(RegistreIntempéries!C11=\"P\",\"P\",\"\")","v":""},{"$f":"SUM(RegistreIntempéries!D11)","v":0},null,null,{"$f":"IF(RegistreIntempéries!G11=\"P\",\"P\",\"\")","v":""},null,null,{"$f":"SUM(RegistreIntempéries!H9)","v":0},{"$f":"IF(RegistreIntempéries!K11=\"P\",\"P\",\"\")","v":""},null,null,{"$f":"SUM(RegistreIntempéries!L9)","v":0},{"$f":"IF(RegistreIntempéries!O11=\"P\",\"P\",\"\")","v":""},{"$f":"SUM(RegistreIntempéries!P11)","v":0},null,null,{"$f":"IF(RegistreIntempéries!S11=\"P\",\"P\",\"\")","v":""},{"$f":"SUM(RegistreIntempéries!T11)","v":0},null,null,{"$f":"IF(RegistreIntempéries!W11=\"P\",\"P\",\"\")","v":""},{"$f":"SUM(RegistreIntempéries!X11)","v":0},null,null,{"$f":"IF(RegistreIntempéries!AA11=\"P\",\"P\",\"\")","v":""},{"$f":"SUM(RegistreIntempéries!AB11)","v":0},null,null,{"$f":"IF(RegistreIntempéries!AE11=\"P\",\"P\",\"\")","v":""},{"$f":"SUM(RegistreIntempéries!AF11)","v":0},null,null,{"$f":"IF(RegistreIntempéries!AI11=\"P\",\"P\",\"\")","v":""},{"$f":"SUM(RegistreIntempéries!AJ11)","v":0},null,null,{"$f":"IF(RegistreIntempéries!AM11=\"P\",\"P\",\"\")","v":""},{"$f":"SUM(RegistreIntempéries!AN11)","v":0},null,null,{"$f":"IF(RegistreIntempéries!AQ11=\"P\",\"P\",\"\")","v":""},{"$f":"SUM(RegistreIntempéries!AR11)","v":0},null,null,{"$f":"IF(RegistreIntempéries!AU11=\"P\",\"P\",\"\")","v":""},{"$f":"SUM(RegistreIntempéries!AV11)","v":0}]
[6,{"$f":"IF(RegistreIntempéries!C12=\"P\",\"P\",\"\")","v":""},{"$f":"SUM(RegistreIntempéries!D12)","v":0},null,null,{"$f":"IF(RegistreIntempéries!G12=\"P\",\"P\",\"\")","v":""},null,null,{"$f":"SUM(RegistreIntempéries!H10)","v":0},{"$f":"IF(RegistreIntempéries!K12=\"P\",\"P\",\"\")","v":""},null,null,{"$f":"SUM(RegistreIntempéries!L10)","v":0},{"$f":"IF(RegistreIntempéries!O12=\"P\",\"P\",\"\")","v":""},{"$f":"SUM(RegistreIntempéries!P12)","v":0},null,null,{"$f":"IF(RegistreIntempéries!S12=\"P\",\"P\",\"\")","v":""},{"$f":"SUM(RegistreIntempéries!T12)","v":0},null,null,{"$f":"IF(RegistreIntempéries!W12=\"P\",\"P\",\"\")","v":""},{"$f":"SUM(RegistreIntempéries!X12)","v":0},null,null,{"$f":"IF(RegistreIntempéries!AA12=\"P\",\"P\",\"\")","v":""},{"$f":"SUM(RegistreIntempéries!AB12)","v":0},null,null,{"$f":"IF(RegistreIntempéries!AE12=\"P\",\"P\",\"\")","v":""},{"$f":"SUM(RegistreIntempéries!AF12)","v":0},null,null,{"$f":"IF(RegistreIntempéries!AI12=\"P\",\"P\",\"\")","v":""},{"$f":"SUM(RegistreIntempéries!AJ12)","v":0},null,null,{"$f":"IF(RegistreIntempéries!AM12=\"P\",\"P\",\"\")","v":""},{"$f":"SUM(RegistreIntempéries!AN12)","v":0},null,null,{"$f":"IF(RegistreIntempéries!AQ12=\"P\",\"P\",\"\")","v":""},{"$f":"SUM(RegistreIntempéries!AR12)","v":0},null,null,{"$f":"IF(RegistreIntempéries!AU12=\"P\",\"P\",\"\")","v":""},{"$f":"SUM(RegistreIntempéries!AV12)","v":0}]
[7,{"$f":"IF(RegistreIntempéries!C13=\"P\",\"P\",\"\")","v":""},{"$f":"SUM(RegistreIntempéries!D13)","v":0},null,null,{"$f":"IF(RegistreIntempéries!G13=\"P\",\"P\",\"\")","v":""},null,null,{"$f":"SUM(RegistreIntempéries!H11)","v":0},{"$f":"IF(RegistreIntempéries!K13=\"P\",\"P\",\"\")","v":""},null,null,{"$f":"SUM(RegistreIntempéries!L11)","v":0},{"$f":"IF(RegistreIntempéries!O13=\"P\",\"P\",\"\")","v":""},{"$f":"SUM(RegistreIntempéries!P13)","v":0},null,null,{"$f":"IF(RegistreIntempéries!S13=\"P\",\"P\",\"\")","v":""},{"$f":"SUM(RegistreIntempéries!T13)","v":0},null,null,{"$f":"IF(RegistreIntempéries!W13=\"P\",\"P\",\"\")","v":""},{"$f":"SUM(RegistreIntempéries!X13)","v":0},null,null,{"$f":"IF(RegistreIntempéries!AA13=\"P\",\"P\",\"\")","v":""},{"$f":"SUM(RegistreIntempéries!AB13)","v":0},null,null,{"$f":"IF(RegistreIntempéries!AE13=\"P\",\"P\",\"\")","v":""},{"$f":"SUM(RegistreIntempéries!AF13)","v":0},null,null,{"$f":"IF(RegistreIntempéries!AI13=\"P\",\"P\",\"\")","v":""},{"$f":"SUM(RegistreIntempéries!AJ13)","v":0},null,null,{"$f":"IF(RegistreIntempéries!AM13=\"P\",\"P\",\"\")","v":""},{"$f":"SUM(RegistreIntempéries!AN13)","v":0},null,null,{"$f":"IF(RegistreIntempéries!AQ13=\"P\",\"P\",\"\")","v":""},{"$f":"SUM(RegistreIntempéries!AR13)","v":0},null,null,{"$f":"IF(RegistreIntempéries!AU13=\"P\",\"P\",\"\")","v":""},{"$f":"SUM(RegistreIntempéries!AV13)","v":0}]
[8,{"$f":"IF(RegistreIntempéries!C14=\"P\",\"P\",\"\")","v":""},{"$f":"SUM(RegistreIntempéries!D14)","v":0},null,null,{"$f":"IF(RegistreIntempéries!G14=\"P\",\"P\",\"\")","v":""},null,null,{"$f":"SUM(RegistreIntempéries!H12)","v":0},{"$f":"IF(RegistreIntempéries!K14=\"P\",\"P\",\"\")","v":""},null,null,{"$f":"SUM(RegistreIntempéries!L12)","v":0},{"$f":"IF(RegistreIntempéries!O14=\"P\",\"P\",\"\")","v":""},{"$f":"SUM(RegistreIntempéries!P14)","v":0},null,null,{"$f":"IF(RegistreIntempéries!S14=\"P\",\"P\",\"\")","v":""},{"$f":"SUM(RegistreIntempéries!T14)","v":0},null,null,{"$f":"IF(RegistreIntempéries!W14=\"P\",\"P\",\"\")","v":""},{"$f":"SUM(RegistreIntempéries!X14)","v":0},null,null,{"$f":"IF(RegistreIntempéries!AA14=\"P\",\"P\",\"\")","v":""},{"$f":"SUM(RegistreIntempéries!AB14)","v":0},null,null,{"$f":"IF(RegistreIntempéries!AE14=\"P\",\"P\",\"\")","v":""},{"$f":"SUM(RegistreIntempéries!AF14)","v":0},null,null,{"$f":"IF(RegistreIntempéries!AI14=\"P\",\"P\",\"\")","v":""},{"$f":"SUM(RegistreIntempéries!AJ14)","v":0},null,null,{"$f":"IF(RegistreIntempéries!AM14=\"P\",\"P\",\"\")","v":""},{"$f":"SUM(RegistreIntempéries!AN14)","v":0},null,null,{"$f":"IF(RegistreIntempéries!AQ14=\"P\",\"P\",\"\")","v":""},{"$f":"SUM(RegistreIntempéries!AR14)","v":0},null,null,{"$f":"IF(RegistreIntempéries!AU14=\"P\",\"P\",\"\")","v":""},{"$f":"SUM(RegistreIntempéries!AV14)","v":0}]
[9,{"$f":"IF(RegistreIntempéries!C15=\"P\",\"P\",\"\")","v":""},{"$f":"SUM(RegistreIntempéries!D15)","v":0},null,null,{"$f":"IF(RegistreIntempéries!G15=\"P\",\"P\",\"\")","v":""},null,null,{"$f":"SUM(RegistreIntempéries!H13)","v":0},{"$f":"IF(RegistreIntempéries!K15=\"P\",\"P\",\"\")","v":""},null,null,{"$f":"SUM(RegistreIntempéries!L13)","v":0},{"$f":"IF(RegistreIntempéries!O15=\"P\",\"P\",\"\")","v":""},{"$f":"SUM(RegistreIntempéries!P15)","v":0},null,null,{"$f":"IF(RegistreIntempéries!S15=\"P\",\"P\",\"\")","v":""},{"$f":"SUM(RegistreIntempéries!T15)","v":0},null,null,{"$f":"IF(RegistreIntempéries!W15=\"P\",\"P\",\"\")","v":""},{"$f":"SUM(RegistreIntempéries!X15)","v":0},null,null,{"$f":"IF(RegistreIntempéries!AA15=\"P\",\"P\",\"\")","v":""},{"$f":"SUM(RegistreIntempéries!AB15)","v":0},null,null,{"$f":"IF(RegistreIntempéries!AE15=\"P\",\"P\",\"\")","v":""},{"$f":"SUM(RegistreIntempéries!AF15)","v":0},null,null,{"$f":"IF(RegistreIntempéries!AI15=\"P\",\"P\",\"\")","v":""},{"$f":"SUM(RegistreIntempéries!AJ15)","v":0},null,null,{"$f":"IF(RegistreIntempéries!AM15=\"P\",\"P\",\"\")","v":""},{"$f":"SUM(RegistreIntempéries!AN15)","v":0},null,null,{"$f":"IF(RegistreIntempéries!AQ15=\"P\",\"P\",\"\")","v":""},{"$f":"SUM(RegistreIntempéries!AR15)","v":0},null,null,{"$f":"IF(RegistreIntempéries!AU15=\"P\",\"P\",\"\")","v":""},{"$f":"SUM(RegistreIntempéries!AV15)","v":0}]
[10,{"$f":"IF(RegistreIntempéries!C16=\"P\",\"P\",\"\")","v":""},{"$f":"SUM(RegistreIntempéries!D16)","v":0},null,null,{"$f":"IF(RegistreIntempéries!G16=\"P\",\"P\",\"\")","v":""},null,null,{"$f":"SUM(RegistreIntempéries!H14)","v":0},{"$f":"IF(RegistreIntempéries!K16=\"P\",\"P\",\"\")","v":""},null,null,{"$f":"SUM(RegistreIntempéries!L14)","v":0},{"$f":"IF(RegistreIntempéries!O16=\"P\",\"P\",\"\")","v":""},{"$f":"SUM(RegistreIntempéries!P16)","v":0},null,null,{"$f":"IF(RegistreIntempéries!S16=\"P\",\"P\",\"\")","v":""},{"$f":"SUM(RegistreIntempéries!T16)","v":0},null,null,{"$f":"IF(RegistreIntempéries!W16=\"P\",\"P\",\"\")","v":""},{"$f":"SUM(RegistreIntempéries!X16)","v":0},null,null,{"$f":"IF(RegistreIntempéries!AA16=\"P\",\"P\",\"\")","v":""},{"$f":"SUM(RegistreIntempéries!AB16)","v":0},null,null,{"$f":"IF(RegistreIntempéries!AE16=\"P\",\"P\",\"\")","v":""},{"$f":"SUM(RegistreIntempéries!AF16)","v":0},null,null,{"$f":"IF(RegistreIntempéries!AI16=\"P\",\"P\",\"\")","v":""},{"$f":"SUM(RegistreIntempéries!AJ16)","v":0},null,null,{"$f":"IF(RegistreIntempéries!AM16=\"P\",\"P\",\"\")","v":""},{"$f":"SUM(RegistreIntempéries!AN16)","v":0},null,null,{"$f":"IF(RegistreIntempéries!AQ16=\"P\",\"P\",\"\")","v":""},{"$f":"SUM(RegistreIntempéries!AR16)","v":0},null,null,{"$f":"IF(RegistreIntempéries!AU16=\"P\",\"P\",\"\")","v":""},{"$f":"SUM(RegistreIntempéries!AV16)","v":0}]
[11,{"$f":"IF(RegistreIntempéries!C17=\"P\",\"P\",\"\")","v":""},{"$f":"SUM(RegistreIntempéries!D17)","v":0},null,null,{"$f":"IF(RegistreIntempéries!G17=\"P\",\"P\",\"\")","v":""},null,null,{"$f":"SUM(RegistreIntempéries!H15)","v":0},{"$f":"IF(RegistreIntempéries!K17=\"P\",\"P\",\"\")","v":""},null,null,{"$f":"SUM(RegistreIntempéries!L15)","v":0},{"$f":"IF(RegistreIntempéries!O17=\"P\",\"P\",\"\")","v":""},{"$f":"SUM(RegistreIntempéries!P17)","v":0},null,null,{"$f":"IF(RegistreIntempéries!S17=\"P\",\"P\",\"\")","v":""},{"$f":"SUM(RegistreIntempéries!T17)","v":0},null,null,{"$f":"IF(RegistreIntempéries!W17=\"P\",\"P\",\"\")","v":""},{"$f":"SUM(RegistreIntempéries!X17)","v":0},null,null,{"$f":"IF(RegistreIntempéries!AA17=\"P\",\"P\",\"\")","v":""},{"$f":"SUM(RegistreIntempéries!AB17)","v":0},null,null,{"$f":"IF(RegistreIntempéries!AE17=\"P\",\"P\",\"\")","v":""},{"$f":"SUM(RegistreIntempéries!AF17)","v":0},null,null,{"$f":"IF(RegistreIntempéries!AI17=\"P\",\"P\",\"\")","v":""},{"$f":"SUM(RegistreIntempéries!AJ17)","v":0},null,null,{"$f":"IF(RegistreIntempéries!AM17=\"P\",\"P\",\"\")","v":""},{"$f":"SUM(RegistreIntempéries!AN17)","v":0},null,null,{"$f":"IF(RegistreIntempéries!AQ17=\"P\",\"P\",\"\")","v":""},{"$f":"SUM(RegistreIntempéries!AR17)","v":0},null,null,{"$f":"IF(RegistreIntempéries!AU17=\"P\",\"P\",\"\")","v":""},{"$f":"SUM(RegistreIntempéries!AV17)","v":0}]
[12,{"$f":"IF(RegistreIntempéries!C18=\"P\",\"P\",\"\")","v":""},{"$f":"SUM(RegistreIntempéries!D18)","v":0},null,null,{"$f":"IF(RegistreIntempéries!G18=\"P\",\"P\",\"\")","v":""},null,null,{"$f":"SUM(RegistreIntempéries!H16)","v":0},{"$f":"IF(RegistreIntempéries!K18=\"P\",\"P\",\"\")","v":""},null,null,{"$f":"SUM(RegistreIntempéries!L16)","v":0},{"$f":"IF(RegistreIntempéries!O18=\"P\",\"P\",\"\")","v":""},{"$f":"SUM(RegistreIntempéries!P18)","v":0},null,null,{"$f":"IF(RegistreIntempéries!S18=\"P\",\"P\",\"\")","v":""},{"$f":"SUM(RegistreIntempéries!T18)","v":0},null,null,{"$f":"IF(RegistreIntempéries!W18=\"P\",\"P\",\"\")","v":""},{"$f":"SUM(RegistreIntempéries!X18)","v":0},null,null,{"$f":"IF(RegistreIntempéries!AA18=\"P\",\"P\",\"\")","v":""},{"$f":"SUM(RegistreIntempéries!AB18)","v":0},null,null,{"$f":"IF(RegistreIntempéries!AE18=\"P\",\"P\",\"\")","v":""},{"$f":"SUM(RegistreIntempéries!AF18)","v":0},null,null,{"$f":"IF(RegistreIntempéries!AI18=\"P\",\"P\",\"\")","v":""},{"$f":"SUM(RegistreIntempéries!AJ18)","v":0},null,null,{"$f":"IF(RegistreIntempéries!AM18=\"P\",\"P\",\"\")","v":""},{"$f":"SUM(RegistreIntempéries!AN18)","v":0},null,null,{"$f":"IF(RegistreIntempéries!AQ18=\"P\",\"P\",\"\")","v":""},{"$f":"SUM(RegistreIntempéries!AR18)","v":0},null,null,{"$f":"IF(RegistreIntempéries!AU18=\"P\",\"P\",\"\")","v":""},{"$f":"SUM(RegistreIntempéries!AV18)","v":0}]
[13,{"$f":"IF(RegistreIntempéries!C19=\"P\",\"P\",\"\")","v":""},{"$f":"SUM(RegistreIntempéries!D19)","v":0},null,null,{"$f":"IF(RegistreIntempéries!G19=\"P\",\"P\",\"\")","v":""},null,null,{"$f":"SUM(RegistreIntempéries!H17)","v":0},{"$f":"IF(RegistreIntempéries!K19=\"P\",\"P\",\"\")","v":""},null,null,{"$f":"SUM(RegistreIntempéries!L17)","v":0},{"$f":"IF(RegistreIntempéries!O19=\"P\",\"P\",\"\")","v":""},{"$f":"SUM(RegistreIntempéries!P19)","v":0},null,null,{"$f":"IF(RegistreIntempéries!S19=\"P\",\"P\",\"\")","v":""},{"$f":"SUM(RegistreIntempéries!T19)","v":0},null,null,{"$f":"IF(RegistreIntempéries!W19=\"P\",\"P\",\"\")","v":""},{"$f":"SUM(RegistreIntempéries!X19)","v":0},null,null,{"$f":"IF(RegistreIntempéries!AA19=\"P\",\"P\",\"\")","v":""},{"$f":"SUM(RegistreIntempéries!AB19)","v":0},null,null,{"$f":"IF(RegistreIntempéries!AE19=\"P\",\"P\",\"\")","v":""},{"$f":"SUM(RegistreIntempéries!AF19)","v":0},null,null,{"$f":"IF(RegistreIntempéries!AI19=\"P\",\"P\",\"\")","v":""},{"$f":"SUM(RegistreIntempéries!AJ19)","v":0},null,null,{"$f":"IF(RegistreIntempéries!AM19=\"P\",\"P\",\"\")","v":""},{"$f":"SUM(RegistreIntempéries!AN19)","v":0},null,null,{"$f":"IF(RegistreIntempéries!AQ19=\"P\",\"P\",\"\")","v":""},{"$f":"SUM(RegistreIntempéries!AR19)","v":0},null,null,{"$f":"IF(RegistreIntempéries!AU19=\"P\",\"P\",\"\")","v":""},{"$f":"SUM(RegistreIntempéries!AV19)","v":0}]
[14,{"$f":"IF(RegistreIntempéries!C20=\"P\",\"P\",\"\")","v":""},{"$f":"SUM(RegistreIntempéries!D20)","v":0},null,null,{"$f":"IF(RegistreIntempéries!G20=\"P\",\"P\",\"\")","v":""},null,null,{"$f":"SUM(RegistreIntempéries!H18)","v":0},{"$f":"IF(RegistreIntempéries!K20=\"P\",\"P\",\"\")","v":""},null,null,{"$f":"SUM(RegistreIntempéries!L18)","v":0},{"$f":"IF(RegistreIntempéries!O20=\"P\",\"P\",\"\")","v":""},{"$f":"SUM(RegistreIntempéries!P20)","v":0},null,null,{"$f":"IF(RegistreIntempéries!S20=\"P\",\"P\",\"\")","v":""},{"$f":"SUM(RegistreIntempéries!T20)","v":0},null,null,{"$f":"IF(RegistreIntempéries!W20=\"P\",\"P\",\"\")","v":""},{"$f":"SUM(RegistreIntempéries!X20)","v":0},null,null,{"$f":"IF(RegistreIntempéries!AA20=\"P\",\"P\",\"\")","v":""},{"$f":"SUM(RegistreIntempéries!AB20)","v":0},null,null,{"$f":"IF(RegistreIntempéries!AE20=\"P\",\"P\",\"\")","v":""},{"$f":"SUM(RegistreIntempéries!AF20)","v":0},null,null,{"$f":"IF(RegistreIntempéries!AI20=\"P\",\"P\",\"\")","v":""},{"$f":"SUM(RegistreIntempéries!AJ20)","v":0},null,null,{"$f":"IF(RegistreIntempéries!AM20=\"P\",\"P\",\"\")","v":""},{"$f":"SUM(RegistreIntempéries!AN20)","v":0},null,null,{"$f":"IF(RegistreIntempéries!AQ20=\"P\",\"P\",\"\")","v":""},{"$f":"SUM(RegistreIntempéries!AR20)","v":0},null,null,{"$f":"IF(RegistreIntempéries!AU20=\"P\",\"P\",\"\")","v":""},{"$f":"SUM(RegistreIntempéries!AV20)","v":0}]
[15,{"$f":"IF(RegistreIntempéries!C21=\"P\",\"P\",\"\")","v":""},{"$f":"SUM(RegistreIntempéries!D21)","v":0},null,null,{"$f":"IF(RegistreIntempéries!G21=\"P\",\"P\",\"\")","v":""},null,null,{"$f":"SUM(RegistreIntempéries!H19)","v":0},{"$f":"IF(RegistreIntempéries!K21=\"P\",\"P\",\"\")","v":""},null,null,{"$f":"SUM(RegistreIntempéries!L19)","v":0},{"$f":"IF(RegistreIntempéries!O21=\"P\",\"P\",\"\")","v":""},{"$f":"SUM(RegistreIntempéries!P21)","v":0},null,null,{"$f":"IF(RegistreIntempéries!S21=\"P\",\"P\",\"\")","v":""},{"$f":"SUM(RegistreIntempéries!T21)","v":0},null,null,{"$f":"IF(RegistreIntempéries!W21=\"P\",\"P\",\"\")","v":""},{"$f":"SUM(RegistreIntempéries!X21)","v":0},null,null,{"$f":"IF(RegistreIntempéries!AA21=\"P\",\"P\",\"\")","v":""},{"$f":"SUM(RegistreIntempéries!AB21)","v":0},null,null,{"$f":"IF(RegistreIntempéries!AE21=\"P\",\"P\",\"\")","v":""},{"$f":"SUM(RegistreIntempéries!AF21)","v":0},null,null,{"$f":"IF(RegistreIntempéries!AI21=\"P\",\"P\",\"\")","v":""},{"$f":"SUM(RegistreIntempéries!AJ21)","v":0},null,null,{"$f":"IF(RegistreIntempéries!AM21=\"P\",\"P\",\"\")","v":""},{"$f":"SUM(RegistreIntempéries!AN21)","v":0},null,null,{"$f":"IF(RegistreIntempéries!AQ21=\"P\",\"P\",\"\")","v":""},{"$f":"SUM(RegistreIntempéries!AR21)","v":0},null,null,{"$f":"IF(RegistreIntempéries!AU21=\"P\",\"P\",\"\")","v":""},{"$f":"SUM(RegistreIntempéries!AV21)","v":0}]
[16,{"$f":"IF(RegistreIntempéries!C22=\"P\",\"P\",\"\")","v":""},{"$f":"SUM(RegistreIntempéries!D22)","v":0},null,null,{"$f":"IF(RegistreIntempéries!G22=\"P\",\"P\",\"\")","v":""},null,null,{"$f":"SUM(RegistreIntempéries!H20)","v":0},{"$f":"IF(RegistreIntempéries!K22=\"P\",\"P\",\"\")","v":""},null,null,{"$f":"SUM(RegistreIntempéries!L20)","v":0},{"$f":"IF(RegistreIntempéries!O22=\"P\",\"P\",\"\")","v":""},{"$f":"SUM(RegistreIntempéries!P22)","v":0},null,null,{"$f":"IF(RegistreIntempéries!S22=\"P\",\"P\",\"\")","v":""},{"$f":"SUM(RegistreIntempéries!T22)","v":0},null,null,{"$f":"IF(RegistreIntempéries!W22=\"P\",\"P\",\"\")","v":""},{"$f":"SUM(RegistreIntempéries!X22)","v":0},null,null,{"$f":"IF(RegistreIntempéries!AA22=\"P\",\"P\",\"\")","v":""},{"$f":"SUM(RegistreIntempéries!AB22)","v":0},null,null,{"$f":"IF(RegistreIntempéries!AE22=\"P\",\"P\",\"\")","v":""},{"$f":"SUM(RegistreIntempéries!AF22)","v":0},null,null,{"$f":"IF(RegistreIntempéries!AI22=\"P\",\"P\",\"\")","v":""},{"$f":"SUM(RegistreIntempéries!AJ22)","v":0},null,null,{"$f":"IF(RegistreIntempéries!AM22=\"P\",\"P\",\"\")","v":""},{"$f":"SUM(RegistreIntempéries!AN22)","v":0},null,null,{"$f":"IF(RegistreIntempéries!AQ22=\"P\",\"P\",\"\")","v":""},{"$f":"SUM(RegistreIntempéries!AR22)","v":0},null,null,{"$f":"IF(RegistreIntempéries!AU22=\"P\",\"P\",\"\")","v":""},{"$f":"SUM(RegistreIntempéries!AV22)","v":0}]
[17,{"$f":"IF(RegistreIntempéries!C23=\"P\",\"P\",\"\")","v":""},{"$f":"SUM(RegistreIntempéries!D23)","v":0},null,null,{"$f":"IF(RegistreIntempéries!G23=\"P\",\"P\",\"\")","v":""},null,null,{"$f":"SUM(RegistreIntempéries!H21)","v":0},{"$f":"IF(RegistreIntempéries!K23=\"P\",\"P\",\"\")","v":""},null,null,{"$f":"SUM(RegistreIntempéries!L21)","v":0},{"$f":"IF(RegistreIntempéries!O23=\"P\",\"P\",\"\")","v":""},{"$f":"SUM(RegistreIntempéries!P23)","v":0},null,null,{"$f":"IF(RegistreIntempéries!S23=\"P\",\"P\",\"\")","v":""},{"$f":"SUM(RegistreIntempéries!T23)","v":0},null,null,{"$f":"IF(RegistreIntempéries!W23=\"P\",\"P\",\"\")","v":""},{"$f":"SUM(RegistreIntempéries!X23)","v":0},null,null,{"$f":"IF(RegistreIntempéries!AA23=\"P\",\"P\",\"\")","v":""},{"$f":"SUM(RegistreIntempéries!AB23)","v":0},null,null,{"$f":"IF(RegistreIntempéries!AE23=\"P\",\"P\",\"\")","v":""},{"$f":"SUM(RegistreIntempéries!AF23)","v":0},null,null,{"$f":"IF(RegistreIntempéries!AI23=\"P\",\"P\",\"\")","v":""},{"$f":"SUM(RegistreIntempéries!AJ23)","v":0},null,null,{"$f":"IF(RegistreIntempéries!AM23=\"P\",\"P\",\"\")","v":""},{"$f":"SUM(RegistreIntempéries!AN23)","v":0},null,null,{"$f":"IF(RegistreIntempéries!AQ23=\"P\",\"P\",\"\")","v":""},{"$f":"SUM(RegistreIntempéries!AR23)","v":0},null,null,{"$f":"IF(RegistreIntempéries!AU23=\"P\",\"P\",\"\")","v":""},{"$f":"SUM(RegistreIntempéries!AV23)","v":0}]
[18,{"$f":"IF(RegistreIntempéries!C24=\"P\",\"P\",\"\")","v":""},{"$f":"SUM(RegistreIntempéries!D24)","v":0},null,null,{"$f":"IF(RegistreIntempéries!G24=\"P\",\"P\",\"\")","v":""},null,null,{"$f":"SUM(RegistreIntempéries!H22)","v":0},{"$f":"IF(RegistreIntempéries!K24=\"P\",\"P\",\"\")","v":""},null,null,{"$f":"SUM(RegistreIntempéries!L22)","v":0},{"$f":"IF(RegistreIntempéries!O24=\"P\",\"P\",\"\")","v":""},{"$f":"SUM(RegistreIntempéries!P24)","v":0},null,null,{"$f":"IF(RegistreIntempéries!S24=\"P\",\"P\",\"\")","v":""},{"$f":"SUM(RegistreIntempéries!T24)","v":0},null,null,{"$f":"IF(RegistreIntempéries!W24=\"P\",\"P\",\"\")","v":""},{"$f":"SUM(RegistreIntempéries!X24)","v":0},null,null,{"$f":"IF(RegistreIntempéries!AA24=\"P\",\"P\",\"\")","v":""},{"$f":"SUM(RegistreIntempéries!AB24)","v":0},null,null,{"$f":"IF(RegistreIntempéries!AE24=\"P\",\"P\",\"\")","v":""},{"$f":"SUM(RegistreIntempéries!AF24)","v":0},null,null,{"$f":"IF(RegistreIntempéries!AI24=\"P\",\"P\",\"\")","v":""},{"$f":"SUM(RegistreIntempéries!AJ24)","v":0},null,null,{"$f":"IF(RegistreIntempéries!AM24=\"P\",\"P\",\"\")","v":""},{"$f":"SUM(RegistreIntempéries!AN24)","v":0},null,null,{"$f":"IF(RegistreIntempéries!AQ24=\"P\",\"P\",\"\")","v":""},{"$f":"SUM(RegistreIntempéries!AR24)","v":0},null,null,{"$f":"IF(RegistreIntempéries!AU24=\"P\",\"P\",\"\")","v":""},{"$f":"SUM(RegistreIntempéries!AV24)","v":0}]
[19,{"$f":"IF(RegistreIntempéries!C25=\"P\",\"P\",\"\")","v":""},{"$f":"SUM(RegistreIntempéries!D25)","v":0},null,null,{"$f":"IF(RegistreIntempéries!G25=\"P\",\"P\",\"\")","v":""},null,null,{"$f":"SUM(RegistreIntempéries!H23)","v":0},{"$f":"IF(RegistreIntempéries!K25=\"P\",\"P\",\"\")","v":""},null,null,{"$f":"SUM(RegistreIntempéries!L23)","v":0},{"$f":"IF(RegistreIntempéries!O25=\"P\",\"P\",\"\")","v":""},{"$f":"SUM(RegistreIntempéries!P25)","v":0},null,null,{"$f":"IF(RegistreIntempéries!S25=\"P\",\"P\",\"\")","v":""},{"$f":"SUM(RegistreIntempéries!T25)","v":0},null,null,{"$f":"IF(RegistreIntempéries!W25=\"P\",\"P\",\"\")","v":""},{"$f":"SUM(RegistreIntempéries!X25)","v":0},null,null,{"$f":"IF(RegistreIntempéries!AA25=\"P\",\"P\",\"\")","v":""},{"$f":"SUM(RegistreIntempéries!AB25)","v":0},null,null,{"$f":"IF(RegistreIntempéries!AE25=\"P\",\"P\",\"\")","v":""},{"$f":"SUM(RegistreIntempéries!AF25)","v":0},null,null,{"$f":"IF(RegistreIntempéries!AI25=\"P\",\"P\",\"\")","v":""},{"$f":"SUM(RegistreIntempéries!AJ25)","v":0},null,null,{"$f":"IF(RegistreIntempéries!AM25=\"P\",\"P\",\"\")","v":""},{"$f":"SUM(RegistreIntempéries!AN25)","v":0},null,null,{"$f":"IF(RegistreIntempéries!AQ25=\"P\",\"P\",\"\")","v":""},{"$f":"SUM(RegistreIntempéries!AR25)","v":0},null,null,{"$f":"IF(RegistreIntempéries!AU25=\"P\",\"P\",\"\")","v":""},{"$f":"SUM(RegistreIntempéries!AV25)","v":0}]
[20,{"$f":"IF(RegistreIntempéries!C26=\"P\",\"P\",\"\")","v":""},{"$f":"SUM(RegistreIntempéries!D26)","v":0},null,null,{"$f":"IF(RegistreIntempéries!G26=\"P\",\"P\",\"\")","v":""},null,null,{"$f":"SUM(RegistreIntempéries!H24)","v":0},{"$f":"IF(RegistreIntempéries!K26=\"P\",\"P\",\"\")","v":""},null,null,{"$f":"SUM(RegistreIntempéries!L24)","v":0},{"$f":"IF(RegistreIntempéries!O26=\"P\",\"P\",\"\")","v":""},{"$f":"SUM(RegistreIntempéries!P26)","v":0},null,null,{"$f":"IF(RegistreIntempéries!S26=\"P\",\"P\",\"\")","v":""},{"$f":"SUM(RegistreIntempéries!T26)","v":0},null,null,{"$f":"IF(RegistreIntempéries!W26=\"P\",\"P\",\"\")","v":""},{"$f":"SUM(RegistreIntempéries!X26)","v":0},null,null,{"$f":"IF(RegistreIntempéries!AA26=\"P\",\"P\",\"\")","v":""},{"$f":"SUM(RegistreIntempéries!AB26)","v":0},null,null,{"$f":"IF(RegistreIntempéries!AE26=\"P\",\"P\",\"\")","v":""},{"$f":"SUM(RegistreIntempéries!AF26)","v":0},null,null,{"$f":"IF(RegistreIntempéries!AI26=\"P\",\"P\",\"\")","v":""},{"$f":"SUM(RegistreIntempéries!AJ26)","v":0},null,null,{"$f":"IF(RegistreIntempéries!AM26=\"P\",\"P\",\"\")","v":""},{"$f":"SUM(RegistreIntempéries!AN26)","v":0},null,null,{"$f":"IF(RegistreIntempéries!AQ26=\"P\",\"P\",\"\")","v":""},{"$f":"SUM(RegistreIntempéries!AR26)","v":0},null,null,{"$f":"IF(RegistreIntempéries!AU26=\"P\",\"P\",\"\")","v":""},{"$f":"SUM(RegistreIntempéries!AV26)","v":0}]
[21,{"$f":"IF(RegistreIntempéries!C27=\"P\",\"P\",\"\")","v":""},{"$f":"SUM(RegistreIntempéries!D27)","v":0},null,null,{"$f":"IF(RegistreIntempéries!G27=\"P\",\"P\",\"\")","v":""},null,null,{"$f":"SUM(RegistreIntempéries!H25)","v":0},{"$f":"IF(RegistreIntempéries!K27=\"P\",\"P\",\"\")","v":""},null,null,{"$f":"SUM(RegistreIntempéries!L25)","v":0},{"$f":"IF(RegistreIntempéries!O27=\"P\",\"P\",\"\")","v":""},{"$f":"SUM(RegistreIntempéries!P27)","v":0},null,null,{"$f":"IF(RegistreIntempéries!S27=\"P\",\"P\",\"\")","v":""},{"$f":"SUM(RegistreIntempéries!T27)","v":0},null,null,{"$f":"IF(RegistreIntempéries!W27=\"P\",\"P\",\"\")","v":""},{"$f":"SUM(RegistreIntempéries!X27)","v":0},null,null,{"$f":"IF(RegistreIntempéries!AA27=\"P\",\"P\",\"\")","v":""},{"$f":"SUM(RegistreIntempéries!AB27)","v":0},null,null,{"$f":"IF(RegistreIntempéries!AE27=\"P\",\"P\",\"\")","v":""},{"$f":"SUM(RegistreIntempéries!AF27)","v":0},null,null,{"$f":"IF(RegistreIntempéries!AI27=\"P\",\"P\",\"\")","v":""},{"$f":"SUM(RegistreIntempéries!AJ27)","v":0},null,null,{"$f":"IF(RegistreIntempéries!AM27=\"P\",\"P\",\"\")","v":""},{"$f":"SUM(RegistreIntempéries!AN27)","v":0},null,null,{"$f":"IF(RegistreIntempéries!AQ27=\"P\",\"P\",\"\")","v":""},{"$f":"SUM(RegistreIntempéries!AR27)","v":0},null,null,{"$f":"IF(RegistreIntempéries!AU27=\"P\",\"P\",\"\")","v":""},{"$f":"SUM(RegistreIntempéries!AV27)","v":0}]
[22,{"$f":"IF(RegistreIntempéries!C28=\"P\",\"P\",\"\")","v":""},{"$f":"SUM(RegistreIntempéries!D28)","v":0},null,null,{"$f":"IF(RegistreIntempéries!G28=\"P\",\"P\",\"\")","v":""},null,null,{"$f":"SUM(RegistreIntempéries!H26)","v":0},{"$f":"IF(RegistreIntempéries!K28=\"P\",\"P\",\"\")","v":""},null,null,{"$f":"SUM(RegistreIntempéries!L26)","v":0},{"$f":"IF(RegistreIntempéries!O28=\"P\",\"P\",\"\")","v":""},{"$f":"SUM(RegistreIntempéries!P28)","v":0},null,null,{"$f":"IF(RegistreIntempéries!S28=\"P\",\"P\",\"\")","v":""},{"$f":"SUM(RegistreIntempéries!T28)","v":0},null,null,{"$f":"IF(RegistreIntempéries!W28=\"P\",\"P\",\"\")","v":""},{"$f":"SUM(RegistreIntempéries!X28)","v":0},null,null,{"$f":"IF(RegistreIntempéries!AA28=\"P\",\"P\",\"\")","v":""},{"$f":"SUM(RegistreIntempéries!AB28)","v":0},null,null,{"$f":"IF(RegistreIntempéries!AE28=\"P\",\"P\",\"\")","v":""},{"$f":"SUM(RegistreIntempéries!AF28)","v":0},null,null,{"$f":"IF(RegistreIntempéries!AI28=\"P\",\"P\",\"\")","v":""},{"$f":"SUM(RegistreIntempéries!AJ28)","v":0},null,null,{"$f":"IF(RegistreIntempéries!AM28=\"P\",\"P\",\"\")","v":""},{"$f":"SUM(RegistreIntempéries!AN28)","v":0},null,null,{"$f":"IF(RegistreIntempéries!AQ28=\"P\",\"P\",\"\")","v":""},{"$f":"SUM(RegistreIntempéries!AR28)","v":0},null,null,{"$f":"IF(RegistreIntempéries!AU28=\"P\",\"P\",\"\")","v":""},{"$f":"SUM(RegistreIntempéries!AV28)","v":0}]
[23,{"$f":"IF(RegistreIntempéries!C29=\"P\",\"P\",\"\")","v":""},{"$f":"SUM(RegistreIntempéries!D29)","v":0},null,null,{"$f":"IF(RegistreIntempéries!G29=\"P\",\"P\",\"\")","v":""},null,null,{"$f":"SUM(RegistreIntempéries!H27)","v":0},{"$f":"IF(RegistreIntempéries!K29=\"P\",\"P\",\"\")","v":""},null,null,{"$f":"SUM(RegistreIntempéries!L27)","v":0},{"$f":"IF(RegistreIntempéries!O29=\"P\",\"P\",\"\")","v":""},{"$f":"SUM(RegistreIntempéries!P29)","v":0},null,null,{"$f":"IF(RegistreIntempéries!S29=\"P\",\"P\",\"\")","v":""},{"$f":"SUM(RegistreIntempéries!T29)","v":0},null,null,{"$f":"IF(RegistreIntempéries!W29=\"P\",\"P\",\"\")","v":""},{"$f":"SUM(RegistreIntempéries!X29)","v":0},null,null,{"$f":"IF(RegistreIntempéries!AA29=\"P\",\"P\",\"\")","v":""},{"$f":"SUM(RegistreIntempéries!AB29)","v":0},null,null,{"$f":"IF(RegistreIntempéries!AE29=\"P\",\"P\",\"\")","v":""},{"$f":"SUM(RegistreIntempéries!AF29)","v":0},null,null,{"$f":"IF(RegistreIntempéries!AI29=\"P\",\"P\",\"\")","v":""},{"$f":"SUM(RegistreIntempéries!AJ29)","v":0},null,null,{"$f":"IF(RegistreIntempéries!AM29=\"P\",\"P\",\"\")","v":""},{"$f":"SUM(RegistreIntempéries!AN29)","v":0},null,null,{"$f":"IF(RegistreIntempéries!AQ29=\"P\",\"P\",\"\")","v":""},{"$f":"SUM(RegistreIntempéries!AR29)","v":0},null,null,{"$f":"IF(RegistreIntempéries!AU29=\"P\",\"P\",\"\")","v":""},{"$f":"SUM(RegistreIntempéries!AV29)","v":0}]
[24,{"$f":"IF(RegistreIntempéries!C30=\"P\",\"P\",\"\")","v":""},{"$f":"SUM(RegistreIntempéries!D30)","v":0},null,null,{"$f":"IF(RegistreIntempéries!G30=\"P\",\"P\",\"\")","v":""},null,null,{"$f":"SUM(RegistreIntempéries!H28)","v":0},{"$f":"IF(RegistreIntempéries!K30=\"P\",\"P\",\"\")","v":""},null,null,{"$f":"SUM(RegistreIntempéries!L28)","v":0},{"$f":"IF(RegistreIntempéries!O30=\"P\",\"P\",\"\")","v":""},{"$f":"SUM(RegistreIntempéries!P30)","v":0},null,null,{"$f":"IF(RegistreIntempéries!S30=\"P\",\"P\",\"\")","v":""},{"$f":"SUM(RegistreIntempéries!T30)","v":0},null,null,{"$f":"IF(RegistreIntempéries!W30=\"P\",\"P\",\"\")","v":""},{"$f":"SUM(RegistreIntempéries!X30)","v":0},null,null,{"$f":"IF(RegistreIntempéries!AA30=\"P\",\"P\",\"\")","v":""},{"$f":"SUM(RegistreIntempéries!AB30)","v":0},null,null,{"$f":"IF(RegistreIntempéries!AE30=\"P\",\"P\",\"\")","v":""},{"$f":"SUM(RegistreIntempéries!AF30)","v":0},null,null,{"$f":"IF(RegistreIntempéries!AI30=\"P\",\"P\",\"\")","v":""},{"$f":"SUM(RegistreIntempéries!AJ30)","v":0},null,null,{"$f":"IF(RegistreIntempéries!AM30=\"P\",\"P\",\"\")","v":""},{"$f":"SUM(RegistreIntempéries!AN30)","v":0},null,null,{"$f":"IF(RegistreIntempéries!AQ30=\"P\",\"P\",\"\")","v":""},{"$f":"SUM(RegistreIntempéries!AR30)","v":0},null,null,{"$f":"IF(RegistreIntempéries!AU30=\"P\",\"P\",\"\")","v":""},{"$f":"SUM(RegistreIntempéries!AV30)","v":0}]
[25,{"$f":"IF(RegistreIntempéries!C31=\"P\",\"P\",\"\")","v":""},{"$f":"SUM(RegistreIntempéries!D31)","v":0},null,null,{"$f":"IF(RegistreIntempéries!G31=\"P\",\"P\",\"\")","v":""},null,null,{"$f":"SUM(RegistreIntempéries!H29)","v":0},{"$f":"IF(RegistreIntempéries!K31=\"P\",\"P\",\"\")","v":""},null,null,{"$f":"SUM(RegistreIntempéries!L29)","v":0},{"$f":"IF(RegistreIntempéries!O31=\"P\",\"P\",\"\")","v":""},{"$f":"SUM(RegistreIntempéries!P31)","v":0},null,null,{"$f":"IF(RegistreIntempéries!S31=\"P\",\"P\",\"\")","v":""},{"$f":"SUM(RegistreIntempéries!T31)","v":0},null,null,{"$f":"IF(RegistreIntempéries!W31=\"P\",\"P\",\"\")","v":""},{"$f":"SUM(RegistreIntempéries!X31)","v":0},null,null,{"$f":"IF(RegistreIntempéries!AA31=\"P\",\"P\",\"\")","v":""},{"$f":"SUM(RegistreIntempéries!AB31)","v":0},null,null,{"$f":"IF(RegistreIntempéries!AE31=\"P\",\"P\",\"\")","v":""},{"$f":"SUM(RegistreIntempéries!AF31)","v":0},null,null,{"$f":"IF(RegistreIntempéries!AI31=\"P\",\"P\",\"\")","v":""},{"$f":"SUM(RegistreIntempéries!AJ31)","v":0},null,null,{"$f":"IF(RegistreIntempéries!AM31=\"P\",\"P\",\"\")","v":""},{"$f":"SUM(RegistreIntempéries!AN31)","v":0},null,null,{"$f":"IF(RegistreIntempéries!AQ31=\"P\",\"P\",\"\")","v":""},{"$f":"SUM(RegistreIntempéries!AR31)","v":0},null,null,{"$f":"IF(RegistreIntempéries!AU31=\"P\",\"P\",\"\")","v":""},{"$f":"SUM(RegistreIntempéries!AV31)","v":0}]
[26,{"$f":"IF(RegistreIntempéries!C32=\"P\",\"P\",\"\")","v":""},{"$f":"SUM(RegistreIntempéries!D32)","v":0},null,null,{"$f":"IF(RegistreIntempéries!G32=\"P\",\"P\",\"\")","v":""},null,null,{"$f":"SUM(RegistreIntempéries!H30)","v":0},{"$f":"IF(RegistreIntempéries!K32=\"P\",\"P\",\"\")","v":""},null,null,{"$f":"SUM(RegistreIntempéries!L30)","v":0},{"$f":"IF(RegistreIntempéries!O32=\"P\",\"P\",\"\")","v":""},{"$f":"SUM(RegistreIntempéries!P32)","v":0},null,null,{"$f":"IF(RegistreIntempéries!S32=\"P\",\"P\",\"\")","v":""},{"$f":"SUM(RegistreIntempéries!T32)","v":0},null,null,{"$f":"IF(RegistreIntempéries!W32=\"P\",\"P\",\"\")","v":""},{"$f":"SUM(RegistreIntempéries!X32)","v":0},null,null,{"$f":"IF(RegistreIntempéries!AA32=\"P\",\"P\",\"\")","v":""},{"$f":"SUM(RegistreIntempéries!AB32)","v":0},null,null,{"$f":"IF(RegistreIntempéries!AE32=\"P\",\"P\",\"\")","v":""},{"$f":"SUM(RegistreIntempéries!AF32)","v":0},null,null,{"$f":"IF(RegistreIntempéries!AI32=\"P\",\"P\",\"\")","v":""},{"$f":"SUM(RegistreIntempéries!AJ32)","v":0},null,null,{"$f":"IF(RegistreIntempéries!AM32=\"P\",\"P\",\"\")","v":""},{"$f":"SUM(RegistreIntempéries!AN32)","v":0},null,null,{"$f":"IF(RegistreIntempéries!AQ32=\"P\",\"P\",\"\")","v":""},{"$f":"SUM(RegistreIntempéries!AR32)","v":0},null,null,{"$f":"IF(RegistreIntempéries!AU32=\"P\",\"P\",\"\")","v":""},{"$f":"SUM(RegistreIntempéries!AV32)","v":0}]
[27,{"$f":"IF(RegistreIntempéries!C33=\"P\",\"P\",\"\")","v":""},{"$f":"SUM(RegistreIntempéries!D33)","v":0},null,null,{"$f":"IF(RegistreIntempéries!G33=\"P\",\"P\",\"\")","v":""},null,null,{"$f":"SUM(RegistreIntempéries!H31)","v":0},{"$f":"IF(RegistreIntempéries!K33=\"P\",\"P\",\"\")","v":""},null,null,{"$f":"SUM(RegistreIntempéries!L31)","v":0},{"$f":"IF(RegistreIntempéries!O33=\"P\",\"P\",\"\")","v":""},{"$f":"SUM(RegistreIntempéries!P33)","v":0},null,null,{"$f":"IF(RegistreIntempéries!S33=\"P\",\"P\",\"\")","v":""},{"$f":"SUM(RegistreIntempéries!T33)","v":0},null,null,{"$f":"IF(RegistreIntempéries!W33=\"P\",\"P\",\"\")","v":""},{"$f":"SUM(RegistreIntempéries!X33)","v":0},null,null,{"$f":"IF(RegistreIntempéries!AA33=\"P\",\"P\",\"\")","v":""},{"$f":"SUM(RegistreIntempéries!AB33)","v":0},null,null,{"$f":"IF(RegistreIntempéries!AE33=\"P\",\"P\",\"\")","v":""},{"$f":"SUM(RegistreIntempéries!AF33)","v":0},null,null,{"$f":"IF(RegistreIntempéries!AI33=\"P\",\"P\",\"\")","v":""},{"$f":"SUM(RegistreIntempéries!AJ33)","v":0},null,null,{"$f":"IF(RegistreIntempéries!AM33=\"P\",\"P\",\"\")","v":""},{"$f":"SUM(RegistreIntempéries!AN33)","v":0},null,null,{"$f":"IF(RegistreIntempéries!AQ33=\"P\",\"P\",\"\")","v":""},{"$f":"SUM(RegistreIntempéries!AR33)","v":0},null,null,{"$f":"IF(RegistreIntempéries!AU33=\"P\",\"P\",\"\")","v":""},{"$f":"SUM(RegistreIntempéries!AV33)","v":0}]
[28,{"$f":"IF(RegistreIntempéries!C34=\"P\",\"P\",\"\")","v":""},{"$f":"SUM(RegistreIntempéries!D34)","v":0},null,null,{"$f":"IF(RegistreIntempéries!G34=\"P\",\"P\",\"\")","v":""},null,null,{"$f":"SUM(RegistreIntempéries!H32)","v":0},{"$f":"IF(RegistreIntempéries!K34=\"P\",\"P\",\"\")","v":""},null,null,{"$f":"SUM(RegistreIntempéries!L32)","v":0},{"$f":"IF(RegistreIntempéries!O34=\"P\",\"P\",\"\")","v":""},{"$f":"SUM(RegistreIntempéries!P34)","v":0},null,null,{"$f":"IF(RegistreIntempéries!S34=\"P\",\"P\",\"\")","v":""},{"$f":"SUM(RegistreIntempéries!T34)","v":0},null,null,{"$f":"IF(RegistreIntempéries!W34=\"P\",\"P\",\"\")","v":""},{"$f":"SUM(RegistreIntempéries!X34)","v":0},null,null,{"$f":"IF(RegistreIntempéries!AA34=\"P\",\"P\",\"\")","v":""},{"$f":"SUM(RegistreIntempéries!AB34)","v":0},null,null,{"$f":"IF(RegistreIntempéries!AE34=\"P\",\"P\",\"\")","v":""},{"$f":"SUM(RegistreIntempéries!AF34)","v":0},null,null,{"$f":"IF(RegistreIntempéries!AI34=\"P\",\"P\",\"\")","v":""},{"$f":"SUM(RegistreIntempéries!AJ34)","v":0},null,null,{"$f":"IF(RegistreIntempéries!AM34=\"P\",\"P\",\"\")","v":""},{"$f":"SUM(RegistreIntempéries!AN34)","v":0},null,null,{"$f":"IF(RegistreIntempéries!AQ34=\"P\",\"P\",\"\")","v":""},{"$f":"SUM(RegistreIntempéries!AR34)","v":0},null,null,{"$f":"IF(RegistreIntempéries!AU34=\"P\",\"P\",\"\")","v":""},{"$f":"SUM(RegistreIntempéries!AV34)","v":0}]
[29,{"$f":"IF(RegistreIntempéries!C35=\"P\",\"P\",\"\")","v":""},{"$f":"SUM(RegistreIntempéries!D35)","v":0},null,null,{"$f":"IF(RegistreIntempéries!G35=\"P\",\"P\",\"\")","v":""},null,null,{"$f":"SUM(RegistreIntempéries!H33)","v":0},{"$f":"IF(RegistreIntempéries!K35=\"P\",\"P\",\"\")","v":""},null,null,{"$f":"SUM(RegistreIntempéries!L33)","v":0},{"$f":"IF(RegistreIntempéries!O35=\"P\",\"P\",\"\")","v":""},{"$f":"SUM(RegistreIntempéries!P35)","v":0},null,null,{"$f":"IF(RegistreIntempéries!S35=\"P\",\"P\",\"\")","v":""},{"$f":"SUM(RegistreIntempéries!T35)","v":0},null,null,{"$f":"IF(RegistreIntempéries!W35=\"P\",\"P\",\"\")","v":""},{"$f":"SUM(RegistreIntempéries!X35)","v":0},null,null,{"$f":"IF(RegistreIntempéries!AA35=\"P\",\"P\",\"\")","v":""},{"$f":"SUM(RegistreIntempéries!AB35)","v":0},null,null,{"$f":"IF(RegistreIntempéries!AE35=\"P\",\"P\",\"\")","v":""},{"$f":"SUM(RegistreIntempéries!AF35)","v":0},null,null,{"$f":"IF(RegistreIntempéries!AI35=\"P\",\"P\",\"\")","v":""},{"$f":"SUM(RegistreIntempéries!AJ35)","v":0},null,null,{"$f":"IF(RegistreIntempéries!AM35=\"P\",\"P\",\"\")","v":""},{"$f":"SUM(RegistreIntempéries!AN35)","v":0},null,null,{"$f":"IF(RegistreIntempéries!AQ35=\"P\",\"P\",\"\")","v":""},{"$f":"SUM(RegistreIntempéries!AR35)","v":0},null,null,{"$f":"IF(RegistreIntempéries!AU35=\"P\",\"P\",\"\")","v":""},{"$f":"SUM(RegistreIntempéries!AV35)","v":0}]
[30,{"$f":"IF(RegistreIntempéries!C36=\"P\",\"P\",\"\")","v":""},{"$f":"SUM(RegistreIntempéries!D36)","v":0},null,null,{"$f":"IF(RegistreIntempéries!G36=\"P\",\"P\",\"\")","v":""},null,null,{"$f":"SUM(RegistreIntempéries!H34)","v":0},{"$f":"IF(RegistreIntempéries!K36=\"P\",\"P\",\"\")","v":""},null,null,{"$f":"SUM(RegistreIntempéries!L34)","v":0},{"$f":"IF(RegistreIntempéries!O36=\"P\",\"P\",\"\")","v":""},{"$f":"SUM(RegistreIntempéries!P36)","v":0},null,null,{"$f":"IF(RegistreIntempéries!S36=\"P\",\"P\",\"\")","v":""},{"$f":"SUM(RegistreIntempéries!T36)","v":0},null,null,{"$f":"IF(RegistreIntempéries!W36=\"P\",\"P\",\"\")","v":""},{"$f":"SUM(RegistreIntempéries!X36)","v":0},null,null,{"$f":"IF(RegistreIntempéries!AA36=\"P\",\"P\",\"\")","v":""},{"$f":"SUM(RegistreIntempéries!AB36)","v":0},null,null,{"$f":"IF(RegistreIntempéries!AE36=\"P\",\"P\",\"\")","v":""},{"$f":"SUM(RegistreIntempéries!AF36)","v":0},null,null,{"$f":"IF(RegistreIntempéries!AI36=\"P\",\"P\",\"\")","v":""},{"$f":"SUM(RegistreIntempéries!AJ36)","v":0},null,null,{"$f":"IF(RegistreIntempéries!AM36=\"P\",\"P\",\"\")","v":""},{"$f":"SUM(RegistreIntempéries!AN36)","v":0},null,null,{"$f":"IF(RegistreIntempéries!AQ36=\"P\",\"P\",\"\")","v":""},{"$f":"SUM(RegistreIntempéries!AR36)","v":0},null,null,{"$f":"IF(RegistreIntempéries!AU36=\"P\",\"P\",\"\")","v":""},{"$f":"SUM(RegistreIntempéries!AV36)","v":0}]
[31,{"$f":"IF(RegistreIntempéries!C37=\"P\",\"P\",\"\")","v":""},{"$f":"SUM(RegistreIntempéries!D37)","v":0},null,null,{"$f":"IF(RegistreIntempéries!G37=\"P\",\"P\",\"\")","v":""},null,null,{"$f":"SUM(RegistreIntempéries!H35)","v":0},{"$f":"IF(RegistreIntempéries!K37=\"P\",\"P\",\"\")","v":""},null,null,{"$f":"SUM(RegistreIntempéries!L35)","v":0},{"$f":"IF(RegistreIntempéries!O37=\"P\",\"P\",\"\")","v":""},{"$f":"SUM(RegistreIntempéries!P37)","v":0},null,null,{"$f":"IF(RegistreIntempéries!S37=\"P\",\"P\",\"\")","v":""},{"$f":"SUM(RegistreIntempéries!T37)","v":0},null,null,{"$f":"IF(RegistreIntempéries!W37=\"P\",\"P\",\"\")","v":""},{"$f":"SUM(RegistreIntempéries!X37)","v":0},null,null,{"$f":"IF(RegistreIntempéries!AA37=\"P\",\"P\",\"\")","v":""},{"$f":"SUM(RegistreIntempéries!AB37)","v":0},null,null,{"$f":"IF(RegistreIntempéries!AE37=\"P\",\"P\",\"\")","v":""},{"$f":"SUM(RegistreIntempéries!AF37)","v":0},null,null,{"$f":"IF(RegistreIntempéries!AI37=\"P\",\"P\",\"\")","v":""},{"$f":"SUM(RegistreIntempéries!AJ37)","v":0},null,null,{"$f":"IF(RegistreIntempéries!AM37=\"P\",\"P\",\"\")","v":""},{"$f":"SUM(RegistreIntempéries!AN37)","v":0},null,null,{"$f":"IF(RegistreIntempéries!AQ37=\"P\",\"P\",\"\")","v":""},{"$f":"SUM(RegistreIntempéries!AR37)","v":0},null,null,{"$f":"IF(RegistreIntempéries!AU37=\"P\",\"P\",\"\")","v":""},{"$f":"SUM(RegistreIntempéries!AV37)","v":0}]